BEGIN:VCALENDAR
VERSION:2.0
PRODID:-//Seelsorgeeinheit Magdenau - ECPv6.15.20//NONSGML v1.0//EN
CALSCALE:GREGORIAN
METHOD:PUBLISH
X-WR-CALNAME:Seelsorgeeinheit Magdenau
X-ORIGINAL-URL:https://www.se-ma.ch
X-WR-CALDESC:Veranstaltungen für Seelsorgeeinheit Magdenau
REFRESH-INTERVAL;VALUE=DURATION:PT1H
X-Robots-Tag:noindex
X-PUBLISHED-TTL:PT1H
BEGIN:VTIMEZONE
TZID:Europe/Zurich
BEGIN:DAYLIGHT
TZOFFSETFROM:+0100
TZOFFSETTO:+0200
TZNAME:CEST
DTSTART:20220327T010000
END:DAYLIGHT
BEGIN:STANDARD
TZOFFSETFROM:+0200
TZOFFSETTO:+0100
TZNAME:CET
DTSTART:20221030T010000
END:STANDARD
BEGIN:DAYLIGHT
TZOFFSETFROM:+0100
TZOFFSETTO:+0200
TZNAME:CEST
DTSTART:20230326T010000
END:DAYLIGHT
BEGIN:STANDARD
TZOFFSETFROM:+0200
TZOFFSETTO:+0100
TZNAME:CET
DTSTART:20231029T010000
END:STANDARD
BEGIN:DAYLIGHT
TZOFFSETFROM:+0100
TZOFFSETTO:+0200
TZNAME:CEST
DTSTART:20240331T010000
END:DAYLIGHT
BEGIN:STANDARD
TZOFFSETFROM:+0200
TZOFFSETTO:+0100
TZNAME:CET
DTSTART:20241027T010000
END:STANDARD
END:VTIMEZONE
BEGIN:VEVENT
DTSTART;TZID=Europe/Zurich:20230506T090000
DTEND;TZID=Europe/Zurich:20230506T163000
DTSTAMP:20260426T060239
CREATED:20230331T082326Z
LAST-MODIFIED:20230331T082326Z
UID:40269-1683363600-1683390600@www.se-ma.ch
SUMMARY:Kurs: Nahe sein in schwerer Zeit - Begleitung in der  letzten Lebensphase
DESCRIPTION:Information
URL:https://www.se-ma.ch/event/kurs-nahe-sein-in-schwerer-zeit-begleitung-in-der-letzten-lebensphase/
LOCATION:Wohn- und Pflegeheim Flawil\, Krankenhausstrasse 5\, 9230 Flawil\, St. Gallen\, 9230\, Schweiz
CATEGORIES:Anlässe und Veranstaltungen
END:VEVENT
BEGIN:VEVENT
DTSTART;TZID=Europe/Zurich:20230506T173000
DTEND;TZID=Europe/Zurich:20230506T183000
DTSTAMP:20260426T060239
CREATED:20220817T072038Z
LAST-MODIFIED:20220817T072038Z
UID:35976-1683394200-1683397800@www.se-ma.ch
SUMMARY:kinderGOTTesdienst in Degersheim
DESCRIPTION:Kinder ab dem 2. Kindergarten bis zur 3. Klasse sind im kinderGOTTesdienst herzlich willkommen. \nNach dem gemeinsamen Start in der Kirche feiern die Kinder in der Kapelle. Die Gottesdienste sind so gestaltet\, dass die Kinder diese alleine besuchen können. Die Eltern dürfen zur gleichen Zeit die reguläre Feier in der Kirche besuchen.
URL:https://www.se-ma.ch/event/kindergottesdienst-in-degersheim-2/
LOCATION:Jakobuskirche Kapelle Degersheim\, Bergstrasse 10\, Degersheim\, St. Gallen\, 9113\, Schweiz
CATEGORIES:Gottesdienste,Kinder und Familien
END:VEVENT
BEGIN:VEVENT
DTSTART;TZID=Europe/Zurich:20230506T173000
DTEND;TZID=Europe/Zurich:20230506T183000
DTSTAMP:20260426T060239
CREATED:20230104T071138Z
LAST-MODIFIED:20230104T071138Z
UID:38593-1683394200-1683397800@www.se-ma.ch
SUMMARY:Kommunionfeier in Degersheim
DESCRIPTION:
URL:https://www.se-ma.ch/event/kommunionfeier-in-degersheim-19/
LOCATION:Jakobuskirche Degersheim\, Bergstrasse 10\, Degersheim\, 9113\, Schweiz
CATEGORIES:Gottesdienste
END:VEVENT
END:VCALENDAR