BEGIN:VCALENDAR
VERSION:2.0
PRODID:-//Seelsorgeeinheit Magdenau - ECPv6.15.20//NONSGML v1.0//EN
CALSCALE:GREGORIAN
METHOD:PUBLISH
X-WR-CALNAME:Seelsorgeeinheit Magdenau
X-ORIGINAL-URL:https://www.se-ma.ch
X-WR-CALDESC:Veranstaltungen für Seelsorgeeinheit Magdenau
REFRESH-INTERVAL;VALUE=DURATION:PT1H
X-Robots-Tag:noindex
X-PUBLISHED-TTL:PT1H
BEGIN:VTIMEZONE
TZID:Europe/Zurich
BEGIN:DAYLIGHT
TZOFFSETFROM:+0100
TZOFFSETTO:+0200
TZNAME:CEST
DTSTART:20220327T010000
END:DAYLIGHT
BEGIN:STANDARD
TZOFFSETFROM:+0200
TZOFFSETTO:+0100
TZNAME:CET
DTSTART:20221030T010000
END:STANDARD
BEGIN:DAYLIGHT
TZOFFSETFROM:+0100
TZOFFSETTO:+0200
TZNAME:CEST
DTSTART:20230326T010000
END:DAYLIGHT
BEGIN:STANDARD
TZOFFSETFROM:+0200
TZOFFSETTO:+0100
TZNAME:CET
DTSTART:20231029T010000
END:STANDARD
BEGIN:DAYLIGHT
TZOFFSETFROM:+0100
TZOFFSETTO:+0200
TZNAME:CEST
DTSTART:20240331T010000
END:DAYLIGHT
BEGIN:STANDARD
TZOFFSETFROM:+0200
TZOFFSETTO:+0100
TZNAME:CET
DTSTART:20241027T010000
END:STANDARD
END:VTIMEZONE
BEGIN:VEVENT
DTSTART;TZID=Europe/Zurich:20230509T080000
DTEND;TZID=Europe/Zurich:20230509T170000
DTSTAMP:20260426T061634
CREATED:20230322T102013Z
LAST-MODIFIED:20230322T102013Z
UID:40175-1683619200-1683651600@www.se-ma.ch
SUMMARY:Pfarreisekretariat in Degersheim geschlossen
DESCRIPTION:Die Pfarreisekretariate Degersheim und Wolfertswil bleiben heute wegen Weiterbildung der Sekretärinnen geschlossen. In Notfällen erreichen Sie eine Seelsorgerin oder einen Seelsorger unter der Telefonnummer 071 393 14 14.
URL:https://www.se-ma.ch/event/pfarreisekretariat-in-degersheim-geschlossen-2/
LOCATION:kath. Pfarramt Degersheim\, Friedbergstrasse 2\, 9113 Degersheim\, 9113\, Schweiz
CATEGORIES:Anlässe und Veranstaltungen
END:VEVENT
BEGIN:VEVENT
DTSTART;TZID=Europe/Zurich:20230509T190000
DTEND;TZID=Europe/Zurich:20230509T190000
DTSTAMP:20260426T061634
CREATED:20230406T132529Z
LAST-MODIFIED:20230502T125500Z
UID:40451-1683658800-1683658800@www.se-ma.ch
SUMMARY:Maiandacht der Frauengemeinschaften
DESCRIPTION:in der Grotte Niederglatt\, bei schlechtem Wetter in der Kirche Niederglatt
URL:https://www.se-ma.ch/event/maiandacht-der-frauengemeinschaften/
LOCATION:Lourdes Grotte Niederglatt\, Niederglattstrasse\, Niederglatt\, 9240\, Schweiz
CATEGORIES:Anlässe und Veranstaltungen
END:VEVENT
END:VCALENDAR