BEGIN:VCALENDAR
VERSION:2.0
PRODID:-//Seelsorgeeinheit Magdenau - ECPv6.15.20//NONSGML v1.0//EN
CALSCALE:GREGORIAN
METHOD:PUBLISH
X-WR-CALNAME:Seelsorgeeinheit Magdenau
X-ORIGINAL-URL:https://www.se-ma.ch
X-WR-CALDESC:Veranstaltungen für Seelsorgeeinheit Magdenau
REFRESH-INTERVAL;VALUE=DURATION:PT1H
X-Robots-Tag:noindex
X-PUBLISHED-TTL:PT1H
BEGIN:VTIMEZONE
TZID:Europe/Zurich
BEGIN:DAYLIGHT
TZOFFSETFROM:+0100
TZOFFSETTO:+0200
TZNAME:CEST
DTSTART:20220327T010000
END:DAYLIGHT
BEGIN:STANDARD
TZOFFSETFROM:+0200
TZOFFSETTO:+0100
TZNAME:CET
DTSTART:20221030T010000
END:STANDARD
BEGIN:DAYLIGHT
TZOFFSETFROM:+0100
TZOFFSETTO:+0200
TZNAME:CEST
DTSTART:20230326T010000
END:DAYLIGHT
BEGIN:STANDARD
TZOFFSETFROM:+0200
TZOFFSETTO:+0100
TZNAME:CET
DTSTART:20231029T010000
END:STANDARD
BEGIN:DAYLIGHT
TZOFFSETFROM:+0100
TZOFFSETTO:+0200
TZNAME:CEST
DTSTART:20240331T010000
END:DAYLIGHT
BEGIN:STANDARD
TZOFFSETFROM:+0200
TZOFFSETTO:+0100
TZNAME:CET
DTSTART:20241027T010000
END:STANDARD
END:VTIMEZONE
BEGIN:VEVENT
DTSTART;TZID=Europe/Zurich:20230514T084500
DTEND;TZID=Europe/Zurich:20230514T094500
DTSTAMP:20260426T061558
CREATED:20221220T120738Z
LAST-MODIFIED:20230406T130441Z
UID:38284-1684053900-1684057500@www.se-ma.ch
SUMMARY:Wolfertswil: Eucharistiefeier zum Muttertag im Rest. Moosbad
DESCRIPTION:
URL:https://www.se-ma.ch/event/eucharistiefeier-muttertag-in-wolfertswil/
LOCATION:Restaurant Moosbad\, Moosbad\, Wolfertswil\, 9113\, Schweiz
CATEGORIES:Gottesdienste,Kinder und Familien
END:VEVENT
BEGIN:VEVENT
DTSTART;TZID=Europe/Zurich:20230514T090000
DTEND;TZID=Europe/Zurich:20230514T090000
DTSTAMP:20260426T061558
CREATED:20221120T115235Z
LAST-MODIFIED:20230502T124223Z
UID:37626-1684054800-1684054800@www.se-ma.ch
SUMMARY:Flawil: Eucharistiefeier in Italienisch
DESCRIPTION:
URL:https://www.se-ma.ch/event/eucharistiefeier-in-italienisch-5/
LOCATION:Kapelle St. Laurentius Flawil\, Enzenbühlstrasse 20\, Flawil\, 9230\, Schweiz
CATEGORIES:Gottesdienste
END:VEVENT
BEGIN:VEVENT
DTSTART;TZID=Europe/Zurich:20230514T101500
DTEND;TZID=Europe/Zurich:20230514T101500
DTSTAMP:20260426T061558
CREATED:20230106T072801Z
LAST-MODIFIED:20230502T121516Z
UID:38768-1684059300-1684059300@www.se-ma.ch
SUMMARY:Flawil: Gottesdienst zum Muttertag
DESCRIPTION:
URL:https://www.se-ma.ch/event/flawil-gottesdienst-zum-muttertag-das-weibliche-tut-not/
LOCATION:Kirche St. Laurentius Flawil\, Enzenbühlstrasse 20\, Flawil\, 9230\, Schweiz
CATEGORIES:Gottesdienste
END:VEVENT
BEGIN:VEVENT
DTSTART;TZID=Europe/Zurich:20230514T190000
DTEND;TZID=Europe/Zurich:20230514T193000
DTSTAMP:20260426T061558
CREATED:20230104T073636Z
LAST-MODIFIED:20230104T073636Z
UID:38601-1684090800-1684092600@www.se-ma.ch
SUMMARY:Abendlob im Mai in Degersheim
DESCRIPTION:
URL:https://www.se-ma.ch/event/abendlob-im-mai-in-degersheim-2/
LOCATION:Jakobuskirche Kapelle Degersheim\, Bergstrasse 10\, Degersheim\, St. Gallen\, 9113\, Schweiz
CATEGORIES:Gottesdienste
END:VEVENT
END:VCALENDAR