BEGIN:VCALENDAR
VERSION:2.0
PRODID:-//Seelsorgeeinheit Magdenau - ECPv6.15.20//NONSGML v1.0//EN
CALSCALE:GREGORIAN
METHOD:PUBLISH
X-ORIGINAL-URL:https://www.se-ma.ch
X-WR-CALDESC:Veranstaltungen für Seelsorgeeinheit Magdenau
REFRESH-INTERVAL;VALUE=DURATION:PT1H
X-Robots-Tag:noindex
X-PUBLISHED-TTL:PT1H
BEGIN:VTIMEZONE
TZID:Europe/Zurich
BEGIN:DAYLIGHT
TZOFFSETFROM:+0100
TZOFFSETTO:+0200
TZNAME:CEST
DTSTART:20220327T010000
END:DAYLIGHT
BEGIN:STANDARD
TZOFFSETFROM:+0200
TZOFFSETTO:+0100
TZNAME:CET
DTSTART:20221030T010000
END:STANDARD
BEGIN:DAYLIGHT
TZOFFSETFROM:+0100
TZOFFSETTO:+0200
TZNAME:CEST
DTSTART:20230326T010000
END:DAYLIGHT
BEGIN:STANDARD
TZOFFSETFROM:+0200
TZOFFSETTO:+0100
TZNAME:CET
DTSTART:20231029T010000
END:STANDARD
BEGIN:DAYLIGHT
TZOFFSETFROM:+0100
TZOFFSETTO:+0200
TZNAME:CEST
DTSTART:20240331T010000
END:DAYLIGHT
BEGIN:STANDARD
TZOFFSETFROM:+0200
TZOFFSETTO:+0100
TZNAME:CET
DTSTART:20241027T010000
END:STANDARD
END:VTIMEZONE
BEGIN:VEVENT
DTSTART;TZID=Europe/Zurich:20230528T083000
DTEND;TZID=Europe/Zurich:20230528T083000
DTSTAMP:20260426T060555
CREATED:20221120T120858Z
LAST-MODIFIED:20230502T124352Z
UID:37656-1685262600-1685262600@www.se-ma.ch
SUMMARY:Flawil: Eucharistiefeier in Italienisch
DESCRIPTION:
URL:https://www.se-ma.ch/event/eucharistiefeier-in-italienisch-18/
LOCATION:Kapelle St. Laurentius Flawil\, Enzenbühlstrasse 20\, Flawil\, 9230\, Schweiz
CATEGORIES:Gottesdienste
END:VEVENT
BEGIN:VEVENT
DTSTART;TZID=Europe/Zurich:20230528T084500
DTEND;TZID=Europe/Zurich:20230528T084500
DTSTAMP:20260426T060555
CREATED:20230106T075047Z
LAST-MODIFIED:20230502T124651Z
UID:38789-1685263500-1685263500@www.se-ma.ch
SUMMARY:Niederglatt: Festgottesdienst zu Pfingsten
DESCRIPTION:inspiriert und mutig \nKommunionfeier\, anschliessend Apéro
URL:https://www.se-ma.ch/event/niederglatt-festgottesdienst-zu-pfingsten-inspiriert-und-mutig/
LOCATION:Felix + Regula Kirche Niederglatt\, Niederglatt\, 9240\, Schweiz
CATEGORIES:Gottesdienste
END:VEVENT
BEGIN:VEVENT
DTSTART;TZID=Europe/Zurich:20230528T084500
DTEND;TZID=Europe/Zurich:20230528T094500
DTSTAMP:20260426T060555
CREATED:20221220T121425Z
LAST-MODIFIED:20230217T094734Z
UID:38288-1685263500-1685267100@www.se-ma.ch
SUMMARY:Wolfertswil: Eucharistiefeier zu Pfingsten im Kloster Magdenau
DESCRIPTION:
URL:https://www.se-ma.ch/event/eucharistiefeier-zu-pfingsten-im-kloster-magdenau/
LOCATION:Kloster Magdenau
CATEGORIES:Gottesdienste
END:VEVENT
BEGIN:VEVENT
DTSTART;TZID=Europe/Zurich:20230528T101500
DTEND;TZID=Europe/Zurich:20230528T101500
DTSTAMP:20260426T060555
CREATED:20230106T072929Z
LAST-MODIFIED:20230502T121356Z
UID:38770-1685268900-1685268900@www.se-ma.ch
SUMMARY:Flawil: Festgottesdienst zu Pfingsten
DESCRIPTION:inspiriert und mutig \nEucharistiefeier
URL:https://www.se-ma.ch/event/flawil-festgottesdienst-zupfingsten-inspiriert-und-mutig/
LOCATION:Kirche St. Laurentius Flawil\, Enzenbühlstrasse 20\, Flawil\, 9230\, Schweiz
CATEGORIES:Gottesdienste
END:VEVENT
BEGIN:VEVENT
DTSTART;TZID=Europe/Zurich:20230528T101500
DTEND;TZID=Europe/Zurich:20230528T113000
DTSTAMP:20260426T060555
CREATED:20230104T074132Z
LAST-MODIFIED:20230524T064354Z
UID:38605-1685268900-1685273400@www.se-ma.ch
SUMMARY:Degersheim: Kommunionfeier zu Pfingsten
DESCRIPTION:Zum Thema „Inspiriert und mutig“
URL:https://www.se-ma.ch/event/kommunionfeier-zu-pfingsten-in-degersheim/
LOCATION:Jakobuskirche Degersheim\, Bergstrasse 10\, Degersheim\, 9113\, Schweiz
CATEGORIES:Gottesdienste
END:VEVENT
BEGIN:VEVENT
DTSTART;TZID=Europe/Zurich:20230528T190000
DTEND;TZID=Europe/Zurich:20230528T194000
DTSTAMP:20260426T060555
CREATED:20221220T121655Z
LAST-MODIFIED:20221220T121732Z
UID:38290-1685300400-1685302800@www.se-ma.ch
SUMMARY:Maiandacht in Magdenau\, St. Verena
DESCRIPTION:
URL:https://www.se-ma.ch/event/maiandacht-in-magdenau-st-verena/
LOCATION:Kirche St. Verena Magdenau\, St. Verena 929\, Wolfertswil\, 9116\, Schweiz
CATEGORIES:Gottesdienste
END:VEVENT
END:VCALENDAR