BEGIN:VCALENDAR
VERSION:2.0
PRODID:-//Seelsorgeeinheit Magdenau - ECPv6.15.20//NONSGML v1.0//EN
CALSCALE:GREGORIAN
METHOD:PUBLISH
X-WR-CALNAME:Seelsorgeeinheit Magdenau
X-ORIGINAL-URL:https://www.se-ma.ch
X-WR-CALDESC:Veranstaltungen für Seelsorgeeinheit Magdenau
REFRESH-INTERVAL;VALUE=DURATION:PT1H
X-Robots-Tag:noindex
X-PUBLISHED-TTL:PT1H
BEGIN:VTIMEZONE
TZID:Europe/Zurich
BEGIN:DAYLIGHT
TZOFFSETFROM:+0100
TZOFFSETTO:+0200
TZNAME:CEST
DTSTART:20220327T010000
END:DAYLIGHT
BEGIN:STANDARD
TZOFFSETFROM:+0200
TZOFFSETTO:+0100
TZNAME:CET
DTSTART:20221030T010000
END:STANDARD
BEGIN:DAYLIGHT
TZOFFSETFROM:+0100
TZOFFSETTO:+0200
TZNAME:CEST
DTSTART:20230326T010000
END:DAYLIGHT
BEGIN:STANDARD
TZOFFSETFROM:+0200
TZOFFSETTO:+0100
TZNAME:CET
DTSTART:20231029T010000
END:STANDARD
BEGIN:DAYLIGHT
TZOFFSETFROM:+0100
TZOFFSETTO:+0200
TZNAME:CEST
DTSTART:20240331T010000
END:DAYLIGHT
BEGIN:STANDARD
TZOFFSETFROM:+0200
TZOFFSETTO:+0100
TZNAME:CET
DTSTART:20241027T010000
END:STANDARD
END:VTIMEZONE
BEGIN:VEVENT
DTSTART;TZID=Europe/Zurich:20230624T090000
DTEND;TZID=Europe/Zurich:20230624T110000
DTSTAMP:20260426T043022
CREATED:20230216T144307Z
LAST-MODIFIED:20230216T144328Z
UID:39393-1687597200-1687604400@www.se-ma.ch
SUMMARY:Familientreff - Spatzenhöck
DESCRIPTION:Zmorgentisch \nJahresprogamm 2023
URL:https://www.se-ma.ch/event/familientreff-spatzenhoeck-3/
LOCATION:Pfarreizentrum Flawil\, Enzenbühlstrasse 16\, Flawil\, 9230\, Schweiz
CATEGORIES:Kinder und Familien
END:VEVENT
BEGIN:VEVENT
DTSTART;TZID=Europe/Zurich:20230624T150000
DTEND;TZID=Europe/Zurich:20230624T150000
DTSTAMP:20260426T043022
CREATED:20230512T062143Z
LAST-MODIFIED:20230512T063643Z
UID:41065-1687618800-1687618800@www.se-ma.ch
SUMMARY:"Sommer im Feld" - Fest der Vielfalt
DESCRIPTION:Die in Flawil traditionell gelebte Ökumene erhält einen weiteren\, sie stärkenden\, regelmässigen Anlass!\nSie sind alle im Rahmen von «Sommer im Feld» ab 15.00 Uhr zum «Fest der Vielfalt» eingeladen. Rund um die Kirche im Feld erwarten Gross und Klein verschiedene Stationen mit zahlreichen unterhaltsamen wie spirituellen Anregungen. Dabei darf auch eine grosse «Hüpfkirche»\, nachmittäglicher Kaffee und Kuchen sowie ab 17.30 Uhr ein einfaches Abendessen auf dem Festplatz nicht fehlen. Als Abschluss des Festes findet ab 19.00 Uhr ein stimmungsvolles und mitreissendes Konzert des in St. Gallen bekannten Sängers Malcolm Green mit Band statt. \nFlyer Fest der Vielfalt\nHomepage „Sommer im Feld“
URL:https://www.se-ma.ch/event/sommer-im-feld-fest-der-vielfalt/
LOCATION:Sommer im Feld\, Flawil\, 9230\, Schweiz
CATEGORIES:Anlässe und Veranstaltungen,Kinder und Familien
END:VEVENT
BEGIN:VEVENT
DTSTART;TZID=Europe/Zurich:20230624T173000
DTEND;TZID=Europe/Zurich:20230624T173000
DTSTAMP:20260426T043022
CREATED:20221120T122340Z
LAST-MODIFIED:20230502T124007Z
UID:37692-1687627800-1687627800@www.se-ma.ch
SUMMARY:Flawil: Eucharistiefeier in Portugiesisch
DESCRIPTION:
URL:https://www.se-ma.ch/event/eucharistiefeier-in-portugiesisch-10/
LOCATION:Kapelle St. Laurentius Flawil\, Enzenbühlstrasse 20\, Flawil\, 9230\, Schweiz
CATEGORIES:Gottesdienste
END:VEVENT
BEGIN:VEVENT
DTSTART;TZID=Europe/Zurich:20230624T173000
DTEND;TZID=Europe/Zurich:20230624T183000
DTSTAMP:20260426T043022
CREATED:20230104T074749Z
LAST-MODIFIED:20230524T064834Z
UID:38614-1687627800-1687631400@www.se-ma.ch
SUMMARY:Degersheim: Kommunionfeier
DESCRIPTION:
URL:https://www.se-ma.ch/event/kommunionfeier-in-degersheim-23/
LOCATION:Jakobuskirche Degersheim\, Bergstrasse 10\, Degersheim\, 9113\, Schweiz
CATEGORIES:Gottesdienste
END:VEVENT
END:VCALENDAR