BEGIN:VCALENDAR
VERSION:2.0
PRODID:-//Seelsorgeeinheit Magdenau - ECPv6.15.20//NONSGML v1.0//EN
CALSCALE:GREGORIAN
METHOD:PUBLISH
X-WR-CALNAME:Seelsorgeeinheit Magdenau
X-ORIGINAL-URL:https://www.se-ma.ch
X-WR-CALDESC:Veranstaltungen für Seelsorgeeinheit Magdenau
REFRESH-INTERVAL;VALUE=DURATION:PT1H
X-Robots-Tag:noindex
X-PUBLISHED-TTL:PT1H
BEGIN:VTIMEZONE
TZID:Europe/Zurich
BEGIN:DAYLIGHT
TZOFFSETFROM:+0100
TZOFFSETTO:+0200
TZNAME:CEST
DTSTART:20220327T010000
END:DAYLIGHT
BEGIN:STANDARD
TZOFFSETFROM:+0200
TZOFFSETTO:+0100
TZNAME:CET
DTSTART:20221030T010000
END:STANDARD
BEGIN:DAYLIGHT
TZOFFSETFROM:+0100
TZOFFSETTO:+0200
TZNAME:CEST
DTSTART:20230326T010000
END:DAYLIGHT
BEGIN:STANDARD
TZOFFSETFROM:+0200
TZOFFSETTO:+0100
TZNAME:CET
DTSTART:20231029T010000
END:STANDARD
BEGIN:DAYLIGHT
TZOFFSETFROM:+0100
TZOFFSETTO:+0200
TZNAME:CEST
DTSTART:20240331T010000
END:DAYLIGHT
BEGIN:STANDARD
TZOFFSETFROM:+0200
TZOFFSETTO:+0100
TZNAME:CET
DTSTART:20241027T010000
END:STANDARD
END:VTIMEZONE
BEGIN:VEVENT
DTSTART;TZID=Europe/Zurich:20230811T190000
DTEND;TZID=Europe/Zurich:20230811T190000
DTSTAMP:20260426T011151
CREATED:20230706T065314Z
LAST-MODIFIED:20230706T125001Z
UID:42006-1691780400-1691780400@www.se-ma.ch
SUMMARY:Flawil: Kolpingfamilie - Servelatparty auf dem Sitz
DESCRIPTION:Die Sommerferien beenden wir traditionell mit der Cervelatparty auf dem Sitz. Wurst und Brot nimmt jeder selber mit\, Getränke gibts im Bergrestaurant. Für Mitfahrgelegenheiten treffen wir uns beim Marktplatz Flawil.
URL:https://www.se-ma.ch/event/flawil-kolpingfamilie-cervelatparty-auf-dem-sitz/
CATEGORIES:Anlässe und Veranstaltungen
END:VEVENT
END:VCALENDAR