BEGIN:VCALENDAR
VERSION:2.0
PRODID:-//Seelsorgeeinheit Magdenau - ECPv6.15.20//NONSGML v1.0//EN
CALSCALE:GREGORIAN
METHOD:PUBLISH
X-WR-CALNAME:Seelsorgeeinheit Magdenau
X-ORIGINAL-URL:https://www.se-ma.ch
X-WR-CALDESC:Veranstaltungen für Seelsorgeeinheit Magdenau
REFRESH-INTERVAL;VALUE=DURATION:PT1H
X-Robots-Tag:noindex
X-PUBLISHED-TTL:PT1H
BEGIN:VTIMEZONE
TZID:Europe/Zurich
BEGIN:DAYLIGHT
TZOFFSETFROM:+0100
TZOFFSETTO:+0200
TZNAME:CEST
DTSTART:20220327T010000
END:DAYLIGHT
BEGIN:STANDARD
TZOFFSETFROM:+0200
TZOFFSETTO:+0100
TZNAME:CET
DTSTART:20221030T010000
END:STANDARD
BEGIN:DAYLIGHT
TZOFFSETFROM:+0100
TZOFFSETTO:+0200
TZNAME:CEST
DTSTART:20230326T010000
END:DAYLIGHT
BEGIN:STANDARD
TZOFFSETFROM:+0200
TZOFFSETTO:+0100
TZNAME:CET
DTSTART:20231029T010000
END:STANDARD
BEGIN:DAYLIGHT
TZOFFSETFROM:+0100
TZOFFSETTO:+0200
TZNAME:CEST
DTSTART:20240331T010000
END:DAYLIGHT
BEGIN:STANDARD
TZOFFSETFROM:+0200
TZOFFSETTO:+0100
TZNAME:CET
DTSTART:20241027T010000
END:STANDARD
END:VTIMEZONE
BEGIN:VEVENT
DTSTART;TZID=Europe/Zurich:20230820T084500
DTEND;TZID=Europe/Zurich:20230820T084500
DTSTAMP:20260426T005859
CREATED:20230502T074812Z
LAST-MODIFIED:20230502T125523Z
UID:40756-1692521100-1692521100@www.se-ma.ch
SUMMARY:Niederglatt: Grottengottesdienst
DESCRIPTION:Kommunionfeier mit Segnung der Kräutersträusschen\, musikalisch umrahmt durch Yvonne Niedermann (bei schlechtem Wetter in der Kirche)\,\nanschliessend sind Sie zum Apéro eingeladen.
URL:https://www.se-ma.ch/event/niederglatt-grottengottesdienst/
LOCATION:Lourdes Grotte Niederglatt\, Niederglattstrasse\, Niederglatt\, 9240\, Schweiz
CATEGORIES:Gottesdienste
END:VEVENT
BEGIN:VEVENT
DTSTART;TZID=Europe/Zurich:20230820T093000
DTEND;TZID=Europe/Zurich:20230820T093000
DTSTAMP:20260426T005859
CREATED:20230525T053711Z
LAST-MODIFIED:20230525T053711Z
UID:41439-1692523800-1692523800@www.se-ma.ch
SUMMARY:Flawil: Eucharistiefeier in Spanisch
DESCRIPTION:
URL:https://www.se-ma.ch/event/flawil-eucharistiefeier-in-spanisch-3/
LOCATION:Kapelle St. Laurentius Flawil\, Enzenbühlstrasse 20\, Flawil\, 9230\, Schweiz
CATEGORIES:Gottesdienste
END:VEVENT
BEGIN:VEVENT
DTSTART;TZID=Europe/Zurich:20230820T100000
DTEND;TZID=Europe/Zurich:20230820T140000
DTSTAMP:20260426T005859
CREATED:20220914T083051Z
LAST-MODIFIED:20230524T070158Z
UID:36600-1692525600-1692540000@www.se-ma.ch
SUMMARY:Degersheim: Ökumenischer Föhrenwäldli Gottesdienst
DESCRIPTION:Anschliessend gemütliches Beisammensein mit Verpflegungsmöglichkeit. \nBei schlechtem Wetter findet der Gottesdienst in der reformierten Kirche statt. \nAb 08.00 Uhr gibt Telefon 071 370 07 80 Auskunft.
URL:https://www.se-ma.ch/event/oekumenischer-foehrenwaeldli-gottesdienst-in-degersheim/
LOCATION:Föhrenwäldli\, Berg 1\, Degersheim\, 9113 \, Schweiz
CATEGORIES:Gottesdienste,Kinder und Familien
END:VEVENT
BEGIN:VEVENT
DTSTART;TZID=Europe/Zurich:20230820T101500
DTEND;TZID=Europe/Zurich:20230820T101500
DTSTAMP:20260426T005859
CREATED:20230106T074636Z
LAST-MODIFIED:20230502T113514Z
UID:38786-1692526500-1692526500@www.se-ma.ch
SUMMARY:Flawil: Patrozinium\, Festgottesdienst zum hl. Laurentius
DESCRIPTION:Eucharistiefeier mit dem Kirchenchor\, anschliessend Apéro
URL:https://www.se-ma.ch/event/flawil-festgottesdienst-zum-laurentius/
LOCATION:Kirche St. Laurentius Flawil\, Enzenbühlstrasse 20\, Flawil\, 9230\, Schweiz
CATEGORIES:Gottesdienste,Kinder und Familien
END:VEVENT
END:VCALENDAR