BEGIN:VCALENDAR
VERSION:2.0
PRODID:-//Seelsorgeeinheit Magdenau - ECPv6.15.20//NONSGML v1.0//EN
CALSCALE:GREGORIAN
METHOD:PUBLISH
X-ORIGINAL-URL:https://www.se-ma.ch
X-WR-CALDESC:Veranstaltungen für Seelsorgeeinheit Magdenau
REFRESH-INTERVAL;VALUE=DURATION:PT1H
X-Robots-Tag:noindex
X-PUBLISHED-TTL:PT1H
BEGIN:VTIMEZONE
TZID:Europe/Zurich
BEGIN:DAYLIGHT
TZOFFSETFROM:+0100
TZOFFSETTO:+0200
TZNAME:CEST
DTSTART:20220327T010000
END:DAYLIGHT
BEGIN:STANDARD
TZOFFSETFROM:+0200
TZOFFSETTO:+0100
TZNAME:CET
DTSTART:20221030T010000
END:STANDARD
BEGIN:DAYLIGHT
TZOFFSETFROM:+0100
TZOFFSETTO:+0200
TZNAME:CEST
DTSTART:20230326T010000
END:DAYLIGHT
BEGIN:STANDARD
TZOFFSETFROM:+0200
TZOFFSETTO:+0100
TZNAME:CET
DTSTART:20231029T010000
END:STANDARD
BEGIN:DAYLIGHT
TZOFFSETFROM:+0100
TZOFFSETTO:+0200
TZNAME:CEST
DTSTART:20240331T010000
END:DAYLIGHT
BEGIN:STANDARD
TZOFFSETFROM:+0200
TZOFFSETTO:+0100
TZNAME:CET
DTSTART:20241027T010000
END:STANDARD
END:VTIMEZONE
BEGIN:VEVENT
DTSTART;VALUE=DATE:20230827
DTEND;VALUE=DATE:20230828
DTSTAMP:20260426T010315
CREATED:20230706T070453Z
LAST-MODIFIED:20230706T070453Z
UID:42019-1693094400-1693180799@www.se-ma.ch
SUMMARY:Flawil/Niederglatt: Starttag neuer Firmweg
DESCRIPTION:im Kloster Magdenau
URL:https://www.se-ma.ch/event/flawil-niederglatt-starttag-neuer-firmweg/
LOCATION:Kloster Magdenau
CATEGORIES:Anlässe und Veranstaltungen
END:VEVENT
BEGIN:VEVENT
DTSTART;TZID=Europe/Zurich:20230827T100000
DTEND;TZID=Europe/Zurich:20230827T100000
DTSTAMP:20260426T010315
CREATED:20230502T114009Z
LAST-MODIFIED:20230802T125855Z
UID:40831-1693130400-1693130400@www.se-ma.ch
SUMMARY:Flawil: Ökumenischer Gottesdienst zum Erntedank
DESCRIPTION:„Gnueg zum Esse“ \nin der ref. Kirche Feld\, anschliessend sind alle herzlich zum Apéro eingeladen
URL:https://www.se-ma.ch/event/flawil-oekumenischer-gottesdienst-zum-erntedank/
LOCATION:Ref. Kirche Feld\, Flawil\, 9230\, Schweiz
CATEGORIES:Gottesdienste
END:VEVENT
BEGIN:VEVENT
DTSTART;TZID=Europe/Zurich:20230827T100000
DTEND;TZID=Europe/Zurich:20230827T104000
DTSTAMP:20260426T010315
CREATED:20221220T123415Z
LAST-MODIFIED:20230811T055839Z
UID:38309-1693130400-1693132800@www.se-ma.ch
SUMMARY:Wolfertswil: Familienfeier\, Mit-Sing-Gottesdienscht bi de Lüüt\, im Chilbizelt
DESCRIPTION:Plakat Gottesdienscht bi de Lüüt \nFlyer Chilbi
URL:https://www.se-ma.ch/event/familiengottesdienst-am-chilbisonntag-in-wolfertswil/
LOCATION:Dorfzentrum Wolfertswil\, Oberdorfstrasse 1\, Wolfertswil\, 9116
CATEGORIES:Gottesdienste
END:VEVENT
END:VCALENDAR