BEGIN:VCALENDAR
VERSION:2.0
PRODID:-//Seelsorgeeinheit Magdenau - ECPv6.15.20//NONSGML v1.0//EN
CALSCALE:GREGORIAN
METHOD:PUBLISH
X-WR-CALNAME:Seelsorgeeinheit Magdenau
X-ORIGINAL-URL:https://www.se-ma.ch
X-WR-CALDESC:Veranstaltungen für Seelsorgeeinheit Magdenau
REFRESH-INTERVAL;VALUE=DURATION:PT1H
X-Robots-Tag:noindex
X-PUBLISHED-TTL:PT1H
BEGIN:VTIMEZONE
TZID:Europe/Zurich
BEGIN:DAYLIGHT
TZOFFSETFROM:+0100
TZOFFSETTO:+0200
TZNAME:CEST
DTSTART:20220327T010000
END:DAYLIGHT
BEGIN:STANDARD
TZOFFSETFROM:+0200
TZOFFSETTO:+0100
TZNAME:CET
DTSTART:20221030T010000
END:STANDARD
BEGIN:DAYLIGHT
TZOFFSETFROM:+0100
TZOFFSETTO:+0200
TZNAME:CEST
DTSTART:20230326T010000
END:DAYLIGHT
BEGIN:STANDARD
TZOFFSETFROM:+0200
TZOFFSETTO:+0100
TZNAME:CET
DTSTART:20231029T010000
END:STANDARD
BEGIN:DAYLIGHT
TZOFFSETFROM:+0100
TZOFFSETTO:+0200
TZNAME:CEST
DTSTART:20240331T010000
END:DAYLIGHT
BEGIN:STANDARD
TZOFFSETFROM:+0200
TZOFFSETTO:+0100
TZNAME:CET
DTSTART:20241027T010000
END:STANDARD
END:VTIMEZONE
BEGIN:VEVENT
DTSTART;VALUE=DATE:20230903
DTEND;VALUE=DATE:20230910
DTSTAMP:20260425T225457
CREATED:20230312T165542Z
LAST-MODIFIED:20230312T165542Z
UID:40011-1693699200-1694303999@www.se-ma.ch
SUMMARY:Ökum. Seniorenferien Flawil
DESCRIPTION:Ferientage in Obwalden \nÖkumenische Seniorenferien Flawil
URL:https://www.se-ma.ch/event/oekum-seniorenferien-flawil/
CATEGORIES:Anlässe und Veranstaltungen
END:VEVENT
BEGIN:VEVENT
DTSTART;TZID=Europe/Zurich:20230906T100000
DTEND;TZID=Europe/Zurich:20230906T170000
DTSTAMP:20260425T225457
CREATED:20230905T053340Z
LAST-MODIFIED:20230905T053440Z
UID:42660-1693994400-1694019600@www.se-ma.ch
SUMMARY:Test-Anlass
DESCRIPTION:Test
URL:https://www.se-ma.ch/event/test-anlass/
CATEGORIES:Anlässe und Veranstaltungen
END:VEVENT
BEGIN:VEVENT
DTSTART;TZID=Europe/Zurich:20230906T173000
DTEND;TZID=Europe/Zurich:20230906T173000
DTSTAMP:20260425T225457
CREATED:20230815T065016Z
LAST-MODIFIED:20230815T065134Z
UID:42318-1694021400-1694021400@www.se-ma.ch
SUMMARY:Lebenswertes Alter - Suizidprävention
DESCRIPTION:Anlässlich des Welttages der Suizidprävention wird mit einem Fachreferat\, einer Podiumsdiskussion und im Austausch mit den Teilnehmenden ein weitgehend tabuisiertes Thema aufgegriffen. Zugleich soll aufgezeigt werden\, welche positiven Auswirkungen eine gute Lebensgestaltung haben kann. Die Teilnahme ist kostenlos und es ist keine Anmeldung nötig. \nVeranstaltungsort: Mittwoch\,  Migros Klubschulgebäude\, Bahnhofplatz 2\, St. Gallen \nWeitere Informationen
URL:https://www.se-ma.ch/event/lebenswertes-alter-suizidpraevention/
LOCATION:Migros Klubschule\, Bahnhofplatz 2\, St. Gallen\, St. Gallen\, 9001\, Schweiz
CATEGORIES:Anlässe und Veranstaltungen
END:VEVENT
END:VCALENDAR