BEGIN:VCALENDAR
VERSION:2.0
PRODID:-//Seelsorgeeinheit Magdenau - ECPv6.15.20//NONSGML v1.0//EN
CALSCALE:GREGORIAN
METHOD:PUBLISH
X-ORIGINAL-URL:https://www.se-ma.ch
X-WR-CALDESC:Veranstaltungen für Seelsorgeeinheit Magdenau
REFRESH-INTERVAL;VALUE=DURATION:PT1H
X-Robots-Tag:noindex
X-PUBLISHED-TTL:PT1H
BEGIN:VTIMEZONE
TZID:Europe/Zurich
BEGIN:DAYLIGHT
TZOFFSETFROM:+0100
TZOFFSETTO:+0200
TZNAME:CEST
DTSTART:20220327T010000
END:DAYLIGHT
BEGIN:STANDARD
TZOFFSETFROM:+0200
TZOFFSETTO:+0100
TZNAME:CET
DTSTART:20221030T010000
END:STANDARD
BEGIN:DAYLIGHT
TZOFFSETFROM:+0100
TZOFFSETTO:+0200
TZNAME:CEST
DTSTART:20230326T010000
END:DAYLIGHT
BEGIN:STANDARD
TZOFFSETFROM:+0200
TZOFFSETTO:+0100
TZNAME:CET
DTSTART:20231029T010000
END:STANDARD
BEGIN:DAYLIGHT
TZOFFSETFROM:+0100
TZOFFSETTO:+0200
TZNAME:CEST
DTSTART:20240331T010000
END:DAYLIGHT
BEGIN:STANDARD
TZOFFSETFROM:+0200
TZOFFSETTO:+0100
TZNAME:CET
DTSTART:20241027T010000
END:STANDARD
END:VTIMEZONE
BEGIN:VEVENT
DTSTART;VALUE=DATE:20230909
DTEND;VALUE=DATE:20231023
DTSTAMP:20260425T225720
CREATED:20230821T124824Z
LAST-MODIFIED:20230821T125002Z
UID:42389-1694217600-1698019199@www.se-ma.ch
SUMMARY:Niederglatt: Actionbound "Engelzauber"
DESCRIPTION:  \n  \n  \nFlyer Actionbound
URL:https://www.se-ma.ch/event/niederglatt-actionbound-engelzauber/
LOCATION:Felix + Regula Kirche Niederglatt\, Niederglatt\, 9240\, Schweiz
CATEGORIES:Anlässe und Veranstaltungen,Kinder und Familien
END:VEVENT
BEGIN:VEVENT
DTSTART;TZID=Europe/Zurich:20230917T084500
DTEND;TZID=Europe/Zurich:20230917T094500
DTSTAMP:20260425T225720
CREATED:20221220T124000Z
LAST-MODIFIED:20230217T095340Z
UID:38315-1694940300-1694943900@www.se-ma.ch
SUMMARY:Wolfertswil: Kommunionfeier zum Erntedank u. Bettag in der Kirche St. Verena Magdenau
DESCRIPTION:
URL:https://www.se-ma.ch/event/kommunionfeier-erntedank-u-bettag-in-wolfertswil/
LOCATION:Kirche St. Verena Magdenau\, St. Verena 929\, Wolfertswil\, 9116\, Schweiz
CATEGORIES:Gottesdienste
END:VEVENT
BEGIN:VEVENT
DTSTART;TZID=Europe/Zurich:20230917T093000
DTEND;TZID=Europe/Zurich:20230917T093000
DTSTAMP:20260425T225720
CREATED:20230525T053733Z
LAST-MODIFIED:20230525T053733Z
UID:41441-1694943000-1694943000@www.se-ma.ch
SUMMARY:Flawil: Eucharistiefeier in Spanisch
DESCRIPTION:
URL:https://www.se-ma.ch/event/flawil-eucharistiefeier-in-spanisch-4/
LOCATION:Kapelle St. Laurentius Flawil\, Enzenbühlstrasse 20\, Flawil\, 9230\, Schweiz
CATEGORIES:Gottesdienste
END:VEVENT
BEGIN:VEVENT
DTSTART;TZID=Europe/Zurich:20230917T094000
DTEND;TZID=Europe/Zurich:20230917T104000
DTSTAMP:20260425T225720
CREATED:20230517T070953Z
LAST-MODIFIED:20230905T055106Z
UID:41175-1694943600-1694947200@www.se-ma.ch
SUMMARY:Degersheim: ökum. Bettags-Gottesdienst in der ref. Kirche
DESCRIPTION:mit reformiertem und katholischem Kirchenchor
URL:https://www.se-ma.ch/event/degersheim-oekum-bettags-gottesdienst-in-der-ref-kirche/
LOCATION:evang. Kirche Degersheim\, Steineggstrasse 10\, Degersheim\, 9113
CATEGORIES:Gottesdienste
END:VEVENT
BEGIN:VEVENT
DTSTART;TZID=Europe/Zurich:20230917T101500
DTEND;TZID=Europe/Zurich:20230917T101500
DTSTAMP:20260425T225720
CREATED:20230502T114245Z
LAST-MODIFIED:20230821T133159Z
UID:40833-1694945700-1694945700@www.se-ma.ch
SUMMARY:Flawil: Einladungsgottesdienst zum Bettag
DESCRIPTION:Kommunionfeier mit Männerchor Eintracht\, anschliessend Apéro
URL:https://www.se-ma.ch/event/flawil-einladungsgottesdienst-zum-bettag/
LOCATION:Kirche St. Laurentius Flawil\, Enzenbühlstrasse 20\, Flawil\, 9230\, Schweiz
CATEGORIES:Gottesdienste
END:VEVENT
END:VCALENDAR