BEGIN:VCALENDAR
VERSION:2.0
PRODID:-//Seelsorgeeinheit Magdenau - ECPv6.15.20//NONSGML v1.0//EN
CALSCALE:GREGORIAN
METHOD:PUBLISH
X-ORIGINAL-URL:https://www.se-ma.ch
X-WR-CALDESC:Veranstaltungen für Seelsorgeeinheit Magdenau
REFRESH-INTERVAL;VALUE=DURATION:PT1H
X-Robots-Tag:noindex
X-PUBLISHED-TTL:PT1H
BEGIN:VTIMEZONE
TZID:Europe/Zurich
BEGIN:DAYLIGHT
TZOFFSETFROM:+0100
TZOFFSETTO:+0200
TZNAME:CEST
DTSTART:20220327T010000
END:DAYLIGHT
BEGIN:STANDARD
TZOFFSETFROM:+0200
TZOFFSETTO:+0100
TZNAME:CET
DTSTART:20221030T010000
END:STANDARD
BEGIN:DAYLIGHT
TZOFFSETFROM:+0100
TZOFFSETTO:+0200
TZNAME:CEST
DTSTART:20230326T010000
END:DAYLIGHT
BEGIN:STANDARD
TZOFFSETFROM:+0200
TZOFFSETTO:+0100
TZNAME:CET
DTSTART:20231029T010000
END:STANDARD
BEGIN:DAYLIGHT
TZOFFSETFROM:+0100
TZOFFSETTO:+0200
TZNAME:CEST
DTSTART:20240331T010000
END:DAYLIGHT
BEGIN:STANDARD
TZOFFSETFROM:+0200
TZOFFSETTO:+0100
TZNAME:CET
DTSTART:20241027T010000
END:STANDARD
END:VTIMEZONE
BEGIN:VEVENT
DTSTART;VALUE=DATE:20230909
DTEND;VALUE=DATE:20231023
DTSTAMP:20260425T225841
CREATED:20230821T124824Z
LAST-MODIFIED:20230821T125002Z
UID:42389-1694217600-1698019199@www.se-ma.ch
SUMMARY:Niederglatt: Actionbound "Engelzauber"
DESCRIPTION:  \n  \n  \nFlyer Actionbound
URL:https://www.se-ma.ch/event/niederglatt-actionbound-engelzauber/
LOCATION:Felix + Regula Kirche Niederglatt\, Niederglatt\, 9240\, Schweiz
CATEGORIES:Anlässe und Veranstaltungen,Kinder und Familien
END:VEVENT
BEGIN:VEVENT
DTSTART;TZID=Europe/Zurich:20230924T083000
DTEND;TZID=Europe/Zurich:20230924T083000
DTSTAMP:20260425T225841
CREATED:20221120T121056Z
LAST-MODIFIED:20230502T123609Z
UID:37662-1695544200-1695544200@www.se-ma.ch
SUMMARY:Flawil: Eucharistiefeier in Italienisch
DESCRIPTION:
URL:https://www.se-ma.ch/event/eucharistiefeier-in-italienisch-21/
LOCATION:Kapelle St. Laurentius Flawil\, Enzenbühlstrasse 20\, Flawil\, 9230\, Schweiz
CATEGORIES:Gottesdienste
END:VEVENT
BEGIN:VEVENT
DTSTART;TZID=Europe/Zurich:20230924T084500
DTEND;TZID=Europe/Zurich:20230924T084500
DTSTAMP:20260425T225841
CREATED:20221220T124147Z
LAST-MODIFIED:20230822T091656Z
UID:38317-1695545100-1695545100@www.se-ma.ch
SUMMARY:Magdenau: Eucharistiefeier\, Hl. Bruder Klaus u. Miniaufnahme im Kloster Magdenau
DESCRIPTION:
URL:https://www.se-ma.ch/event/eucharistiefeier-hl-bruder-klaus-u-miniaufnahme-im-kloster-magdenau/
LOCATION:Kloster Magdenau
CATEGORIES:Gottesdienste
END:VEVENT
BEGIN:VEVENT
DTSTART;TZID=Europe/Zurich:20230924T101500
DTEND;TZID=Europe/Zurich:20230924T101500
DTSTAMP:20260425T225841
CREATED:20230502T114427Z
LAST-MODIFIED:20230502T114427Z
UID:40835-1695550500-1695550500@www.se-ma.ch
SUMMARY:Flawil: Eucharistiefeier mit Miniaufnahme und Verabschiedung
DESCRIPTION:
URL:https://www.se-ma.ch/event/flawil-eucharistiefeier-mit-miniaufnahme-und-verabschiedung/
LOCATION:Kirche St. Laurentius Flawil\, Enzenbühlstrasse 20\, Flawil\, 9230\, Schweiz
CATEGORIES:Gottesdienste,Kinder und Familien
END:VEVENT
END:VCALENDAR