BEGIN:VCALENDAR
VERSION:2.0
PRODID:-//Seelsorgeeinheit Magdenau - ECPv6.15.20//NONSGML v1.0//EN
CALSCALE:GREGORIAN
METHOD:PUBLISH
X-WR-CALNAME:Seelsorgeeinheit Magdenau
X-ORIGINAL-URL:https://www.se-ma.ch
X-WR-CALDESC:Veranstaltungen für Seelsorgeeinheit Magdenau
REFRESH-INTERVAL;VALUE=DURATION:PT1H
X-Robots-Tag:noindex
X-PUBLISHED-TTL:PT1H
BEGIN:VTIMEZONE
TZID:Europe/Zurich
BEGIN:DAYLIGHT
TZOFFSETFROM:+0100
TZOFFSETTO:+0200
TZNAME:CEST
DTSTART:20220327T010000
END:DAYLIGHT
BEGIN:STANDARD
TZOFFSETFROM:+0200
TZOFFSETTO:+0100
TZNAME:CET
DTSTART:20221030T010000
END:STANDARD
BEGIN:DAYLIGHT
TZOFFSETFROM:+0100
TZOFFSETTO:+0200
TZNAME:CEST
DTSTART:20230326T010000
END:DAYLIGHT
BEGIN:STANDARD
TZOFFSETFROM:+0200
TZOFFSETTO:+0100
TZNAME:CET
DTSTART:20231029T010000
END:STANDARD
BEGIN:DAYLIGHT
TZOFFSETFROM:+0100
TZOFFSETTO:+0200
TZNAME:CEST
DTSTART:20240331T010000
END:DAYLIGHT
BEGIN:STANDARD
TZOFFSETFROM:+0200
TZOFFSETTO:+0100
TZNAME:CET
DTSTART:20241027T010000
END:STANDARD
END:VTIMEZONE
BEGIN:VEVENT
DTSTART;TZID=Europe/Zurich:20231028T093000
DTEND;TZID=Europe/Zurich:20231028T100000
DTSTAMP:20260425T212633
CREATED:20230601T123706Z
LAST-MODIFIED:20230601T124616Z
UID:41490-1698485400-1698487200@www.se-ma.ch
SUMMARY:Flawil: ökumenische Chinderfiir
DESCRIPTION:  \nDie Chinderfiir richtet sich an Kinder ab 3 Jahren und ihre erwachsenen Begleitpersonen. Während einer halben Stunde machen wir uns mit den Kindern und ihren erwachsenen Begleitpersonen auf den Weg\, den christlichen Glauben mit Musik\, einer Geschichte\, Spiel und Spass zu entdecken. \nFlyer Chinderfiir
URL:https://www.se-ma.ch/event/chinderfiir-oekumenische-feier-in-flawil-7/
LOCATION:Zwinglisaal Flawil\, Lindenstrasse 6B\, Flawil\, SG\, 9230\, Schweiz
CATEGORIES:Gottesdienste,Kinder und Familien
END:VEVENT
BEGIN:VEVENT
DTSTART;TZID=Europe/Zurich:20231028T173000
DTEND;TZID=Europe/Zurich:20231028T173000
DTSTAMP:20260425T212633
CREATED:20221120T122649Z
LAST-MODIFIED:20230829T112948Z
UID:37702-1698514200-1698514200@www.se-ma.ch
SUMMARY:Flawil: Eucharistiefeier in Portugiesisch - fällt aus!
DESCRIPTION:
URL:https://www.se-ma.ch/event/eucharistiefeier-in-portugiesisch-15/
LOCATION:Kapelle St. Laurentius Flawil\, Enzenbühlstrasse 20\, Flawil\, 9230\, Schweiz
CATEGORIES:Gottesdienste
END:VEVENT
BEGIN:VEVENT
DTSTART;TZID=Europe/Zurich:20231028T173000
DTEND;TZID=Europe/Zurich:20231028T183000
DTSTAMP:20260425T212633
CREATED:20230118T093526Z
LAST-MODIFIED:20230118T093659Z
UID:38999-1698514200-1698517800@www.se-ma.ch
SUMMARY:kinderGOTTesdienst in Degersheim
DESCRIPTION:Kinder ab dem 2. Kindergarten bis zur 3. Klasse sind im kinderGOTTesdienst herzlich willkommen. \nNach dem gemeinsamen Start in der Kirche feiern die Kinder in der Kapelle. Die Gottesdienste sind so gestaltet\, dass die Kinder diese alleine besuchen können. Die Eltern dürfen zur gleichen Zeit die reguläre Feier in der Kirche besuchen.
URL:https://www.se-ma.ch/event/kindergottesdienst-in-degersheim-5/
LOCATION:Jakobuskirche Kapelle Degersheim\, Bergstrasse 10\, Degersheim\, St. Gallen\, 9113\, Schweiz
CATEGORIES:Kinder und Familien
END:VEVENT
BEGIN:VEVENT
DTSTART;TZID=Europe/Zurich:20231028T173000
DTEND;TZID=Europe/Zurich:20231028T183000
DTSTAMP:20260425T212633
CREATED:20230517T081906Z
LAST-MODIFIED:20230517T081906Z
UID:41194-1698514200-1698517800@www.se-ma.ch
SUMMARY:Degersheim: Kommunionfeier
DESCRIPTION:
URL:https://www.se-ma.ch/event/degersheim-kommunionfeier-3/
LOCATION:Jakobuskirche Degersheim\, Bergstrasse 10\, Degersheim\, 9113\, Schweiz
CATEGORIES:Gottesdienste
END:VEVENT
BEGIN:VEVENT
DTSTART;TZID=Europe/Zurich:20231028T190000
DTEND;TZID=Europe/Zurich:20231028T220000
DTSTAMP:20260425T212633
CREATED:20231023T061300Z
LAST-MODIFIED:20231023T061300Z
UID:43618-1698519600-1698530400@www.se-ma.ch
SUMMARY:Jugendarbeit: Kino-Night in Flawil
DESCRIPTION:Anmeldung und Info bei Ermin Schluep\, Jugendarbeiter 076 581 77 11
URL:https://www.se-ma.ch/event/jugendarbeit-kino-night-in-flawil/
LOCATION:Pfarreizentrum Flawil\, Enzenbühlstrasse 16\, Flawil\, 9230\, Schweiz
CATEGORIES:Anlässe und Veranstaltungen,Kinder und Familien
END:VEVENT
END:VCALENDAR