BEGIN:VCALENDAR
VERSION:2.0
PRODID:-//Seelsorgeeinheit Magdenau - ECPv6.15.20//NONSGML v1.0//EN
CALSCALE:GREGORIAN
METHOD:PUBLISH
X-ORIGINAL-URL:https://www.se-ma.ch
X-WR-CALDESC:Veranstaltungen für Seelsorgeeinheit Magdenau
REFRESH-INTERVAL;VALUE=DURATION:PT1H
X-Robots-Tag:noindex
X-PUBLISHED-TTL:PT1H
BEGIN:VTIMEZONE
TZID:Europe/Zurich
BEGIN:DAYLIGHT
TZOFFSETFROM:+0100
TZOFFSETTO:+0200
TZNAME:CEST
DTSTART:20220327T010000
END:DAYLIGHT
BEGIN:STANDARD
TZOFFSETFROM:+0200
TZOFFSETTO:+0100
TZNAME:CET
DTSTART:20221030T010000
END:STANDARD
BEGIN:DAYLIGHT
TZOFFSETFROM:+0100
TZOFFSETTO:+0200
TZNAME:CEST
DTSTART:20230326T010000
END:DAYLIGHT
BEGIN:STANDARD
TZOFFSETFROM:+0200
TZOFFSETTO:+0100
TZNAME:CET
DTSTART:20231029T010000
END:STANDARD
BEGIN:DAYLIGHT
TZOFFSETFROM:+0100
TZOFFSETTO:+0200
TZNAME:CEST
DTSTART:20240331T010000
END:DAYLIGHT
BEGIN:STANDARD
TZOFFSETFROM:+0200
TZOFFSETTO:+0100
TZNAME:CET
DTSTART:20241027T010000
END:STANDARD
END:VTIMEZONE
BEGIN:VEVENT
DTSTART;TZID=Europe/Zurich:20231105T084500
DTEND;TZID=Europe/Zurich:20231105T094500
DTSTAMP:20260425T194756
CREATED:20221220T125145Z
LAST-MODIFIED:20230217T095727Z
UID:38327-1699173900-1699177500@www.se-ma.ch
SUMMARY:Wolfertswil: Eucharistiefeier in der Kirche St. Verena Magdenau
DESCRIPTION:
URL:https://www.se-ma.ch/event/eucharistiefeier-in-magdenau-3/
LOCATION:Kirche St. Verena Magdenau\, St. Verena 929\, Wolfertswil\, 9116\, Schweiz
CATEGORIES:Gottesdienste
END:VEVENT
BEGIN:VEVENT
DTSTART;TZID=Europe/Zurich:20231105T093000
DTEND;TZID=Europe/Zurich:20231105T093000
DTSTAMP:20260425T194756
CREATED:20221117T154811Z
LAST-MODIFIED:20230502T121903Z
UID:37568-1699176600-1699176600@www.se-ma.ch
SUMMARY:Flawil: Eucharistiefeier in Spanisch
DESCRIPTION:ab 9.00 Uhr Beichtgelegenheit
URL:https://www.se-ma.ch/event/eucharistiefeier-in-spanisch-in-flawil-11/
LOCATION:Kapelle St. Laurentius Flawil\, Enzenbühlstrasse 20\, Flawil\, 9230\, Schweiz
CATEGORIES:Gottesdienste
END:VEVENT
BEGIN:VEVENT
DTSTART;TZID=Europe/Zurich:20231105T101500
DTEND;TZID=Europe/Zurich:20231105T101500
DTSTAMP:20260425T194756
CREATED:20230502T092425Z
LAST-MODIFIED:20230502T092440Z
UID:40809-1699179300-1699179300@www.se-ma.ch
SUMMARY:Flawil: Eucharistiefeier
DESCRIPTION:
URL:https://www.se-ma.ch/event/flawil-eucharistiefeier-6/
LOCATION:Kirche St. Laurentius Flawil\, Enzenbühlstrasse 20\, Flawil\, 9230\, Schweiz
CATEGORIES:Gottesdienste
END:VEVENT
BEGIN:VEVENT
DTSTART;TZID=Europe/Zurich:20231105T110000
DTEND;TZID=Europe/Zurich:20231105T110000
DTSTAMP:20260425T194756
CREATED:20231019T133442Z
LAST-MODIFIED:20231019T133727Z
UID:43539-1699182000-1699182000@www.se-ma.ch
SUMMARY:Flawil: Einweihung Gemeinschaftsgrab
DESCRIPTION:Im Anschluss an den ordentlichen Sonntagsgottesdienst von 10.15 Uhr wird das neues Gemeinschaftsgrab eingeweiht. Das neue Grabfeld auf dem Friedhof Wisental liegt zentral und bietet nicht nur dem Gemeinschaftsgedanken Raum\, sondern auch Platz für die Asche von sogenannten Sternenkindern. Gemeint sind damit verstorbene Kinder\, insbesondere wenn sie vor\, während oder kurz nach der Geburt verstorben sind. Die Urne einer verstorbenen Person kann anonym oder mit Grabbeschriftung beigesetzt werden. Der Künstler Jan Kaeser hat dafür eigens eine Möglichkeit geschaffen\, welche Anonymität\, Individualität und Kommunität miteinander verbindet. Auch schwingt im Kunstwerk die theologische Überzeugung mit\, dass der Tod nur ein Übergang von einem Raum in einen anderen ist. \nEs freut uns sehr\, wenn Sie sich die Zeit nehmen\, um bei der Einweihung unseres neuen Gemeinschaftsgrabes dabei zu sein.
URL:https://www.se-ma.ch/event/flawil-einweihung-gemeinschaftsgrab/
LOCATION:Friedhof Wisental\, Enzenbühlstrasse\, 9230 Flawil\, 9230\, Schweiz
CATEGORIES:Anlässe und Veranstaltungen
END:VEVENT
END:VCALENDAR