BEGIN:VCALENDAR
VERSION:2.0
PRODID:-//Seelsorgeeinheit Magdenau - ECPv6.15.20//NONSGML v1.0//EN
CALSCALE:GREGORIAN
METHOD:PUBLISH
X-WR-CALNAME:Seelsorgeeinheit Magdenau
X-ORIGINAL-URL:https://www.se-ma.ch
X-WR-CALDESC:Veranstaltungen für Seelsorgeeinheit Magdenau
REFRESH-INTERVAL;VALUE=DURATION:PT1H
X-Robots-Tag:noindex
X-PUBLISHED-TTL:PT1H
BEGIN:VTIMEZONE
TZID:Europe/Zurich
BEGIN:DAYLIGHT
TZOFFSETFROM:+0100
TZOFFSETTO:+0200
TZNAME:CEST
DTSTART:20220327T010000
END:DAYLIGHT
BEGIN:STANDARD
TZOFFSETFROM:+0200
TZOFFSETTO:+0100
TZNAME:CET
DTSTART:20221030T010000
END:STANDARD
BEGIN:DAYLIGHT
TZOFFSETFROM:+0100
TZOFFSETTO:+0200
TZNAME:CEST
DTSTART:20230326T010000
END:DAYLIGHT
BEGIN:STANDARD
TZOFFSETFROM:+0200
TZOFFSETTO:+0100
TZNAME:CET
DTSTART:20231029T010000
END:STANDARD
BEGIN:DAYLIGHT
TZOFFSETFROM:+0100
TZOFFSETTO:+0200
TZNAME:CEST
DTSTART:20240331T010000
END:DAYLIGHT
BEGIN:STANDARD
TZOFFSETFROM:+0200
TZOFFSETTO:+0100
TZNAME:CET
DTSTART:20241027T010000
END:STANDARD
END:VTIMEZONE
BEGIN:VEVENT
DTSTART;TZID=Europe/Zurich:20231112T084500
DTEND;TZID=Europe/Zurich:20231112T084500
DTSTAMP:20260425T194652
CREATED:20230502T075605Z
LAST-MODIFIED:20230502T125630Z
UID:40765-1699778700-1699778700@www.se-ma.ch
SUMMARY:Niederglatt: Kommunionfeier mit den jungen Erwachsenen auf dem Firmweg
DESCRIPTION:
URL:https://www.se-ma.ch/event/niederglatt-kommunionfeier-3/
LOCATION:Felix + Regula Kirche Niederglatt\, Niederglatt\, 9240\, Schweiz
CATEGORIES:Gottesdienste
END:VEVENT
BEGIN:VEVENT
DTSTART;TZID=Europe/Zurich:20231112T090000
DTEND;TZID=Europe/Zurich:20231112T090000
DTSTAMP:20260425T194652
CREATED:20221120T120536Z
LAST-MODIFIED:20230502T123011Z
UID:37646-1699779600-1699779600@www.se-ma.ch
SUMMARY:Flawil: Eucharistiefeier in Italienisch
DESCRIPTION:
URL:https://www.se-ma.ch/event/eucharistiefeier-in-italienisch-13/
LOCATION:Kapelle St. Laurentius Flawil\, Enzenbühlstrasse 20\, Flawil\, 9230\, Schweiz
CATEGORIES:Gottesdienste
END:VEVENT
BEGIN:VEVENT
DTSTART;TZID=Europe/Zurich:20231112T101500
DTEND;TZID=Europe/Zurich:20231112T101500
DTSTAMP:20260425T194652
CREATED:20230502T114900Z
LAST-MODIFIED:20230502T125605Z
UID:40839-1699784100-1699784100@www.se-ma.ch
SUMMARY:Flawil: Kommunionfeier mit den jungen Erwachsenen auf dem Firmweg
DESCRIPTION:
URL:https://www.se-ma.ch/event/flawil-kommunionfeier-mit-firmandinnen/
LOCATION:Kirche St. Laurentius Flawil\, Enzenbühlstrasse 20\, Flawil\, 9230\, Schweiz
CATEGORIES:Gottesdienste
END:VEVENT
BEGIN:VEVENT
DTSTART;TZID=Europe/Zurich:20231112T173000
DTEND;TZID=Europe/Zurich:20231112T173000
DTSTAMP:20260425T194652
CREATED:20231016T071148Z
LAST-MODIFIED:20231019T140413Z
UID:43433-1699810200-1699810200@www.se-ma.ch
SUMMARY:Lichtfeier für Sternenkinder - in der Otmarkirche Andwil
DESCRIPTION:Feier für alle\, die um ein Kind trauern. Was es bedeutet\, ein Kind durch den Tod zu verlieren\, können wohl nur Menschen nachempfinden\, die es selbst erleben mussten. Die Lichtfeier möchte Menschen einen Raum zur Erinnerung und zur Trauer um ihre verstorbenen Kinder geben. Besinnliche Musik und Gesänge werden die Feier musikalisch umrahmen. Nach der Feier gibt es die Möglichkeit des Beisammenseins\, wenn es gewünscht wird. \nKartenausschnitt
URL:https://www.se-ma.ch/event/lichtfeier-fuer-sternenkinder/
CATEGORIES:Anlässe und Veranstaltungen,Gottesdienste
END:VEVENT
END:VCALENDAR