BEGIN:VCALENDAR
VERSION:2.0
PRODID:-//Seelsorgeeinheit Magdenau - ECPv6.15.20//NONSGML v1.0//EN
CALSCALE:GREGORIAN
METHOD:PUBLISH
X-ORIGINAL-URL:https://www.se-ma.ch
X-WR-CALDESC:Veranstaltungen für Seelsorgeeinheit Magdenau
REFRESH-INTERVAL;VALUE=DURATION:PT1H
X-Robots-Tag:noindex
X-PUBLISHED-TTL:PT1H
BEGIN:VTIMEZONE
TZID:Europe/Zurich
BEGIN:DAYLIGHT
TZOFFSETFROM:+0100
TZOFFSETTO:+0200
TZNAME:CEST
DTSTART:20220327T010000
END:DAYLIGHT
BEGIN:STANDARD
TZOFFSETFROM:+0200
TZOFFSETTO:+0100
TZNAME:CET
DTSTART:20221030T010000
END:STANDARD
BEGIN:DAYLIGHT
TZOFFSETFROM:+0100
TZOFFSETTO:+0200
TZNAME:CEST
DTSTART:20230326T010000
END:DAYLIGHT
BEGIN:STANDARD
TZOFFSETFROM:+0200
TZOFFSETTO:+0100
TZNAME:CET
DTSTART:20231029T010000
END:STANDARD
BEGIN:DAYLIGHT
TZOFFSETFROM:+0100
TZOFFSETTO:+0200
TZNAME:CEST
DTSTART:20240331T010000
END:DAYLIGHT
BEGIN:STANDARD
TZOFFSETFROM:+0200
TZOFFSETTO:+0100
TZNAME:CET
DTSTART:20241027T010000
END:STANDARD
END:VTIMEZONE
BEGIN:VEVENT
DTSTART;TZID=Europe/Zurich:20231206T060000
DTEND;TZID=Europe/Zurich:20231206T064000
DTSTAMP:20260425T180027
CREATED:20230217T100531Z
LAST-MODIFIED:20230217T100531Z
UID:39514-1701842400-1701844800@www.se-ma.ch
SUMMARY:Wolfertswil: Rorate in der Kirche St. Verena
DESCRIPTION:anschliessend Frühstück im Kloster Magdenau
URL:https://www.se-ma.ch/event/wolfertswil-rorate-in-der-kirche-st-verena/
LOCATION:Kirche St. Verena Magdenau\, St. Verena 929\, Wolfertswil\, 9116\, Schweiz
CATEGORIES:Gottesdienste
END:VEVENT
BEGIN:VEVENT
DTSTART;TZID=Europe/Zurich:20231206T143000
DTEND;TZID=Europe/Zurich:20231206T170000
DTSTAMP:20260425T180027
CREATED:20230105T082750Z
LAST-MODIFIED:20230904T143932Z
UID:38695-1701873000-1701882000@www.se-ma.ch
SUMMARY:Flawil: Seniorennachmittag
DESCRIPTION:Adventsfeier
URL:https://www.se-ma.ch/event/flawil-seniorennachmittag-7/
LOCATION:Pfarreizentrum Flawil\, Enzenbühlstrasse 16\, Flawil\, 9230\, Schweiz
CATEGORIES:Anlässe und Veranstaltungen
END:VEVENT
BEGIN:VEVENT
DTSTART;TZID=Europe/Zurich:20231206T190000
DTEND;TZID=Europe/Zurich:20231206T200000
DTSTAMP:20260425T180027
CREATED:20230517T083356Z
LAST-MODIFIED:20231030T070338Z
UID:41213-1701889200-1701892800@www.se-ma.ch
SUMMARY:Degersheim: Klang & Stille
DESCRIPTION:
URL:https://www.se-ma.ch/event/degersheim-klang-stille/
LOCATION:Jakobuskirche Degersheim\, Bergstrasse 10\, Degersheim\, 9113\, Schweiz
CATEGORIES:Anlässe und Veranstaltungen
END:VEVENT
END:VCALENDAR