BEGIN:VCALENDAR
VERSION:2.0
PRODID:-//Seelsorgeeinheit Magdenau - ECPv6.15.20//NONSGML v1.0//EN
CALSCALE:GREGORIAN
METHOD:PUBLISH
X-WR-CALNAME:Seelsorgeeinheit Magdenau
X-ORIGINAL-URL:https://www.se-ma.ch
X-WR-CALDESC:Veranstaltungen für Seelsorgeeinheit Magdenau
REFRESH-INTERVAL;VALUE=DURATION:PT1H
X-Robots-Tag:noindex
X-PUBLISHED-TTL:PT1H
BEGIN:VTIMEZONE
TZID:Europe/Zurich
BEGIN:DAYLIGHT
TZOFFSETFROM:+0100
TZOFFSETTO:+0200
TZNAME:CEST
DTSTART:20220327T010000
END:DAYLIGHT
BEGIN:STANDARD
TZOFFSETFROM:+0200
TZOFFSETTO:+0100
TZNAME:CET
DTSTART:20221030T010000
END:STANDARD
BEGIN:DAYLIGHT
TZOFFSETFROM:+0100
TZOFFSETTO:+0200
TZNAME:CEST
DTSTART:20230326T010000
END:DAYLIGHT
BEGIN:STANDARD
TZOFFSETFROM:+0200
TZOFFSETTO:+0100
TZNAME:CET
DTSTART:20231029T010000
END:STANDARD
BEGIN:DAYLIGHT
TZOFFSETFROM:+0100
TZOFFSETTO:+0200
TZNAME:CEST
DTSTART:20240331T010000
END:DAYLIGHT
BEGIN:STANDARD
TZOFFSETFROM:+0200
TZOFFSETTO:+0100
TZNAME:CET
DTSTART:20241027T010000
END:STANDARD
END:VTIMEZONE
BEGIN:VEVENT
DTSTART;TZID=Europe/Zurich:20231207T060000
DTEND;TZID=Europe/Zurich:20231207T060000
DTSTAMP:20260425T174640
CREATED:20230502T122147Z
LAST-MODIFIED:20230502T122516Z
UID:40871-1701928800-1701928800@www.se-ma.ch
SUMMARY:Flawil: Roratefeier
DESCRIPTION:Kommunionfeier mit der Oberstufe\, anschliessend Zmorge im Pfarreizentrum
URL:https://www.se-ma.ch/event/flawil-roratefeier/
LOCATION:Kirche St. Laurentius Flawil\, Enzenbühlstrasse 20\, Flawil\, 9230\, Schweiz
CATEGORIES:Gottesdienste,Kinder und Familien
END:VEVENT
BEGIN:VEVENT
DTSTART;TZID=Europe/Zurich:20231207T150000
DTEND;TZID=Europe/Zurich:20231207T163000
DTSTAMP:20260425T174640
CREATED:20230312T163240Z
LAST-MODIFIED:20230312T163240Z
UID:39989-1701961200-1701966600@www.se-ma.ch
SUMMARY:Trauercafé
DESCRIPTION:Das Trauercafé bietet Angehörigen die Möglichkeit\, über das Erlebte zu sprechen und sich mit anderen Betroffenen auszutauschen. Es ist keine Anmeldung nötig. \nHomepage Ökum. Hospizgruppe Flawil
URL:https://www.se-ma.ch/event/trauercafe-9/
LOCATION:Haus 5egg\, Bahnhofstrasse 33\, Flawil\, St. Gallen\, 9230\, Schweiz
CATEGORIES:Anlässe und Veranstaltungen
END:VEVENT
BEGIN:VEVENT
DTSTART;TZID=Europe/Zurich:20231207T200000
DTEND;TZID=Europe/Zurich:20231207T200000
DTSTAMP:20260425T174640
CREATED:20230907T090950Z
LAST-MODIFIED:20230907T090950Z
UID:42810-1701979200-1701979200@www.se-ma.ch
SUMMARY:Ökum. Veranstaltungsreihe "Uf de Spur" - Wie schaffe ich Frieden?
DESCRIPTION:Mit Rahel Steger – Ehemalige Projektleiterin „Jugendliche für Gewaltfreiheit“ im Friedensdorf Broc\, Erwachsenenbildung (Konfliktmanagement)\, Schulleiterin und Heilpädagogin \nFlyer Uf de Spur
URL:https://www.se-ma.ch/event/oekum-veranstaltungsreihe-uf-de-spur-wie-schaffe-ich-frieden-3/
LOCATION:Evangelisch-methodistische Kirche\, Riedernstrasse 13\, Flawil\, 9230\, Schweiz
CATEGORIES:Anlässe und Veranstaltungen
END:VEVENT
END:VCALENDAR