BEGIN:VCALENDAR
VERSION:2.0
PRODID:-//Seelsorgeeinheit Magdenau - ECPv6.15.20//NONSGML v1.0//EN
CALSCALE:GREGORIAN
METHOD:PUBLISH
X-ORIGINAL-URL:https://www.se-ma.ch
X-WR-CALDESC:Veranstaltungen für Seelsorgeeinheit Magdenau
REFRESH-INTERVAL;VALUE=DURATION:PT1H
X-Robots-Tag:noindex
X-PUBLISHED-TTL:PT1H
BEGIN:VTIMEZONE
TZID:Europe/Zurich
BEGIN:DAYLIGHT
TZOFFSETFROM:+0100
TZOFFSETTO:+0200
TZNAME:CEST
DTSTART:20220327T010000
END:DAYLIGHT
BEGIN:STANDARD
TZOFFSETFROM:+0200
TZOFFSETTO:+0100
TZNAME:CET
DTSTART:20221030T010000
END:STANDARD
BEGIN:DAYLIGHT
TZOFFSETFROM:+0100
TZOFFSETTO:+0200
TZNAME:CEST
DTSTART:20230326T010000
END:DAYLIGHT
BEGIN:STANDARD
TZOFFSETFROM:+0200
TZOFFSETTO:+0100
TZNAME:CET
DTSTART:20231029T010000
END:STANDARD
BEGIN:DAYLIGHT
TZOFFSETFROM:+0100
TZOFFSETTO:+0200
TZNAME:CEST
DTSTART:20240331T010000
END:DAYLIGHT
BEGIN:STANDARD
TZOFFSETFROM:+0200
TZOFFSETTO:+0100
TZNAME:CET
DTSTART:20241027T010000
END:STANDARD
END:VTIMEZONE
BEGIN:VEVENT
DTSTART;TZID=Europe/Zurich:20231213T143000
DTEND;TZID=Europe/Zurich:20231213T163000
DTSTAMP:20260425T175049
CREATED:20221216T080602Z
LAST-MODIFIED:20221216T080602Z
UID:38201-1702477800-1702485000@www.se-ma.ch
SUMMARY:Ökumenische Senioren Degersheim - Weihnachtliche Feier
DESCRIPTION:mit gemeinsamem Singen\, Klavierbegleitung durch Wolfgang Hächler.
URL:https://www.se-ma.ch/event/oekumenische-senioren-degersheim-weihnachtliche-feier/
LOCATION:evang. Kirchgemeindehaus Degersheim\, Steineggstrasse 12\, Degersheim\, 9113\, Schweiz
CATEGORIES:Anlässe und Veranstaltungen
END:VEVENT
BEGIN:VEVENT
DTSTART;TZID=Europe/Zurich:20231213T190000
DTEND;TZID=Europe/Zurich:20231213T200000
DTSTAMP:20260425T175049
CREATED:20230517T083815Z
LAST-MODIFIED:20231030T070422Z
UID:41221-1702494000-1702497600@www.se-ma.ch
SUMMARY:Degersheim: Klang & Stille
DESCRIPTION:
URL:https://www.se-ma.ch/event/degersheim-klang-stille-2/
LOCATION:Jakobuskirche Degersheim\, Bergstrasse 10\, Degersheim\, 9113\, Schweiz
CATEGORIES:Anlässe und Veranstaltungen
END:VEVENT
END:VCALENDAR