BEGIN:VCALENDAR
VERSION:2.0
PRODID:-//Seelsorgeeinheit Magdenau - ECPv6.15.20//NONSGML v1.0//EN
CALSCALE:GREGORIAN
METHOD:PUBLISH
X-WR-CALNAME:Seelsorgeeinheit Magdenau
X-ORIGINAL-URL:https://www.se-ma.ch
X-WR-CALDESC:Veranstaltungen für Seelsorgeeinheit Magdenau
REFRESH-INTERVAL;VALUE=DURATION:PT1H
X-Robots-Tag:noindex
X-PUBLISHED-TTL:PT1H
BEGIN:VTIMEZONE
TZID:Europe/Zurich
BEGIN:DAYLIGHT
TZOFFSETFROM:+0100
TZOFFSETTO:+0200
TZNAME:CEST
DTSTART:20220327T010000
END:DAYLIGHT
BEGIN:STANDARD
TZOFFSETFROM:+0200
TZOFFSETTO:+0100
TZNAME:CET
DTSTART:20221030T010000
END:STANDARD
BEGIN:DAYLIGHT
TZOFFSETFROM:+0100
TZOFFSETTO:+0200
TZNAME:CEST
DTSTART:20230326T010000
END:DAYLIGHT
BEGIN:STANDARD
TZOFFSETFROM:+0200
TZOFFSETTO:+0100
TZNAME:CET
DTSTART:20231029T010000
END:STANDARD
BEGIN:DAYLIGHT
TZOFFSETFROM:+0100
TZOFFSETTO:+0200
TZNAME:CEST
DTSTART:20240331T010000
END:DAYLIGHT
BEGIN:STANDARD
TZOFFSETFROM:+0200
TZOFFSETTO:+0100
TZNAME:CET
DTSTART:20241027T010000
END:STANDARD
END:VTIMEZONE
BEGIN:VEVENT
DTSTART;TZID=Europe/Zurich:20231220T170000
DTEND;TZID=Europe/Zurich:20231220T170000
DTSTAMP:20260425T175857
CREATED:20230502T080302Z
LAST-MODIFIED:20231030T071148Z
UID:40772-1703091600-1703091600@www.se-ma.ch
SUMMARY:Niederglatt: Festival der 9 Lesungen und Lieder
DESCRIPTION:Kirchenchor Flawil\nFlyer Festival der neun Lesungen und Lieder
URL:https://www.se-ma.ch/event/niederglatt-festival-der-9-lesungen-und-lieder/
LOCATION:Felix + Regula Kirche Niederglatt\, Niederglatt\, 9240\, Schweiz
CATEGORIES:Anlässe und Veranstaltungen
END:VEVENT
BEGIN:VEVENT
DTSTART;TZID=Europe/Zurich:20231220T190000
DTEND;TZID=Europe/Zurich:20231220T200000
DTSTAMP:20260425T175857
CREATED:20230929T110155Z
LAST-MODIFIED:20231030T070505Z
UID:43280-1703098800-1703102400@www.se-ma.ch
SUMMARY:Degersheim: Klang & Stille
DESCRIPTION:
URL:https://www.se-ma.ch/event/degersheim-klang-stille-3/
LOCATION:Jakobuskirche Degersheim\, Bergstrasse 10\, Degersheim\, 9113\, Schweiz
CATEGORIES:Anlässe und Veranstaltungen
END:VEVENT
END:VCALENDAR