BEGIN:VCALENDAR
VERSION:2.0
PRODID:-//Seelsorgeeinheit Magdenau - ECPv6.15.20//NONSGML v1.0//EN
CALSCALE:GREGORIAN
METHOD:PUBLISH
X-WR-CALNAME:Seelsorgeeinheit Magdenau
X-ORIGINAL-URL:https://www.se-ma.ch
X-WR-CALDESC:Veranstaltungen für Seelsorgeeinheit Magdenau
REFRESH-INTERVAL;VALUE=DURATION:PT1H
X-Robots-Tag:noindex
X-PUBLISHED-TTL:PT1H
BEGIN:VTIMEZONE
TZID:Europe/Zurich
BEGIN:DAYLIGHT
TZOFFSETFROM:+0100
TZOFFSETTO:+0200
TZNAME:CEST
DTSTART:20220327T010000
END:DAYLIGHT
BEGIN:STANDARD
TZOFFSETFROM:+0200
TZOFFSETTO:+0100
TZNAME:CET
DTSTART:20221030T010000
END:STANDARD
BEGIN:DAYLIGHT
TZOFFSETFROM:+0100
TZOFFSETTO:+0200
TZNAME:CEST
DTSTART:20230326T010000
END:DAYLIGHT
BEGIN:STANDARD
TZOFFSETFROM:+0200
TZOFFSETTO:+0100
TZNAME:CET
DTSTART:20231029T010000
END:STANDARD
BEGIN:DAYLIGHT
TZOFFSETFROM:+0100
TZOFFSETTO:+0200
TZNAME:CEST
DTSTART:20240331T010000
END:DAYLIGHT
BEGIN:STANDARD
TZOFFSETFROM:+0200
TZOFFSETTO:+0100
TZNAME:CET
DTSTART:20241027T010000
END:STANDARD
END:VTIMEZONE
BEGIN:VEVENT
DTSTART;TZID=Europe/Zurich:20231225T084500
DTEND;TZID=Europe/Zurich:20231225T094500
DTSTAMP:20260425T174739
CREATED:20230217T101600Z
LAST-MODIFIED:20230217T101600Z
UID:39526-1703493900-1703497500@www.se-ma.ch
SUMMARY:Wolfertswil: Festgottesdienst zu Weihnachten im Kloster Magdenau
DESCRIPTION:
URL:https://www.se-ma.ch/event/wolfertswil-festgottesdienst-zu-weihnachten-im-kloster-magdenau/
LOCATION:Kloster Magdenau
CATEGORIES:Gottesdienste
END:VEVENT
BEGIN:VEVENT
DTSTART;TZID=Europe/Zurich:20231225T101500
DTEND;TZID=Europe/Zurich:20231225T101500
DTSTAMP:20260425T174739
CREATED:20230502T120555Z
LAST-MODIFIED:20230502T120555Z
UID:40859-1703499300-1703499300@www.se-ma.ch
SUMMARY:Flawil: Festgottesdienst zu Weihnachten
DESCRIPTION:Euchariestiefeier mit Kirchenchor und Projektsänger*innen
URL:https://www.se-ma.ch/event/flawil-festgottesdienst-zu-weihnachten/
LOCATION:Kirche St. Laurentius Flawil\, Enzenbühlstrasse 20\, Flawil\, 9230\, Schweiz
CATEGORIES:Gottesdienste
END:VEVENT
BEGIN:VEVENT
DTSTART;TZID=Europe/Zurich:20231225T101500
DTEND;TZID=Europe/Zurich:20231225T111500
DTSTAMP:20260425T174739
CREATED:20230517T085101Z
LAST-MODIFIED:20231121T093510Z
UID:41234-1703499300-1703502900@www.se-ma.ch
SUMMARY:Degersheim: Festgottesdienst zu Weihnachten
DESCRIPTION:mit Instrumentalbegleitung
URL:https://www.se-ma.ch/event/degersheim-festgottesdienst-zu-weihnachten/
LOCATION:Jakobuskirche Degersheim\, Bergstrasse 10\, Degersheim\, 9113\, Schweiz
CATEGORIES:Gottesdienste
END:VEVENT
BEGIN:VEVENT
DTSTART;TZID=Europe/Zurich:20231225T170000
DTEND;TZID=Europe/Zurich:20231225T173000
DTSTAMP:20260425T174739
CREATED:20230905T055852Z
LAST-MODIFIED:20231121T095029Z
UID:42671-1703523600-1703525400@www.se-ma.ch
SUMMARY:Degersheim: Besinnliche Momente an der Krippe
DESCRIPTION:Herzliche Einladung für alle – Einzelpersonen\, Paare oder Familien. Jung und Alt dürfen sich besinnliche Momente beim Jesuskind an der Krippe schenken lassen. Wir überbringen ihm unsere Wünsche fürs neue Jahr. Mit Panflötenbegleitung! \nSilvan Hollenstein
URL:https://www.se-ma.ch/event/degersheim-besinnliche-momente-an-der-krippe/
LOCATION:Jakobuskirche Degersheim\, Bergstrasse 10\, Degersheim\, 9113\, Schweiz
CATEGORIES:Kinder und Familien
END:VEVENT
END:VCALENDAR