BEGIN:VCALENDAR
VERSION:2.0
PRODID:-//Seelsorgeeinheit Magdenau - ECPv6.15.20//NONSGML v1.0//EN
CALSCALE:GREGORIAN
METHOD:PUBLISH
X-WR-CALNAME:Seelsorgeeinheit Magdenau
X-ORIGINAL-URL:https://www.se-ma.ch
X-WR-CALDESC:Veranstaltungen für Seelsorgeeinheit Magdenau
REFRESH-INTERVAL;VALUE=DURATION:PT1H
X-Robots-Tag:noindex
X-PUBLISHED-TTL:PT1H
BEGIN:VTIMEZONE
TZID:Europe/Zurich
BEGIN:DAYLIGHT
TZOFFSETFROM:+0100
TZOFFSETTO:+0200
TZNAME:CEST
DTSTART:20230326T010000
END:DAYLIGHT
BEGIN:STANDARD
TZOFFSETFROM:+0200
TZOFFSETTO:+0100
TZNAME:CET
DTSTART:20231029T010000
END:STANDARD
BEGIN:DAYLIGHT
TZOFFSETFROM:+0100
TZOFFSETTO:+0200
TZNAME:CEST
DTSTART:20240331T010000
END:DAYLIGHT
BEGIN:STANDARD
TZOFFSETFROM:+0200
TZOFFSETTO:+0100
TZNAME:CET
DTSTART:20241027T010000
END:STANDARD
BEGIN:DAYLIGHT
TZOFFSETFROM:+0100
TZOFFSETTO:+0200
TZNAME:CEST
DTSTART:20250330T010000
END:DAYLIGHT
BEGIN:STANDARD
TZOFFSETFROM:+0200
TZOFFSETTO:+0100
TZNAME:CET
DTSTART:20251026T010000
END:STANDARD
END:VTIMEZONE
BEGIN:VEVENT
DTSTART;TZID=Europe/Zurich:20240117T100000
DTEND;TZID=Europe/Zurich:20240117T100000
DTSTAMP:20260425T160726
CREATED:20231212T174943Z
LAST-MODIFIED:20231212T175000Z
UID:44549-1705485600-1705485600@www.se-ma.ch
SUMMARY:Begegnungsmosaik: Mittwochskaffee
DESCRIPTION:
URL:https://www.se-ma.ch/event/begegnungsmosaik-mittwochskaffee-3/
LOCATION:Pfarreizentrum Flawil\, Enzenbühlstrasse 16\, Flawil\, 9230\, Schweiz
CATEGORIES:Anlässe und Veranstaltungen
END:VEVENT
BEGIN:VEVENT
DTSTART;TZID=Europe/Zurich:20240117T114500
DTEND;TZID=Europe/Zurich:20240117T140000
DTSTAMP:20260425T160726
CREATED:20240112T081113Z
LAST-MODIFIED:20240112T081113Z
UID:44926-1705491900-1705500000@www.se-ma.ch
SUMMARY:Degersheim: zämä ässä
DESCRIPTION:Ein bunt zusammengewürfeltes Küchenteam kocht und serviert speziell für Sie. Der Preis beträgt Fr. 10.00. \nWir freuen uns über alle\, die Lust haben\, gemeinsam zu essen und zu plaudern. Anmeldung bitte jeweils bis spätestens am Montag\, vor dem „zämä ässä“ Mittwoch an: \nhc.am-esobfsctd-79b0d6@miehsreged-tairaterkes oder Tel. 071 371 10 17
URL:https://www.se-ma.ch/event/degersheim-zaemae-aessae/
LOCATION:Pfarreiheim
CATEGORIES:Anlässe und Veranstaltungen
END:VEVENT
BEGIN:VEVENT
DTSTART;TZID=Europe/Zurich:20240117T143000
DTEND;TZID=Europe/Zurich:20240117T143000
DTSTAMP:20260425T160726
CREATED:20240117T075714Z
LAST-MODIFIED:20240117T075937Z
UID:44981-1705501800-1705501800@www.se-ma.ch
SUMMARY:Flawil: SEMAplus Senioren
DESCRIPTION:Seniorennachmittag im Pfarreizentrum \nFilmnachmittag \nJahresprogramm
URL:https://www.se-ma.ch/event/flawil-semaplus-senioren/
LOCATION:Pfarreizentrum Flawil\, Enzenbühlstrasse 16\, Flawil\, 9230\, Schweiz
END:VEVENT
BEGIN:VEVENT
DTSTART;TZID=Europe/Zurich:20240117T190000
DTEND;TZID=Europe/Zurich:20240117T190000
DTSTAMP:20260425T160726
CREATED:20231212T175201Z
LAST-MODIFIED:20231212T175201Z
UID:44555-1705518000-1705518000@www.se-ma.ch
SUMMARY:Begegnungsmosaik: Line Dance
DESCRIPTION:
URL:https://www.se-ma.ch/event/begegnungsmosaik-line-dance-2/
LOCATION:Pfarreizentrum Flawil\, Enzenbühlstrasse 16\, Flawil\, 9230\, Schweiz
CATEGORIES:Anlässe und Veranstaltungen
END:VEVENT
END:VCALENDAR