BEGIN:VCALENDAR
VERSION:2.0
PRODID:-//Seelsorgeeinheit Magdenau - ECPv6.15.20//NONSGML v1.0//EN
CALSCALE:GREGORIAN
METHOD:PUBLISH
X-ORIGINAL-URL:https://www.se-ma.ch
X-WR-CALDESC:Veranstaltungen für Seelsorgeeinheit Magdenau
REFRESH-INTERVAL;VALUE=DURATION:PT1H
X-Robots-Tag:noindex
X-PUBLISHED-TTL:PT1H
BEGIN:VTIMEZONE
TZID:Europe/Zurich
BEGIN:DAYLIGHT
TZOFFSETFROM:+0100
TZOFFSETTO:+0200
TZNAME:CEST
DTSTART:20230326T010000
END:DAYLIGHT
BEGIN:STANDARD
TZOFFSETFROM:+0200
TZOFFSETTO:+0100
TZNAME:CET
DTSTART:20231029T010000
END:STANDARD
BEGIN:DAYLIGHT
TZOFFSETFROM:+0100
TZOFFSETTO:+0200
TZNAME:CEST
DTSTART:20240331T010000
END:DAYLIGHT
BEGIN:STANDARD
TZOFFSETFROM:+0200
TZOFFSETTO:+0100
TZNAME:CET
DTSTART:20241027T010000
END:STANDARD
BEGIN:DAYLIGHT
TZOFFSETFROM:+0100
TZOFFSETTO:+0200
TZNAME:CEST
DTSTART:20250330T010000
END:DAYLIGHT
BEGIN:STANDARD
TZOFFSETFROM:+0200
TZOFFSETTO:+0100
TZNAME:CET
DTSTART:20251026T010000
END:STANDARD
END:VTIMEZONE
BEGIN:VEVENT
DTSTART;TZID=Europe/Zurich:20240128T083000
DTEND;TZID=Europe/Zurich:20240128T083000
DTSTAMP:20260425T161106
CREATED:20231114T135029Z
LAST-MODIFIED:20231114T135046Z
UID:44056-1706430600-1706430600@www.se-ma.ch
SUMMARY:Eucharistiefeier in Italienisch
DESCRIPTION:
URL:https://www.se-ma.ch/event/eucharistiefeier-in-italienisch-35/
LOCATION:Kapelle St. Laurentius Flawil\, Enzenbühlstrasse 20\, Flawil\, 9230\, Schweiz
CATEGORIES:Gottesdienste
END:VEVENT
BEGIN:VEVENT
DTSTART;TZID=Europe/Zurich:20240128T084500
DTEND;TZID=Europe/Zurich:20240128T094500
DTSTAMP:20260425T161106
CREATED:20231213T161600Z
LAST-MODIFIED:20231222T124850Z
UID:44623-1706431500-1706435100@www.se-ma.ch
SUMMARY:Kloster Magdenau: Eucharistiefeier mit Blasiusegen\, Kerzen- u. Brotsegnung\,
DESCRIPTION:
URL:https://www.se-ma.ch/event/magdenau-eucharistiefeier-mit-blasiusegen-kerzen-u-brotsegnung/
LOCATION:Kloster Magdenau
CATEGORIES:Gottesdienste
END:VEVENT
BEGIN:VEVENT
DTSTART;TZID=Europe/Zurich:20240128T101500
DTEND;TZID=Europe/Zurich:20240128T101500
DTSTAMP:20260425T161106
CREATED:20231114T141230Z
LAST-MODIFIED:20231121T064325Z
UID:44086-1706436900-1706436900@www.se-ma.ch
SUMMARY:Flawil: Eucharistiefeier mit derHarmoniemusik Flawil
DESCRIPTION:Kerzensegnung\, anschliessend Blasiussegen
URL:https://www.se-ma.ch/event/flawil-eucharistiefeier-mit-dem-musikverein-harmonie/
LOCATION:Kirche St. Laurentius Flawil\, Enzenbühlstrasse 20\, Flawil\, 9230\, Schweiz
CATEGORIES:Gottesdienste
END:VEVENT
BEGIN:VEVENT
DTSTART;TZID=Europe/Zurich:20240128T190000
DTEND;TZID=Europe/Zurich:20240128T190000
DTSTAMP:20260425T161106
CREATED:20231212T175918Z
LAST-MODIFIED:20231212T175918Z
UID:44573-1706468400-1706468400@www.se-ma.ch
SUMMARY:Begegnungsmosaik: Tanzkurs
DESCRIPTION:4 Abende\nAnmeldung bis 20. Dezember ans Pfarreisekretariat\nKosten: 125.00 pro Person (4×2 Stunden)
URL:https://www.se-ma.ch/event/begegnungsmosaik-tanzkurs-4/
LOCATION:Pfarreizentrum Flawil\, Enzenbühlstrasse 16\, Flawil\, 9230\, Schweiz
CATEGORIES:Anlässe und Veranstaltungen
END:VEVENT
END:VCALENDAR