BEGIN:VCALENDAR
VERSION:2.0
PRODID:-//Seelsorgeeinheit Magdenau - ECPv6.15.20//NONSGML v1.0//EN
CALSCALE:GREGORIAN
METHOD:PUBLISH
X-ORIGINAL-URL:https://www.se-ma.ch
X-WR-CALDESC:Veranstaltungen für Seelsorgeeinheit Magdenau
REFRESH-INTERVAL;VALUE=DURATION:PT1H
X-Robots-Tag:noindex
X-PUBLISHED-TTL:PT1H
BEGIN:VTIMEZONE
TZID:Europe/Zurich
BEGIN:DAYLIGHT
TZOFFSETFROM:+0100
TZOFFSETTO:+0200
TZNAME:CEST
DTSTART:20230326T010000
END:DAYLIGHT
BEGIN:STANDARD
TZOFFSETFROM:+0200
TZOFFSETTO:+0100
TZNAME:CET
DTSTART:20231029T010000
END:STANDARD
BEGIN:DAYLIGHT
TZOFFSETFROM:+0100
TZOFFSETTO:+0200
TZNAME:CEST
DTSTART:20240331T010000
END:DAYLIGHT
BEGIN:STANDARD
TZOFFSETFROM:+0200
TZOFFSETTO:+0100
TZNAME:CET
DTSTART:20241027T010000
END:STANDARD
BEGIN:DAYLIGHT
TZOFFSETFROM:+0100
TZOFFSETTO:+0200
TZNAME:CEST
DTSTART:20250330T010000
END:DAYLIGHT
BEGIN:STANDARD
TZOFFSETFROM:+0200
TZOFFSETTO:+0100
TZNAME:CET
DTSTART:20251026T010000
END:STANDARD
END:VTIMEZONE
BEGIN:VEVENT
DTSTART;TZID=Europe/Zurich:20240214T091500
DTEND;TZID=Europe/Zurich:20240214T091500
DTSTAMP:20260425T142558
CREATED:20231116T072254Z
LAST-MODIFIED:20240110T152638Z
UID:44153-1707902100-1707902100@www.se-ma.ch
SUMMARY:Flawil: Eucharistiefeier mit Aschenauflegung
DESCRIPTION:
URL:https://www.se-ma.ch/event/flawil-gottesdienst-mit-aschenauflegung/
LOCATION:Kirche St. Laurentius Flawil\, Enzenbühlstrasse 20\, Flawil\, 9230\, Schweiz
CATEGORIES:Gottesdienste
END:VEVENT
BEGIN:VEVENT
DTSTART;TZID=Europe/Zurich:20240214T114500
DTEND;TZID=Europe/Zurich:20240214T140000
DTSTAMP:20260425T142558
CREATED:20240112T081326Z
LAST-MODIFIED:20240126T085857Z
UID:44929-1707911100-1707919200@www.se-ma.ch
SUMMARY:Degersheim: zämä ässä
DESCRIPTION:Wir freuen uns über alle\, die Lust haben\, gemeinsam zu essen\, zu geniessen und zu plaudern. Ein bunt zusammengewürfeltes Küchenteam kocht und serviert speziell für Sie! Der Preis beträgt Fr. 10.00. Bitte geben Sie bei der Anmeldung an\, ob Sie Unverträglichkeiten (vegetarisch\, vegan etc.) haben! Gerne nehmen wir Ihre Anmeldung bis spätestens Freitag\, 09. Februar entgegen: \nhc.am-esobfsctd-936eb4@miehsreged-tairaterkes oder T 071 371 10 17
URL:https://www.se-ma.ch/event/degersheim-zaemae-aessae-2/
LOCATION:Pfarreiheim
CATEGORIES:Anlässe und Veranstaltungen
END:VEVENT
BEGIN:VEVENT
DTSTART;TZID=Europe/Zurich:20240214T190000
DTEND;TZID=Europe/Zurich:20240214T200000
DTSTAMP:20260425T142558
CREATED:20231018T075538Z
LAST-MODIFIED:20231018T075538Z
UID:43524-1707937200-1707940800@www.se-ma.ch
SUMMARY:Degersheim: Eucharistiefeier
DESCRIPTION:mit Aschenauflegung
URL:https://www.se-ma.ch/event/degersheim-eucharistiefeier-17/
LOCATION:Jakobuskirche Degersheim\, Bergstrasse 10\, Degersheim\, 9113\, Schweiz
CATEGORIES:Gottesdienste
END:VEVENT
END:VCALENDAR