BEGIN:VCALENDAR
VERSION:2.0
PRODID:-//Seelsorgeeinheit Magdenau - ECPv6.15.20//NONSGML v1.0//EN
CALSCALE:GREGORIAN
METHOD:PUBLISH
X-ORIGINAL-URL:https://www.se-ma.ch
X-WR-CALDESC:Veranstaltungen für Seelsorgeeinheit Magdenau
REFRESH-INTERVAL;VALUE=DURATION:PT1H
X-Robots-Tag:noindex
X-PUBLISHED-TTL:PT1H
BEGIN:VTIMEZONE
TZID:Europe/Zurich
BEGIN:DAYLIGHT
TZOFFSETFROM:+0100
TZOFFSETTO:+0200
TZNAME:CEST
DTSTART:20230326T010000
END:DAYLIGHT
BEGIN:STANDARD
TZOFFSETFROM:+0200
TZOFFSETTO:+0100
TZNAME:CET
DTSTART:20231029T010000
END:STANDARD
BEGIN:DAYLIGHT
TZOFFSETFROM:+0100
TZOFFSETTO:+0200
TZNAME:CEST
DTSTART:20240331T010000
END:DAYLIGHT
BEGIN:STANDARD
TZOFFSETFROM:+0200
TZOFFSETTO:+0100
TZNAME:CET
DTSTART:20241027T010000
END:STANDARD
BEGIN:DAYLIGHT
TZOFFSETFROM:+0100
TZOFFSETTO:+0200
TZNAME:CEST
DTSTART:20250330T010000
END:DAYLIGHT
BEGIN:STANDARD
TZOFFSETFROM:+0200
TZOFFSETTO:+0100
TZNAME:CET
DTSTART:20251026T010000
END:STANDARD
END:VTIMEZONE
BEGIN:VEVENT
DTSTART;VALUE=DATE:20240303
DTEND;VALUE=DATE:20240309
DTSTAMP:20260425T122801
CREATED:20240214T151943Z
LAST-MODIFIED:20240214T151943Z
UID:45475-1709424000-1709942399@www.se-ma.ch
SUMMARY:Ökumenische Fastenwoche
DESCRIPTION:Fastenwoche vom 3.-8. März in Flawil \nDen Abschluss bildet am Freitag\, 8. März um 18.30 Uhr der Gottesdienst in der Kapelle Flawil \nFlyer Fastenwoche
URL:https://www.se-ma.ch/event/oekumenische-fastenwoche-2/
LOCATION:Unterkapellenraum Flawil
CATEGORIES:Anlässe und Veranstaltungen
END:VEVENT
BEGIN:VEVENT
DTSTART;TZID=Europe/Zurich:20240308T113000
DTEND;TZID=Europe/Zurich:20240308T113000
DTSTAMP:20260425T122801
CREATED:20240214T155507Z
LAST-MODIFIED:20240214T155507Z
UID:45510-1709897400-1709897400@www.se-ma.ch
SUMMARY:Flawil: Suppenzmittag
DESCRIPTION:Während der Fastenzeit wird wieder eine feine Suppe gekocht. Das Koch-Team freut sich auf viele Gäste an den gedeckten Tischen.
URL:https://www.se-ma.ch/event/flawil-suppenzmittag-4/
LOCATION:Pfarreizentrum Flawil\, Enzenbühlstrasse 16\, Flawil\, 9230\, Schweiz
CATEGORIES:Anlässe und Veranstaltungen,Kinder und Familien
END:VEVENT
BEGIN:VEVENT
DTSTART;TZID=Europe/Zurich:20240308T183000
DTEND;TZID=Europe/Zurich:20240308T183000
DTSTAMP:20260425T122801
CREATED:20240214T153301Z
LAST-MODIFIED:20240223T073234Z
UID:45481-1709922600-1709922600@www.se-ma.ch
SUMMARY:Flawil: Begegnungsfeier
DESCRIPTION:In dieser Feier erleben Schülerinnen und Schüler ab der 1. Klasse und Jugendliche die Gemeinschaft und dürfen sich aktiv selbst daran beteiligen\, wenn sie das möchten und sich als junger Christ mit Lebensfragen auseinanderzusetzen. Die Kinder können gerne begleitet werden\, dürfen diese Feiern aber auch selbstständig besuchen. Im Anschluss geht die Begegnung jeweils bei einem kleinen Apéro weiter. Kommt doch auch! \nFlyer Begegnungsfeier \nÜbersicht Chinderfiiren
URL:https://www.se-ma.ch/event/flawil-begegnungsfeier/
LOCATION:Kapelle St. Laurentius Flawil\, Enzenbühlstrasse 20\, Flawil\, 9230\, Schweiz
CATEGORIES:Gottesdienste,Kinder und Familien
END:VEVENT
END:VCALENDAR