BEGIN:VCALENDAR
VERSION:2.0
PRODID:-//Seelsorgeeinheit Magdenau - ECPv6.15.20//NONSGML v1.0//EN
CALSCALE:GREGORIAN
METHOD:PUBLISH
X-WR-CALNAME:Seelsorgeeinheit Magdenau
X-ORIGINAL-URL:https://www.se-ma.ch
X-WR-CALDESC:Veranstaltungen für Seelsorgeeinheit Magdenau
REFRESH-INTERVAL;VALUE=DURATION:PT1H
X-Robots-Tag:noindex
X-PUBLISHED-TTL:PT1H
BEGIN:VTIMEZONE
TZID:Europe/Zurich
BEGIN:DAYLIGHT
TZOFFSETFROM:+0100
TZOFFSETTO:+0200
TZNAME:CEST
DTSTART:20230326T010000
END:DAYLIGHT
BEGIN:STANDARD
TZOFFSETFROM:+0200
TZOFFSETTO:+0100
TZNAME:CET
DTSTART:20231029T010000
END:STANDARD
BEGIN:DAYLIGHT
TZOFFSETFROM:+0100
TZOFFSETTO:+0200
TZNAME:CEST
DTSTART:20240331T010000
END:DAYLIGHT
BEGIN:STANDARD
TZOFFSETFROM:+0200
TZOFFSETTO:+0100
TZNAME:CET
DTSTART:20241027T010000
END:STANDARD
BEGIN:DAYLIGHT
TZOFFSETFROM:+0100
TZOFFSETTO:+0200
TZNAME:CEST
DTSTART:20250330T010000
END:DAYLIGHT
BEGIN:STANDARD
TZOFFSETFROM:+0200
TZOFFSETTO:+0100
TZNAME:CET
DTSTART:20251026T010000
END:STANDARD
END:VTIMEZONE
BEGIN:VEVENT
DTSTART;TZID=Europe/Zurich:20240317T084500
DTEND;TZID=Europe/Zurich:20240317T084500
DTSTAMP:20260425T122559
CREATED:20231114T101049Z
LAST-MODIFIED:20231114T133639Z
UID:43916-1710665100-1710665100@www.se-ma.ch
SUMMARY:Niederglatt: Kommunionfeier für Paare
DESCRIPTION:
URL:https://www.se-ma.ch/event/niederglatt-kommunionfeier-fuer-paare/
LOCATION:Felix + Regula Kirche Niederglatt\, Niederglatt\, 9240\, Schweiz
CATEGORIES:Gottesdienste
END:VEVENT
BEGIN:VEVENT
DTSTART;TZID=Europe/Zurich:20240317T093000
DTEND;TZID=Europe/Zurich:20240317T093000
DTSTAMP:20260425T122559
CREATED:20231114T133215Z
LAST-MODIFIED:20231114T133215Z
UID:44027-1710667800-1710667800@www.se-ma.ch
SUMMARY:Flawil: Eucharistiefeier in Spanisch
DESCRIPTION:
URL:https://www.se-ma.ch/event/flawil-eucharistiefeier-in-spanisch-28/
LOCATION:Kapelle St. Laurentius Flawil\, Enzenbühlstrasse 20\, Flawil\, 9230\, Schweiz
CATEGORIES:Gottesdienste
END:VEVENT
BEGIN:VEVENT
DTSTART;TZID=Europe/Zurich:20240317T101500
DTEND;TZID=Europe/Zurich:20240317T101500
DTSTAMP:20260425T122559
CREATED:20231114T142215Z
LAST-MODIFIED:20231114T142215Z
UID:44102-1710670500-1710670500@www.se-ma.ch
SUMMARY:Flawil: Kommunionfeier für Paare
DESCRIPTION:
URL:https://www.se-ma.ch/event/flawil-kommunionfeier-fuer-paare/
LOCATION:Kirche St. Laurentius Flawil\, Enzenbühlstrasse 20\, Flawil\, 9230\, Schweiz
CATEGORIES:Gottesdienste
END:VEVENT
BEGIN:VEVENT
DTSTART;TZID=Europe/Zurich:20240317T173000
DTEND;TZID=Europe/Zurich:20240317T183000
DTSTAMP:20260425T122559
CREATED:20231018T080143Z
LAST-MODIFIED:20231018T080143Z
UID:43530-1710696600-1710700200@www.se-ma.ch
SUMMARY:Degersheim: Abendlob zur Fastenzeit
DESCRIPTION:
URL:https://www.se-ma.ch/event/degersheim-abendlob-zur-fastenzeit-3/
LOCATION:Jakobuskirche Kapelle Degersheim\, Bergstrasse 10\, Degersheim\, St. Gallen\, 9113\, Schweiz
CATEGORIES:Gottesdienste
END:VEVENT
END:VCALENDAR