BEGIN:VCALENDAR
VERSION:2.0
PRODID:-//Seelsorgeeinheit Magdenau - ECPv6.15.20//NONSGML v1.0//EN
CALSCALE:GREGORIAN
METHOD:PUBLISH
X-ORIGINAL-URL:https://www.se-ma.ch
X-WR-CALDESC:Veranstaltungen für Seelsorgeeinheit Magdenau
REFRESH-INTERVAL;VALUE=DURATION:PT1H
X-Robots-Tag:noindex
X-PUBLISHED-TTL:PT1H
BEGIN:VTIMEZONE
TZID:Europe/Zurich
BEGIN:DAYLIGHT
TZOFFSETFROM:+0100
TZOFFSETTO:+0200
TZNAME:CEST
DTSTART:20230326T010000
END:DAYLIGHT
BEGIN:STANDARD
TZOFFSETFROM:+0200
TZOFFSETTO:+0100
TZNAME:CET
DTSTART:20231029T010000
END:STANDARD
BEGIN:DAYLIGHT
TZOFFSETFROM:+0100
TZOFFSETTO:+0200
TZNAME:CEST
DTSTART:20240331T010000
END:DAYLIGHT
BEGIN:STANDARD
TZOFFSETFROM:+0200
TZOFFSETTO:+0100
TZNAME:CET
DTSTART:20241027T010000
END:STANDARD
BEGIN:DAYLIGHT
TZOFFSETFROM:+0100
TZOFFSETTO:+0200
TZNAME:CEST
DTSTART:20250330T010000
END:DAYLIGHT
BEGIN:STANDARD
TZOFFSETFROM:+0200
TZOFFSETTO:+0100
TZNAME:CET
DTSTART:20251026T010000
END:STANDARD
END:VTIMEZONE
BEGIN:VEVENT
DTSTART;TZID=Europe/Zurich:20240324T083000
DTEND;TZID=Europe/Zurich:20240324T083000
DTSTAMP:20260425T124243
CREATED:20231114T135122Z
LAST-MODIFIED:20231114T135122Z
UID:44060-1711269000-1711269000@www.se-ma.ch
SUMMARY:Eucharistiefeier in Italienisch
DESCRIPTION:
URL:https://www.se-ma.ch/event/eucharistiefeier-in-italienisch-37/
LOCATION:Kapelle St. Laurentius Flawil\, Enzenbühlstrasse 20\, Flawil\, 9230\, Schweiz
CATEGORIES:Gottesdienste
END:VEVENT
BEGIN:VEVENT
DTSTART;TZID=Europe/Zurich:20240324T101500
DTEND;TZID=Europe/Zurich:20240324T101500
DTSTAMP:20260425T124243
CREATED:20231114T101211Z
LAST-MODIFIED:20240314T080517Z
UID:43918-1711275300-1711275300@www.se-ma.ch
SUMMARY:Niederglatt: Kommunionfeier zum Palmsonntag
DESCRIPTION:mit der Familiengottesdienstgruppe\, anschliessend Suppentag
URL:https://www.se-ma.ch/event/niederglatt-kommunionfeier-zum-palmsonntag/
LOCATION:Felix + Regula Kirche Niederglatt\, Niederglatt\, 9240\, Schweiz
CATEGORIES:Gottesdienste,Kinder und Familien
END:VEVENT
BEGIN:VEVENT
DTSTART;TZID=Europe/Zurich:20240324T101500
DTEND;TZID=Europe/Zurich:20240324T101500
DTSTAMP:20260425T124243
CREATED:20231114T142330Z
LAST-MODIFIED:20231114T142336Z
UID:44104-1711275300-1711275300@www.se-ma.ch
SUMMARY:Flawil: Kommunionfeier zum Palmsonntag
DESCRIPTION:mit Blauring und Pfadi\, anschliessend Spaghettata im Pfarreizentrum
URL:https://www.se-ma.ch/event/flawil-kommunionfeier-zum-palmsonntag/
LOCATION:Kirche St. Laurentius Flawil\, Enzenbühlstrasse 20\, Flawil\, 9230\, Schweiz
CATEGORIES:Anlässe und Veranstaltungen,Gottesdienste,Kinder und Familien
END:VEVENT
BEGIN:VEVENT
DTSTART;TZID=Europe/Zurich:20240324T101500
DTEND;TZID=Europe/Zurich:20240324T101500
DTSTAMP:20260425T124243
CREATED:20240214T153807Z
LAST-MODIFIED:20240223T073325Z
UID:45489-1711275300-1711275300@www.se-ma.ch
SUMMARY:Flawil: Begegnungsfeier
DESCRIPTION:Im Rahmen des Palsonntag-Gottesdienstes. Anschliessend Spaghettata im Pfarreizentrum \nFlyer Begegnungsfeier\n \nÜbersicht Chinderfiiren
URL:https://www.se-ma.ch/event/flawil-begegnungsfeier-5/
LOCATION:Kirche St. Laurentius Flawil\, Enzenbühlstrasse 20\, Flawil\, 9230\, Schweiz
CATEGORIES:Gottesdienste,Kinder und Familien
END:VEVENT
BEGIN:VEVENT
DTSTART;TZID=Europe/Zurich:20240324T101500
DTEND;TZID=Europe/Zurich:20240324T113000
DTSTAMP:20260425T124243
CREATED:20231018T071808Z
LAST-MODIFIED:20240126T090053Z
UID:43498-1711275300-1711279800@www.se-ma.ch
SUMMARY:Wolfertswil: Eucharistiefeier zum Palmsonntag
DESCRIPTION:mit Erstkommunionkindern
URL:https://www.se-ma.ch/event/degersheim-eucharistiefeier-zum-palmsonntag/
LOCATION:Kirche Bruder Klaus\, Wolfertswil\, 9116
CATEGORIES:Gottesdienste,Kinder und Familien
END:VEVENT
BEGIN:VEVENT
DTSTART;TZID=Europe/Zurich:20240324T113000
DTEND;TZID=Europe/Zurich:20240324T113000
DTSTAMP:20260425T124243
CREATED:20240117T094230Z
LAST-MODIFIED:20240314T080726Z
UID:45018-1711279800-1711279800@www.se-ma.ch
SUMMARY:Niederglatt: Frauengemeinschaft
DESCRIPTION:Suppentag in Niederglatt\, Kuchenbuffet von der FG \nJahresprogramm 2024
URL:https://www.se-ma.ch/event/niederglatt-frauengemeinschaft-4/
LOCATION:Pavillon Niederglatt
END:VEVENT
END:VCALENDAR