BEGIN:VCALENDAR
VERSION:2.0
PRODID:-//Seelsorgeeinheit Magdenau - ECPv6.15.20//NONSGML v1.0//EN
CALSCALE:GREGORIAN
METHOD:PUBLISH
X-WR-CALNAME:Seelsorgeeinheit Magdenau
X-ORIGINAL-URL:https://www.se-ma.ch
X-WR-CALDESC:Veranstaltungen für Seelsorgeeinheit Magdenau
REFRESH-INTERVAL;VALUE=DURATION:PT1H
X-Robots-Tag:noindex
X-PUBLISHED-TTL:PT1H
BEGIN:VTIMEZONE
TZID:Europe/Zurich
BEGIN:DAYLIGHT
TZOFFSETFROM:+0100
TZOFFSETTO:+0200
TZNAME:CEST
DTSTART:20230326T010000
END:DAYLIGHT
BEGIN:STANDARD
TZOFFSETFROM:+0200
TZOFFSETTO:+0100
TZNAME:CET
DTSTART:20231029T010000
END:STANDARD
BEGIN:DAYLIGHT
TZOFFSETFROM:+0100
TZOFFSETTO:+0200
TZNAME:CEST
DTSTART:20240331T010000
END:DAYLIGHT
BEGIN:STANDARD
TZOFFSETFROM:+0200
TZOFFSETTO:+0100
TZNAME:CET
DTSTART:20241027T010000
END:STANDARD
BEGIN:DAYLIGHT
TZOFFSETFROM:+0100
TZOFFSETTO:+0200
TZNAME:CEST
DTSTART:20250330T010000
END:DAYLIGHT
BEGIN:STANDARD
TZOFFSETFROM:+0200
TZOFFSETTO:+0100
TZNAME:CET
DTSTART:20251026T010000
END:STANDARD
END:VTIMEZONE
BEGIN:VEVENT
DTSTART;TZID=Europe/Zurich:20240329T080000
DTEND;TZID=Europe/Zurich:20240329T170000
DTSTAMP:20260425T122610
CREATED:20240327T093001Z
LAST-MODIFIED:20240327T093001Z
UID:46376-1711699200-1711731600@www.se-ma.ch
SUMMARY:Degersheim und Wolfertswil: Die Sekretariate bleiben heute geschlossen!
DESCRIPTION:
URL:https://www.se-ma.ch/event/degersheim-und-wolfertswil-die-sekretariate-bleiben-heute-geschlossen/
LOCATION:kath. Pfarramt Degersheim\, Friedbergstrasse 2\, 9113 Degersheim\, 9113\, Schweiz
CATEGORIES:Anlässe und Veranstaltungen
END:VEVENT
BEGIN:VEVENT
DTSTART;TZID=Europe/Zurich:20240329T103000
DTEND;TZID=Europe/Zurich:20240329T103000
DTSTAMP:20260425T122610
CREATED:20231114T142903Z
LAST-MODIFIED:20240223T073739Z
UID:44110-1711708200-1711708200@www.se-ma.ch
SUMMARY:Flawil: Begegnungsfeier zum Karfreitag für Familien
DESCRIPTION:Flyer Begegungsfeier \nÜbersicht Chinderfiiren
URL:https://www.se-ma.ch/event/flawil-feier-zum-karfreitag-fuer-familien-2/
LOCATION:Kirche St. Laurentius Flawil\, Enzenbühlstrasse 20\, Flawil\, 9230\, Schweiz
CATEGORIES:Gottesdienste,Kinder und Familien
END:VEVENT
BEGIN:VEVENT
DTSTART;TZID=Europe/Zurich:20240329T103000
DTEND;TZID=Europe/Zurich:20240329T103000
DTSTAMP:20260425T122610
CREATED:20240214T154109Z
LAST-MODIFIED:20240214T154109Z
UID:45493-1711708200-1711708200@www.se-ma.ch
SUMMARY:Flawil: Begegnungsfeier
DESCRIPTION:Begegnungsfeier zum Karfreitag \nFlyer Begegnungsfeier
URL:https://www.se-ma.ch/event/flawil-begegnungsfeier-7/
LOCATION:Kirche St. Laurentius Flawil\, Enzenbühlstrasse 20\, Flawil\, 9230\, Schweiz
CATEGORIES:Gottesdienste,Kinder und Familien
END:VEVENT
BEGIN:VEVENT
DTSTART;TZID=Europe/Zurich:20240329T150000
DTEND;TZID=Europe/Zurich:20240329T160000
DTSTAMP:20260425T122610
CREATED:20231018T072714Z
LAST-MODIFIED:20231018T072714Z
UID:43500-1711724400-1711728000@www.se-ma.ch
SUMMARY:Degersheim: Feier zum Karfreitag für Familien
DESCRIPTION:mit Karfreitags-Rätschen
URL:https://www.se-ma.ch/event/degersheim-feier-zum-karfreitag-fuer-familien/
LOCATION:Jakobuskirche Degersheim\, Bergstrasse 10\, Degersheim\, 9113\, Schweiz
CATEGORIES:Gottesdienste,Kinder und Familien
END:VEVENT
BEGIN:VEVENT
DTSTART;TZID=Europe/Zurich:20240329T170000
DTEND;TZID=Europe/Zurich:20240329T170000
DTSTAMP:20260425T122610
CREATED:20231213T162847Z
LAST-MODIFIED:20240208T120835Z
UID:44633-1711731600-1711731600@www.se-ma.ch
SUMMARY:Wolfertswil: Kreuzweg für Erwachsene für die ganze Seelsorgeeinheit
DESCRIPTION:
URL:https://www.se-ma.ch/event/wolfertswil-kreuzweg-fuer-erwachsene-fuer-die-ganze-seelsorgeeinheit/
LOCATION:Kirche Bruder Klaus\, Wolfertswil\, 9116
END:VEVENT
BEGIN:VEVENT
DTSTART;TZID=Europe/Zurich:20240329T190000
DTEND;TZID=Europe/Zurich:20240329T200000
DTSTAMP:20260425T122610
CREATED:20231018T073133Z
LAST-MODIFIED:20231018T073133Z
UID:43502-1711738800-1711742400@www.se-ma.ch
SUMMARY:Degersheim: Klang und Stille
DESCRIPTION:
URL:https://www.se-ma.ch/event/degersheim-klang-und-stille/
LOCATION:Jakobuskirche Degersheim\, Bergstrasse 10\, Degersheim\, 9113\, Schweiz
CATEGORIES:Anlässe und Veranstaltungen
END:VEVENT
END:VCALENDAR