BEGIN:VCALENDAR
VERSION:2.0
PRODID:-//Seelsorgeeinheit Magdenau - ECPv6.15.20//NONSGML v1.0//EN
CALSCALE:GREGORIAN
METHOD:PUBLISH
X-ORIGINAL-URL:https://www.se-ma.ch
X-WR-CALDESC:Veranstaltungen für Seelsorgeeinheit Magdenau
REFRESH-INTERVAL;VALUE=DURATION:PT1H
X-Robots-Tag:noindex
X-PUBLISHED-TTL:PT1H
BEGIN:VTIMEZONE
TZID:Europe/Zurich
BEGIN:DAYLIGHT
TZOFFSETFROM:+0100
TZOFFSETTO:+0200
TZNAME:CEST
DTSTART:20230326T010000
END:DAYLIGHT
BEGIN:STANDARD
TZOFFSETFROM:+0200
TZOFFSETTO:+0100
TZNAME:CET
DTSTART:20231029T010000
END:STANDARD
BEGIN:DAYLIGHT
TZOFFSETFROM:+0100
TZOFFSETTO:+0200
TZNAME:CEST
DTSTART:20240331T010000
END:DAYLIGHT
BEGIN:STANDARD
TZOFFSETFROM:+0200
TZOFFSETTO:+0100
TZNAME:CET
DTSTART:20241027T010000
END:STANDARD
BEGIN:DAYLIGHT
TZOFFSETFROM:+0100
TZOFFSETTO:+0200
TZNAME:CEST
DTSTART:20250330T010000
END:DAYLIGHT
BEGIN:STANDARD
TZOFFSETFROM:+0200
TZOFFSETTO:+0100
TZNAME:CET
DTSTART:20251026T010000
END:STANDARD
END:VTIMEZONE
BEGIN:VEVENT
DTSTART;TZID=Europe/Zurich:20240330T203000
DTEND;TZID=Europe/Zurich:20240330T203000
DTSTAMP:20260425T122855
CREATED:20231114T143044Z
LAST-MODIFIED:20231114T143044Z
UID:44112-1711830600-1711830600@www.se-ma.ch
SUMMARY:Flawil: ökumenische Osternachtfeier mit Kirchenchor
DESCRIPTION:Kommunionfeier\, anschliessend Eiertütschen
URL:https://www.se-ma.ch/event/flawil-oekumenische-osternachtfeier-mit-kirchenchor/
LOCATION:Kirche St. Laurentius Flawil\, Enzenbühlstrasse 20\, Flawil\, 9230\, Schweiz
CATEGORIES:Gottesdienste,Kinder und Familien
END:VEVENT
BEGIN:VEVENT
DTSTART;TZID=Europe/Zurich:20240401T101500
DTEND;TZID=Europe/Zurich:20240401T101500
DTSTAMP:20260425T122855
CREATED:20231114T143150Z
LAST-MODIFIED:20231114T143150Z
UID:44114-1711966500-1711966500@www.se-ma.ch
SUMMARY:Flawil: Eucharistiefeier
DESCRIPTION:
URL:https://www.se-ma.ch/event/flawil-eucharistiefeier-8/
LOCATION:Kirche St. Laurentius Flawil\, Enzenbühlstrasse 20\, Flawil\, 9230\, Schweiz
CATEGORIES:Gottesdienste
END:VEVENT
BEGIN:VEVENT
DTSTART;TZID=Europe/Zurich:20240330T203000
DTEND;TZID=Europe/Zurich:20240330T203000
DTSTAMP:20260425T122855
CREATED:20240214T154214Z
LAST-MODIFIED:20240214T154214Z
UID:45495-1711830600-1711830600@www.se-ma.ch
SUMMARY:Flawil: Begegnungsfeier
DESCRIPTION:Begegnungsfeier im Rahmen der Osternacht mit Osterfeuer und anschliessendem Eiertütschen \nFlyer Begegnungsfeier
URL:https://www.se-ma.ch/event/flawil-begegnungsfeier-8/
LOCATION:Kirche St. Laurentius Flawil\, Enzenbühlstrasse 20\, Flawil\, 9230\, Schweiz
CATEGORIES:Gottesdienste,Kinder und Familien
END:VEVENT
BEGIN:VEVENT
DTSTART;TZID=Europe/Zurich:20240330T203000
DTEND;TZID=Europe/Zurich:20240330T210000
DTSTAMP:20260425T122855
CREATED:20240312T103441Z
LAST-MODIFIED:20240312T103441Z
UID:46187-1711830600-1711832400@www.se-ma.ch
SUMMARY:Degersheim: kinderGOTTesdienst am Osterfeuer
DESCRIPTION:
URL:https://www.se-ma.ch/event/degersheim-kindergottesdienst-am-osterfeuer/
LOCATION:Jakobuskirche Degersheim\, Bergstrasse 10\, Degersheim\, 9113\, Schweiz
CATEGORIES:Kinder und Familien
END:VEVENT
BEGIN:VEVENT
DTSTART;TZID=Europe/Zurich:20240330T203000
DTEND;TZID=Europe/Zurich:20240330T213000
DTSTAMP:20260425T122855
CREATED:20231018T073347Z
LAST-MODIFIED:20240206T112417Z
UID:43504-1711830600-1711834200@www.se-ma.ch
SUMMARY:Degersheim: Eucharistiefeier
DESCRIPTION:Osternachtfeier\, begleitet mit Cello (Lorena Dorizzi) \nanschliessend Eiertütschen
URL:https://www.se-ma.ch/event/degersheim-eucharistiefeier-14/
LOCATION:Jakobuskirche Degersheim\, Bergstrasse 10\, Degersheim\, 9113\, Schweiz
CATEGORIES:Gottesdienste
END:VEVENT
END:VCALENDAR