BEGIN:VCALENDAR
VERSION:2.0
PRODID:-//Seelsorgeeinheit Magdenau - ECPv6.15.20//NONSGML v1.0//EN
CALSCALE:GREGORIAN
METHOD:PUBLISH
X-ORIGINAL-URL:https://www.se-ma.ch
X-WR-CALDESC:Veranstaltungen für Seelsorgeeinheit Magdenau
REFRESH-INTERVAL;VALUE=DURATION:PT1H
X-Robots-Tag:noindex
X-PUBLISHED-TTL:PT1H
BEGIN:VTIMEZONE
TZID:Europe/Zurich
BEGIN:DAYLIGHT
TZOFFSETFROM:+0100
TZOFFSETTO:+0200
TZNAME:CEST
DTSTART:20230326T010000
END:DAYLIGHT
BEGIN:STANDARD
TZOFFSETFROM:+0200
TZOFFSETTO:+0100
TZNAME:CET
DTSTART:20231029T010000
END:STANDARD
BEGIN:DAYLIGHT
TZOFFSETFROM:+0100
TZOFFSETTO:+0200
TZNAME:CEST
DTSTART:20240331T010000
END:DAYLIGHT
BEGIN:STANDARD
TZOFFSETFROM:+0200
TZOFFSETTO:+0100
TZNAME:CET
DTSTART:20241027T010000
END:STANDARD
BEGIN:DAYLIGHT
TZOFFSETFROM:+0100
TZOFFSETTO:+0200
TZNAME:CEST
DTSTART:20250330T010000
END:DAYLIGHT
BEGIN:STANDARD
TZOFFSETFROM:+0200
TZOFFSETTO:+0100
TZNAME:CET
DTSTART:20251026T010000
END:STANDARD
END:VTIMEZONE
BEGIN:VEVENT
DTSTART;TZID=Europe/Zurich:20240331T060000
DTEND;TZID=Europe/Zurich:20240331T060000
DTSTAMP:20260425T123041
CREATED:20231114T101516Z
LAST-MODIFIED:20231114T133744Z
UID:43920-1711864800-1711864800@www.se-ma.ch
SUMMARY:Niederglatt: SEMA-Osternachtsfeier\, anschliessend Eiertütschen
DESCRIPTION:An Ostern sind Sie herzlich eingeladen\, den Gottesdienst um 6.00 Uhr in Niederglatt oder um 10.15 Uhr in Wolfertswil zu besuchen
URL:https://www.se-ma.ch/event/niederglatt-sema-osternachtsfeier-anschliessend-eiertuetschen/
LOCATION:Felix + Regula Kirche Niederglatt\, Niederglatt\, 9240\, Schweiz
CATEGORIES:Gottesdienste,Kinder und Familien
END:VEVENT
BEGIN:VEVENT
DTSTART;TZID=Europe/Zurich:20240331T101500
DTEND;TZID=Europe/Zurich:20240331T101500
DTSTAMP:20260425T123041
CREATED:20231213T163150Z
LAST-MODIFIED:20240208T120642Z
UID:44635-1711880100-1711880100@www.se-ma.ch
SUMMARY:Wolfertswil: SEMA-Osterfestgottesdienst\, Eucharistiefeier
DESCRIPTION:
URL:https://www.se-ma.ch/event/wolfertswil-osterfestgottesdienst-fuer-die-ganze-seelsorgeeinheit/
LOCATION:Kirche Bruder Klaus\, Wolfertswil\, 9116
CATEGORIES:Gottesdienste
END:VEVENT
END:VCALENDAR