BEGIN:VCALENDAR
VERSION:2.0
PRODID:-//Seelsorgeeinheit Magdenau - ECPv6.15.20//NONSGML v1.0//EN
CALSCALE:GREGORIAN
METHOD:PUBLISH
X-ORIGINAL-URL:https://www.se-ma.ch
X-WR-CALDESC:Veranstaltungen für Seelsorgeeinheit Magdenau
REFRESH-INTERVAL;VALUE=DURATION:PT1H
X-Robots-Tag:noindex
X-PUBLISHED-TTL:PT1H
BEGIN:VTIMEZONE
TZID:Europe/Zurich
BEGIN:DAYLIGHT
TZOFFSETFROM:+0100
TZOFFSETTO:+0200
TZNAME:CEST
DTSTART:20230326T010000
END:DAYLIGHT
BEGIN:STANDARD
TZOFFSETFROM:+0200
TZOFFSETTO:+0100
TZNAME:CET
DTSTART:20231029T010000
END:STANDARD
BEGIN:DAYLIGHT
TZOFFSETFROM:+0100
TZOFFSETTO:+0200
TZNAME:CEST
DTSTART:20240331T010000
END:DAYLIGHT
BEGIN:STANDARD
TZOFFSETFROM:+0200
TZOFFSETTO:+0100
TZNAME:CET
DTSTART:20241027T010000
END:STANDARD
BEGIN:DAYLIGHT
TZOFFSETFROM:+0100
TZOFFSETTO:+0200
TZNAME:CEST
DTSTART:20250330T010000
END:DAYLIGHT
BEGIN:STANDARD
TZOFFSETFROM:+0200
TZOFFSETTO:+0100
TZNAME:CET
DTSTART:20251026T010000
END:STANDARD
END:VTIMEZONE
BEGIN:VEVENT
DTSTART;VALUE=DATE:20240705
DTEND;VALUE=DATE:20240713
DTSTAMP:20260422T234619
CREATED:20240422T061628Z
LAST-MODIFIED:20240422T061628Z
UID:46835-1720137600-1720828799@www.se-ma.ch
SUMMARY:Jugendarbeit: Kroatienreise
DESCRIPTION:Für Jugendliche ab der Oberstufe\nWeitere Infos und Anmeldung bis 10. Juni
URL:https://www.se-ma.ch/event/jugendarbeit-kroatienreise/
CATEGORIES:Anlässe und Veranstaltungen
END:VEVENT
BEGIN:VEVENT
DTSTART;TZID=Europe/Zurich:20240707T084500
DTEND;TZID=Europe/Zurich:20240707T084500
DTSTAMP:20260422T234619
CREATED:20240304T134132Z
LAST-MODIFIED:20240304T134132Z
UID:45703-1720341900-1720341900@www.se-ma.ch
SUMMARY:Niederglatt: Eucharistiefeier
DESCRIPTION:
URL:https://www.se-ma.ch/event/niederglatt-eucharistiefeier-13/
LOCATION:Felix + Regula Kirche Niederglatt\, Niederglatt\, 9240\, Schweiz
CATEGORIES:Gottesdienste
END:VEVENT
BEGIN:VEVENT
DTSTART;TZID=Europe/Zurich:20240707T093000
DTEND;TZID=Europe/Zurich:20240707T093000
DTSTAMP:20260422T234619
CREATED:20231114T132646Z
LAST-MODIFIED:20231114T132646Z
UID:43999-1720344600-1720344600@www.se-ma.ch
SUMMARY:Flawil: Eucharistiefeier in Spanisch
DESCRIPTION:ab 9.00 Uhr Beichtgelegenheit
URL:https://www.se-ma.ch/event/flawil-eucharistiefeier-in-spanisch-15/
LOCATION:Kapelle St. Laurentius Flawil\, Enzenbühlstrasse 20\, Flawil\, 9230\, Schweiz
CATEGORIES:Gottesdienste
END:VEVENT
BEGIN:VEVENT
DTSTART;TZID=Europe/Zurich:20240707T101500
DTEND;TZID=Europe/Zurich:20240707T101500
DTSTAMP:20260422T234619
CREATED:20240529T093307Z
LAST-MODIFIED:20240529T093307Z
UID:47543-1720347300-1720347300@www.se-ma.ch
SUMMARY:Flawil: Eucharistiefeier
DESCRIPTION:
URL:https://www.se-ma.ch/event/flawil-eucharistiefeier-13/
LOCATION:Kirche St. Laurentius Flawil\, Enzenbühlstrasse 20\, Flawil\, 9230\, Schweiz
CATEGORIES:Gottesdienste
END:VEVENT
END:VCALENDAR