BEGIN:VCALENDAR
VERSION:2.0
PRODID:-//Seelsorgeeinheit Magdenau - ECPv6.15.20//NONSGML v1.0//EN
CALSCALE:GREGORIAN
METHOD:PUBLISH
X-WR-CALNAME:Seelsorgeeinheit Magdenau
X-ORIGINAL-URL:https://www.se-ma.ch
X-WR-CALDESC:Veranstaltungen für Seelsorgeeinheit Magdenau
REFRESH-INTERVAL;VALUE=DURATION:PT1H
X-Robots-Tag:noindex
X-PUBLISHED-TTL:PT1H
BEGIN:VTIMEZONE
TZID:Europe/Zurich
BEGIN:DAYLIGHT
TZOFFSETFROM:+0100
TZOFFSETTO:+0200
TZNAME:CEST
DTSTART:20230326T010000
END:DAYLIGHT
BEGIN:STANDARD
TZOFFSETFROM:+0200
TZOFFSETTO:+0100
TZNAME:CET
DTSTART:20231029T010000
END:STANDARD
BEGIN:DAYLIGHT
TZOFFSETFROM:+0100
TZOFFSETTO:+0200
TZNAME:CEST
DTSTART:20240331T010000
END:DAYLIGHT
BEGIN:STANDARD
TZOFFSETFROM:+0200
TZOFFSETTO:+0100
TZNAME:CET
DTSTART:20241027T010000
END:STANDARD
BEGIN:DAYLIGHT
TZOFFSETFROM:+0100
TZOFFSETTO:+0200
TZNAME:CEST
DTSTART:20250330T010000
END:DAYLIGHT
BEGIN:STANDARD
TZOFFSETFROM:+0200
TZOFFSETTO:+0100
TZNAME:CET
DTSTART:20251026T010000
END:STANDARD
END:VTIMEZONE
BEGIN:VEVENT
DTSTART;VALUE=DATE:20240705
DTEND;VALUE=DATE:20240713
DTSTAMP:20260422T235749
CREATED:20240422T061628Z
LAST-MODIFIED:20240422T061628Z
UID:46835-1720137600-1720828799@www.se-ma.ch
SUMMARY:Jugendarbeit: Kroatienreise
DESCRIPTION:Für Jugendliche ab der Oberstufe\nWeitere Infos und Anmeldung bis 10. Juni
URL:https://www.se-ma.ch/event/jugendarbeit-kroatienreise/
CATEGORIES:Anlässe und Veranstaltungen
END:VEVENT
BEGIN:VEVENT
DTSTART;TZID=Europe/Zurich:20240710T113000
DTEND;TZID=Europe/Zurich:20240710T113000
DTSTAMP:20260422T235749
CREATED:20240117T080917Z
LAST-MODIFIED:20240119T122649Z
UID:44994-1720611000-1720611000@www.se-ma.ch
SUMMARY:Flawil: SEMAplus Senioren
DESCRIPTION:Bräteln im Pfarrgarten \nJahresprogramm
URL:https://www.se-ma.ch/event/flawil-semaplus-senioren-7/
LOCATION:Pfarreizentrum Flawil\, Enzenbühlstrasse 16\, Flawil\, 9230\, Schweiz
END:VEVENT
END:VCALENDAR