BEGIN:VCALENDAR
VERSION:2.0
PRODID:-//Seelsorgeeinheit Magdenau - ECPv6.15.20//NONSGML v1.0//EN
CALSCALE:GREGORIAN
METHOD:PUBLISH
X-WR-CALNAME:Seelsorgeeinheit Magdenau
X-ORIGINAL-URL:https://www.se-ma.ch
X-WR-CALDESC:Veranstaltungen für Seelsorgeeinheit Magdenau
REFRESH-INTERVAL;VALUE=DURATION:PT1H
X-Robots-Tag:noindex
X-PUBLISHED-TTL:PT1H
BEGIN:VTIMEZONE
TZID:Europe/Zurich
BEGIN:DAYLIGHT
TZOFFSETFROM:+0100
TZOFFSETTO:+0200
TZNAME:CEST
DTSTART:20230326T010000
END:DAYLIGHT
BEGIN:STANDARD
TZOFFSETFROM:+0200
TZOFFSETTO:+0100
TZNAME:CET
DTSTART:20231029T010000
END:STANDARD
BEGIN:DAYLIGHT
TZOFFSETFROM:+0100
TZOFFSETTO:+0200
TZNAME:CEST
DTSTART:20240331T010000
END:DAYLIGHT
BEGIN:STANDARD
TZOFFSETFROM:+0200
TZOFFSETTO:+0100
TZNAME:CET
DTSTART:20241027T010000
END:STANDARD
BEGIN:DAYLIGHT
TZOFFSETFROM:+0100
TZOFFSETTO:+0200
TZNAME:CEST
DTSTART:20250330T010000
END:DAYLIGHT
BEGIN:STANDARD
TZOFFSETFROM:+0200
TZOFFSETTO:+0100
TZNAME:CET
DTSTART:20251026T010000
END:STANDARD
END:VTIMEZONE
BEGIN:VEVENT
DTSTART;TZID=Europe/Zurich:20240810T173000
DTEND;TZID=Europe/Zurich:20240810T173000
DTSTAMP:20260422T221920
CREATED:20231114T104049Z
LAST-MODIFIED:20231114T104049Z
UID:43962-1723311000-1723311000@www.se-ma.ch
SUMMARY:Flawil: Eucharistiefeier in Portugiesisch - fällt aus
DESCRIPTION:
URL:https://www.se-ma.ch/event/flawil-eucharistiefeier-in-portugiesisch-faellt-aus-4/
LOCATION:Kapelle St. Laurentius Flawil\, Enzenbühlstrasse 20\, Flawil\, 9230\, Schweiz
CATEGORIES:Gottesdienste
END:VEVENT
BEGIN:VEVENT
DTSTART;TZID=Europe/Zurich:20240810T173000
DTEND;TZID=Europe/Zurich:20240810T183000
DTSTAMP:20260422T221920
CREATED:20240416T085727Z
LAST-MODIFIED:20240416T085727Z
UID:46653-1723311000-1723314600@www.se-ma.ch
SUMMARY:Degersheim: Gottesdienscht bi de Lüüt
DESCRIPTION:Kommunionfeier mit Segnung der Kräutersträusschen auf dem Bauernhof bei Familie Bertsch-Danzeisen.
URL:https://www.se-ma.ch/event/degersheim-gottesdienscht-bi-de-lueuet-2/
CATEGORIES:Gottesdienste
END:VEVENT
END:VCALENDAR