BEGIN:VCALENDAR
VERSION:2.0
PRODID:-//Seelsorgeeinheit Magdenau - ECPv6.15.20//NONSGML v1.0//EN
CALSCALE:GREGORIAN
METHOD:PUBLISH
X-ORIGINAL-URL:https://www.se-ma.ch
X-WR-CALDESC:Veranstaltungen für Seelsorgeeinheit Magdenau
REFRESH-INTERVAL;VALUE=DURATION:PT1H
X-Robots-Tag:noindex
X-PUBLISHED-TTL:PT1H
BEGIN:VTIMEZONE
TZID:Europe/Zurich
BEGIN:DAYLIGHT
TZOFFSETFROM:+0100
TZOFFSETTO:+0200
TZNAME:CEST
DTSTART:20230326T010000
END:DAYLIGHT
BEGIN:STANDARD
TZOFFSETFROM:+0200
TZOFFSETTO:+0100
TZNAME:CET
DTSTART:20231029T010000
END:STANDARD
BEGIN:DAYLIGHT
TZOFFSETFROM:+0100
TZOFFSETTO:+0200
TZNAME:CEST
DTSTART:20240331T010000
END:DAYLIGHT
BEGIN:STANDARD
TZOFFSETFROM:+0200
TZOFFSETTO:+0100
TZNAME:CET
DTSTART:20241027T010000
END:STANDARD
BEGIN:DAYLIGHT
TZOFFSETFROM:+0100
TZOFFSETTO:+0200
TZNAME:CEST
DTSTART:20250330T010000
END:DAYLIGHT
BEGIN:STANDARD
TZOFFSETFROM:+0200
TZOFFSETTO:+0100
TZNAME:CET
DTSTART:20251026T010000
END:STANDARD
END:VTIMEZONE
BEGIN:VEVENT
DTSTART;TZID=Europe/Zurich:20240811T101500
DTEND;TZID=Europe/Zurich:20240811T101500
DTSTAMP:20260422T222211
CREATED:20231115T103134Z
LAST-MODIFIED:20231115T103134Z
UID:44138-1723371300-1723371300@www.se-ma.ch
SUMMARY:Flawil: Kommunionfeier
DESCRIPTION:
URL:https://www.se-ma.ch/event/flawil-kommunionfeier-20/
LOCATION:Kirche St. Laurentius Flawil\, Enzenbühlstrasse 20\, Flawil\, 9230\, Schweiz
CATEGORIES:Gottesdienste
END:VEVENT
BEGIN:VEVENT
DTSTART;TZID=Europe/Zurich:20240811T101500
DTEND;TZID=Europe/Zurich:20240811T101500
DTSTAMP:20260422T222211
CREATED:20240208T105025Z
LAST-MODIFIED:20240712T134155Z
UID:45365-1723371300-1723371300@www.se-ma.ch
SUMMARY:Wolfertswil: Gottesdienst zum Schulanfang und Kräutersegnung
DESCRIPTION:9.30 Uhr Treffpunkt am Veranstaltungsort zum Kräuter binden
URL:https://www.se-ma.ch/event/wolfertswil-gottesdienst-zum-schulanfang-und-kraeutersegnung/
LOCATION:Bei schönem Wetter draussen\, sonst in der Kirche
CATEGORIES:Gottesdienste,Kinder und Familien
END:VEVENT
END:VCALENDAR