BEGIN:VCALENDAR
VERSION:2.0
PRODID:-//Seelsorgeeinheit Magdenau - ECPv6.15.20//NONSGML v1.0//EN
CALSCALE:GREGORIAN
METHOD:PUBLISH
X-ORIGINAL-URL:https://www.se-ma.ch
X-WR-CALDESC:Veranstaltungen für Seelsorgeeinheit Magdenau
REFRESH-INTERVAL;VALUE=DURATION:PT1H
X-Robots-Tag:noindex
X-PUBLISHED-TTL:PT1H
BEGIN:VTIMEZONE
TZID:Europe/Zurich
BEGIN:DAYLIGHT
TZOFFSETFROM:+0100
TZOFFSETTO:+0200
TZNAME:CEST
DTSTART:20230326T010000
END:DAYLIGHT
BEGIN:STANDARD
TZOFFSETFROM:+0200
TZOFFSETTO:+0100
TZNAME:CET
DTSTART:20231029T010000
END:STANDARD
BEGIN:DAYLIGHT
TZOFFSETFROM:+0100
TZOFFSETTO:+0200
TZNAME:CEST
DTSTART:20240331T010000
END:DAYLIGHT
BEGIN:STANDARD
TZOFFSETFROM:+0200
TZOFFSETTO:+0100
TZNAME:CET
DTSTART:20241027T010000
END:STANDARD
BEGIN:DAYLIGHT
TZOFFSETFROM:+0100
TZOFFSETTO:+0200
TZNAME:CEST
DTSTART:20250330T010000
END:DAYLIGHT
BEGIN:STANDARD
TZOFFSETFROM:+0200
TZOFFSETTO:+0100
TZNAME:CET
DTSTART:20251026T010000
END:STANDARD
END:VTIMEZONE
BEGIN:VEVENT
DTSTART;TZID=Europe/Zurich:20240818T084500
DTEND;TZID=Europe/Zurich:20240818T084500
DTSTAMP:20260422T222211
CREATED:20240304T134341Z
LAST-MODIFIED:20240815T053736Z
UID:45709-1723970700-1723970700@www.se-ma.ch
SUMMARY:Niederglatt: Kommunionfeier in der Kirche
DESCRIPTION:mit Kräutersegnung und Miniaufnahme\, Apéro
URL:https://www.se-ma.ch/event/niederglatt-grotten-gottesdienst-kommunionfeier/
LOCATION:Felix + Regula Kirche Niederglatt\, Niederglatt\, 9240\, Schweiz
CATEGORIES:Gottesdienste,Kinder und Familien
END:VEVENT
BEGIN:VEVENT
DTSTART;TZID=Europe/Zurich:20240818T100000
DTEND;TZID=Europe/Zurich:20240818T130000
DTSTAMP:20260422T222211
CREATED:20230905T093037Z
LAST-MODIFIED:20240816T085105Z
UID:42682-1723975200-1723986000@www.se-ma.ch
SUMMARY:Degersheim: Ökum. Föhrenwäldli Gottesdienst
DESCRIPTION:Der Gottesdienst kann aufgrund der schlechten Wetterprognosen nicht im Föhrenwäldli stattfinden. Der Gottesdienst findet deshalb in der katholischen Kirche statt. Anschliessend gemütliches Beisammensein mit Verpflegungsmöglichkeit im Pfarreiheim.
URL:https://www.se-ma.ch/event/degersheim-oekum-foehrenwaeldli-gottesdienst/
LOCATION:Jakobuskirche Degersheim\, Bergstrasse 10\, Degersheim\, 9113\, Schweiz
CATEGORIES:Gottesdienste
END:VEVENT
BEGIN:VEVENT
DTSTART;TZID=Europe/Zurich:20240818T101500
DTEND;TZID=Europe/Zurich:20240818T101500
DTSTAMP:20260422T222211
CREATED:20231115T103337Z
LAST-MODIFIED:20231115T103337Z
UID:44142-1723976100-1723976100@www.se-ma.ch
SUMMARY:Flawil: Kleines Laurentiusfest\, Kommunionfeier mit Kirchenchor
DESCRIPTION:mit anschliessendem Apéro
URL:https://www.se-ma.ch/event/flawil-kleines-laurentiusfest-kommunionfeier-mit-kirchenchor/
LOCATION:Kirche St. Laurentius Flawil\, Enzenbühlstrasse 20\, Flawil\, 9230\, Schweiz
CATEGORIES:Gottesdienste
END:VEVENT
END:VCALENDAR