BEGIN:VCALENDAR
VERSION:2.0
PRODID:-//Seelsorgeeinheit Magdenau - ECPv6.15.20//NONSGML v1.0//EN
CALSCALE:GREGORIAN
METHOD:PUBLISH
X-ORIGINAL-URL:https://www.se-ma.ch
X-WR-CALDESC:Veranstaltungen für Seelsorgeeinheit Magdenau
REFRESH-INTERVAL;VALUE=DURATION:PT1H
X-Robots-Tag:noindex
X-PUBLISHED-TTL:PT1H
BEGIN:VTIMEZONE
TZID:Europe/Zurich
BEGIN:DAYLIGHT
TZOFFSETFROM:+0100
TZOFFSETTO:+0200
TZNAME:CEST
DTSTART:20230326T010000
END:DAYLIGHT
BEGIN:STANDARD
TZOFFSETFROM:+0200
TZOFFSETTO:+0100
TZNAME:CET
DTSTART:20231029T010000
END:STANDARD
BEGIN:DAYLIGHT
TZOFFSETFROM:+0100
TZOFFSETTO:+0200
TZNAME:CEST
DTSTART:20240331T010000
END:DAYLIGHT
BEGIN:STANDARD
TZOFFSETFROM:+0200
TZOFFSETTO:+0100
TZNAME:CET
DTSTART:20241027T010000
END:STANDARD
BEGIN:DAYLIGHT
TZOFFSETFROM:+0100
TZOFFSETTO:+0200
TZNAME:CEST
DTSTART:20250330T010000
END:DAYLIGHT
BEGIN:STANDARD
TZOFFSETFROM:+0200
TZOFFSETTO:+0100
TZNAME:CET
DTSTART:20251026T010000
END:STANDARD
END:VTIMEZONE
BEGIN:VEVENT
DTSTART;TZID=Europe/Zurich:20240822T113000
DTEND;TZID=Europe/Zurich:20240822T140000
DTSTAMP:20260422T222233
CREATED:20231130T081658Z
LAST-MODIFIED:20231130T081658Z
UID:44315-1724326200-1724335200@www.se-ma.ch
SUMMARY:Flawil: Mittagstisch
DESCRIPTION:Flyer Mittagstisch 2024
URL:https://www.se-ma.ch/event/flawil-mittagstisch-7/
LOCATION:Pfarreizentrum Flawil\, Enzenbühlstrasse 16\, Flawil\, 9230\, Schweiz
CATEGORIES:Anlässe und Veranstaltungen
END:VEVENT
BEGIN:VEVENT
DTSTART;TZID=Europe/Zurich:20240822T190000
DTEND;TZID=Europe/Zurich:20240822T200000
DTSTAMP:20260422T222233
CREATED:20240619T061914Z
LAST-MODIFIED:20240619T062025Z
UID:47803-1724353200-1724356800@www.se-ma.ch
SUMMARY:Degersheim: Friedensgebet
DESCRIPTION:Wir beten für den Frieden in unserer Welt.
URL:https://www.se-ma.ch/event/degersheim-friedensgebet-12/
LOCATION:Jakobuskirche Kapelle Degersheim\, Bergstrasse 10\, Degersheim\, St. Gallen\, 9113\, Schweiz
CATEGORIES:Anlässe und Veranstaltungen
END:VEVENT
BEGIN:VEVENT
DTSTART;TZID=Europe/Zurich:20240822T200000
DTEND;TZID=Europe/Zurich:20240822T230000
DTSTAMP:20260422T222233
CREATED:20240729T093420Z
LAST-MODIFIED:20240815T053844Z
UID:48176-1724356800-1724367600@www.se-ma.ch
SUMMARY:Openair-Filmabend
DESCRIPTION:Palliative Forum Flawil – Openair-Filmabend mit Regisseur Thomas Lüchinger und seinem Film „Zuversicht“
URL:https://www.se-ma.ch/event/openair-filmabend/
LOCATION:Sommer im Feld\, Flawil\, 9230\, Schweiz
CATEGORIES:Anlässe und Veranstaltungen
END:VEVENT
END:VCALENDAR