BEGIN:VCALENDAR
VERSION:2.0
PRODID:-//Seelsorgeeinheit Magdenau - ECPv6.15.20//NONSGML v1.0//EN
CALSCALE:GREGORIAN
METHOD:PUBLISH
X-ORIGINAL-URL:https://www.se-ma.ch
X-WR-CALDESC:Veranstaltungen für Seelsorgeeinheit Magdenau
REFRESH-INTERVAL;VALUE=DURATION:PT1H
X-Robots-Tag:noindex
X-PUBLISHED-TTL:PT1H
BEGIN:VTIMEZONE
TZID:Europe/Zurich
BEGIN:DAYLIGHT
TZOFFSETFROM:+0100
TZOFFSETTO:+0200
TZNAME:CEST
DTSTART:20230326T010000
END:DAYLIGHT
BEGIN:STANDARD
TZOFFSETFROM:+0200
TZOFFSETTO:+0100
TZNAME:CET
DTSTART:20231029T010000
END:STANDARD
BEGIN:DAYLIGHT
TZOFFSETFROM:+0100
TZOFFSETTO:+0200
TZNAME:CEST
DTSTART:20240331T010000
END:DAYLIGHT
BEGIN:STANDARD
TZOFFSETFROM:+0200
TZOFFSETTO:+0100
TZNAME:CET
DTSTART:20241027T010000
END:STANDARD
BEGIN:DAYLIGHT
TZOFFSETFROM:+0100
TZOFFSETTO:+0200
TZNAME:CEST
DTSTART:20250330T010000
END:DAYLIGHT
BEGIN:STANDARD
TZOFFSETFROM:+0200
TZOFFSETTO:+0100
TZNAME:CET
DTSTART:20251026T010000
END:STANDARD
END:VTIMEZONE
BEGIN:VEVENT
DTSTART;TZID=Europe/Zurich:20240825T100000
DTEND;TZID=Europe/Zurich:20240825T100000
DTSTAMP:20260422T222214
CREATED:20240208T105324Z
LAST-MODIFIED:20240208T114746Z
UID:45369-1724580000-1724580000@www.se-ma.ch
SUMMARY:Wolfertswil: Familiengottesdienst Chilbisonntag
DESCRIPTION:
URL:https://www.se-ma.ch/event/wolfertswil-familiengottesdienst-chilbisonntag/
LOCATION:Kirche Bruder Klaus\, Wolfertswil\, 9116
CATEGORIES:Gottesdienste,Kinder und Familien
END:VEVENT
BEGIN:VEVENT
DTSTART;TZID=Europe/Zurich:20240825T101500
DTEND;TZID=Europe/Zurich:20240825T101500
DTSTAMP:20260422T222214
CREATED:20231115T103447Z
LAST-MODIFIED:20231115T103447Z
UID:44144-1724580900-1724580900@www.se-ma.ch
SUMMARY:Flawil: Ökumenischer Gottesdienst zum Erntedank\, Kommunionfeier
DESCRIPTION:mit anschliessendem Apéro
URL:https://www.se-ma.ch/event/flawil-oekumenischer-gottesdienst-zum-erntedank-kommunionfeier/
LOCATION:Kirche St. Laurentius Flawil\, Enzenbühlstrasse 20\, Flawil\, 9230\, Schweiz
CATEGORIES:Gottesdienste
END:VEVENT
END:VCALENDAR