BEGIN:VCALENDAR
VERSION:2.0
PRODID:-//Seelsorgeeinheit Magdenau - ECPv6.15.20//NONSGML v1.0//EN
CALSCALE:GREGORIAN
METHOD:PUBLISH
X-ORIGINAL-URL:https://www.se-ma.ch
X-WR-CALDESC:Veranstaltungen für Seelsorgeeinheit Magdenau
REFRESH-INTERVAL;VALUE=DURATION:PT1H
X-Robots-Tag:noindex
X-PUBLISHED-TTL:PT1H
BEGIN:VTIMEZONE
TZID:Europe/Zurich
BEGIN:DAYLIGHT
TZOFFSETFROM:+0100
TZOFFSETTO:+0200
TZNAME:CEST
DTSTART:20230326T010000
END:DAYLIGHT
BEGIN:STANDARD
TZOFFSETFROM:+0200
TZOFFSETTO:+0100
TZNAME:CET
DTSTART:20231029T010000
END:STANDARD
BEGIN:DAYLIGHT
TZOFFSETFROM:+0100
TZOFFSETTO:+0200
TZNAME:CEST
DTSTART:20240331T010000
END:DAYLIGHT
BEGIN:STANDARD
TZOFFSETFROM:+0200
TZOFFSETTO:+0100
TZNAME:CET
DTSTART:20241027T010000
END:STANDARD
BEGIN:DAYLIGHT
TZOFFSETFROM:+0100
TZOFFSETTO:+0200
TZNAME:CEST
DTSTART:20250330T010000
END:DAYLIGHT
BEGIN:STANDARD
TZOFFSETFROM:+0200
TZOFFSETTO:+0100
TZNAME:CET
DTSTART:20251026T010000
END:STANDARD
END:VTIMEZONE
BEGIN:VEVENT
DTSTART;VALUE=DATE:20240901
DTEND;VALUE=DATE:20240902
DTSTAMP:20260422T204247
CREATED:20240529T072627Z
LAST-MODIFIED:20240529T072627Z
UID:47519-1725148800-1725235199@www.se-ma.ch
SUMMARY:Degersheim: Jahrmarkt
DESCRIPTION:
URL:https://www.se-ma.ch/event/degersheim-jahrmarkt/
LOCATION:vor dem Gemeindehaus Degersheim\, Hauptstrasse 79\, Degersheim\, 9113\, Schweiz
CATEGORIES:Anlässe und Veranstaltungen
END:VEVENT
BEGIN:VEVENT
DTSTART;TZID=Europe/Zurich:20240901T084500
DTEND;TZID=Europe/Zurich:20240901T084500
DTSTAMP:20260422T204247
CREATED:20240208T105633Z
LAST-MODIFIED:20240208T114450Z
UID:45371-1725180300-1725180300@www.se-ma.ch
SUMMARY:Magdenau: Eucharistiefeier Fest d. Hl. Verena
DESCRIPTION:
URL:https://www.se-ma.ch/event/magdenau-eucharistiefeier-fest-d-hl-verena/
LOCATION:Kirche St. Verena Magdenau\, St. Verena 929\, Wolfertswil\, 9116\, Schweiz
CATEGORIES:Gottesdienste
END:VEVENT
BEGIN:VEVENT
DTSTART;TZID=Europe/Zurich:20240901T093000
DTEND;TZID=Europe/Zurich:20240901T093000
DTSTAMP:20260422T204247
CREATED:20231114T132744Z
LAST-MODIFIED:20231114T132744Z
UID:44003-1725183000-1725183000@www.se-ma.ch
SUMMARY:Flawil: Eucharistiefeier in Spanisch
DESCRIPTION:ab 9.00 Uhr Beichtgelegenheit
URL:https://www.se-ma.ch/event/flawil-eucharistiefeier-in-spanisch-16/
LOCATION:Kapelle St. Laurentius Flawil\, Enzenbühlstrasse 20\, Flawil\, 9230\, Schweiz
CATEGORIES:Gottesdienste
END:VEVENT
BEGIN:VEVENT
DTSTART;TZID=Europe/Zurich:20240901T101500
DTEND;TZID=Europe/Zurich:20240901T101500
DTSTAMP:20260422T204247
CREATED:20240529T093802Z
LAST-MODIFIED:20240529T093802Z
UID:47545-1725185700-1725185700@www.se-ma.ch
SUMMARY:Flawil: Eucharistiefeier
DESCRIPTION:
URL:https://www.se-ma.ch/event/flawil-eucharistiefeier-15/
LOCATION:Kirche St. Laurentius Flawil\, Enzenbühlstrasse 20\, Flawil\, 9230\, Schweiz
CATEGORIES:Gottesdienste
END:VEVENT
END:VCALENDAR