BEGIN:VCALENDAR
VERSION:2.0
PRODID:-//Seelsorgeeinheit Magdenau - ECPv6.15.20//NONSGML v1.0//EN
CALSCALE:GREGORIAN
METHOD:PUBLISH
X-ORIGINAL-URL:https://www.se-ma.ch
X-WR-CALDESC:Veranstaltungen für Seelsorgeeinheit Magdenau
REFRESH-INTERVAL;VALUE=DURATION:PT1H
X-Robots-Tag:noindex
X-PUBLISHED-TTL:PT1H
BEGIN:VTIMEZONE
TZID:Europe/Zurich
BEGIN:DAYLIGHT
TZOFFSETFROM:+0100
TZOFFSETTO:+0200
TZNAME:CEST
DTSTART:20230326T010000
END:DAYLIGHT
BEGIN:STANDARD
TZOFFSETFROM:+0200
TZOFFSETTO:+0100
TZNAME:CET
DTSTART:20231029T010000
END:STANDARD
BEGIN:DAYLIGHT
TZOFFSETFROM:+0100
TZOFFSETTO:+0200
TZNAME:CEST
DTSTART:20240331T010000
END:DAYLIGHT
BEGIN:STANDARD
TZOFFSETFROM:+0200
TZOFFSETTO:+0100
TZNAME:CET
DTSTART:20241027T010000
END:STANDARD
BEGIN:DAYLIGHT
TZOFFSETFROM:+0100
TZOFFSETTO:+0200
TZNAME:CEST
DTSTART:20250330T010000
END:DAYLIGHT
BEGIN:STANDARD
TZOFFSETFROM:+0200
TZOFFSETTO:+0100
TZNAME:CET
DTSTART:20251026T010000
END:STANDARD
END:VTIMEZONE
BEGIN:VEVENT
DTSTART;TZID=Europe/Zurich:20240906T183000
DTEND;TZID=Europe/Zurich:20240906T200000
DTSTAMP:20260422T204248
CREATED:20240620T065327Z
LAST-MODIFIED:20240620T065646Z
UID:47861-1725647400-1725652800@www.se-ma.ch
SUMMARY:Flawil: zämägang
DESCRIPTION:Wir treffen uns zu einem Spaziergang!\nHast du Lust\, zusammen unterwegs zu sein? Dann komm einfach mit. Vielleicht kennst du Menschen\, denen das freundliche und interessierte Miteinander guttun würde? Mache sie auf dieses Angebot aufmerksam oder bring sie gleich mit! Keine Anmeldung nötig.\nSilvan Hollenstein\, Seelsorger\, 079 743 73 89\, hc.am-esobfsctd-4f948c@nietsnelloh.navlis\nTreffpunkt: vor der Kirche St. Laurentius
URL:https://www.se-ma.ch/event/flawil-zaemaegang/
LOCATION:Kirche St. Laurentius Flawil\, Enzenbühlstrasse 20\, Flawil\, 9230\, Schweiz
CATEGORIES:Anlässe und Veranstaltungen
END:VEVENT
END:VCALENDAR