BEGIN:VCALENDAR
VERSION:2.0
PRODID:-//Seelsorgeeinheit Magdenau - ECPv6.15.20//NONSGML v1.0//EN
CALSCALE:GREGORIAN
METHOD:PUBLISH
X-WR-CALNAME:Seelsorgeeinheit Magdenau
X-ORIGINAL-URL:https://www.se-ma.ch
X-WR-CALDESC:Veranstaltungen für Seelsorgeeinheit Magdenau
REFRESH-INTERVAL;VALUE=DURATION:PT1H
X-Robots-Tag:noindex
X-PUBLISHED-TTL:PT1H
BEGIN:VTIMEZONE
TZID:Europe/Zurich
BEGIN:DAYLIGHT
TZOFFSETFROM:+0100
TZOFFSETTO:+0200
TZNAME:CEST
DTSTART:20230326T010000
END:DAYLIGHT
BEGIN:STANDARD
TZOFFSETFROM:+0200
TZOFFSETTO:+0100
TZNAME:CET
DTSTART:20231029T010000
END:STANDARD
BEGIN:DAYLIGHT
TZOFFSETFROM:+0100
TZOFFSETTO:+0200
TZNAME:CEST
DTSTART:20240331T010000
END:DAYLIGHT
BEGIN:STANDARD
TZOFFSETFROM:+0200
TZOFFSETTO:+0100
TZNAME:CET
DTSTART:20241027T010000
END:STANDARD
BEGIN:DAYLIGHT
TZOFFSETFROM:+0100
TZOFFSETTO:+0200
TZNAME:CEST
DTSTART:20250330T010000
END:DAYLIGHT
BEGIN:STANDARD
TZOFFSETFROM:+0200
TZOFFSETTO:+0100
TZNAME:CET
DTSTART:20251026T010000
END:STANDARD
END:VTIMEZONE
BEGIN:VEVENT
DTSTART;TZID=Europe/Zurich:20240907T000000
DTEND;TZID=Europe/Zurich:20240908T235900
DTSTAMP:20260422T204109
CREATED:20240117T095017Z
LAST-MODIFIED:20240117T095017Z
UID:45032-1725667200-1725839940@www.se-ma.ch
SUMMARY:Niederglatt: Frauengemeinschaft
DESCRIPTION:Chilbi \nJahresprogramm 2024
URL:https://www.se-ma.ch/event/niederglatt-frauengemeinschaft-11/
END:VEVENT
BEGIN:VEVENT
DTSTART;TZID=Europe/Zurich:20240908T084500
DTEND;TZID=Europe/Zurich:20240908T084500
DTSTAMP:20260422T204109
CREATED:20231116T073652Z
LAST-MODIFIED:20231116T073652Z
UID:44169-1725785100-1725785100@www.se-ma.ch
SUMMARY:Niederglatt: Kirchenpatronfest Felix & Regula\, Kommunionfeier mit Kirchenchor
DESCRIPTION:anschliessend Apéro\nChilbisonntig
URL:https://www.se-ma.ch/event/niederglatt-kirchenpatronfest-felix-regula-kommunionfeier-mit-kirchenchor/
LOCATION:Felix + Regula Kirche Niederglatt\, Niederglatt\, 9240\, Schweiz
CATEGORIES:Anlässe und Veranstaltungen,Gottesdienste,Kinder und Familien
END:VEVENT
BEGIN:VEVENT
DTSTART;TZID=Europe/Zurich:20240908T090000
DTEND;TZID=Europe/Zurich:20240908T090000
DTSTAMP:20260422T204109
CREATED:20231114T134842Z
LAST-MODIFIED:20231114T134842Z
UID:44046-1725786000-1725786000@www.se-ma.ch
SUMMARY:Eucharistiefeier in Italienisch
DESCRIPTION:
URL:https://www.se-ma.ch/event/eucharistiefeier-in-italienisch-30/
LOCATION:Kapelle St. Laurentius Flawil\, Enzenbühlstrasse 20\, Flawil\, 9230\, Schweiz
CATEGORIES:Gottesdienste
END:VEVENT
BEGIN:VEVENT
DTSTART;TZID=Europe/Zurich:20240908T101500
DTEND;TZID=Europe/Zurich:20240908T101500
DTSTAMP:20260422T204109
CREATED:20240529T093853Z
LAST-MODIFIED:20240529T093853Z
UID:47550-1725790500-1725790500@www.se-ma.ch
SUMMARY:Flawil: Kommunionfeier
DESCRIPTION:
URL:https://www.se-ma.ch/event/flawil-kommunionfeier-23/
LOCATION:Kirche St. Laurentius Flawil\, Enzenbühlstrasse 20\, Flawil\, 9230\, Schweiz
CATEGORIES:Gottesdienste
END:VEVENT
END:VCALENDAR