BEGIN:VCALENDAR
VERSION:2.0
PRODID:-//Seelsorgeeinheit Magdenau - ECPv6.15.20//NONSGML v1.0//EN
CALSCALE:GREGORIAN
METHOD:PUBLISH
X-WR-CALNAME:Seelsorgeeinheit Magdenau
X-ORIGINAL-URL:https://www.se-ma.ch
X-WR-CALDESC:Veranstaltungen für Seelsorgeeinheit Magdenau
REFRESH-INTERVAL;VALUE=DURATION:PT1H
X-Robots-Tag:noindex
X-PUBLISHED-TTL:PT1H
BEGIN:VTIMEZONE
TZID:Europe/Zurich
BEGIN:DAYLIGHT
TZOFFSETFROM:+0100
TZOFFSETTO:+0200
TZNAME:CEST
DTSTART:20230326T010000
END:DAYLIGHT
BEGIN:STANDARD
TZOFFSETFROM:+0200
TZOFFSETTO:+0100
TZNAME:CET
DTSTART:20231029T010000
END:STANDARD
BEGIN:DAYLIGHT
TZOFFSETFROM:+0100
TZOFFSETTO:+0200
TZNAME:CEST
DTSTART:20240331T010000
END:DAYLIGHT
BEGIN:STANDARD
TZOFFSETFROM:+0200
TZOFFSETTO:+0100
TZNAME:CET
DTSTART:20241027T010000
END:STANDARD
BEGIN:DAYLIGHT
TZOFFSETFROM:+0100
TZOFFSETTO:+0200
TZNAME:CEST
DTSTART:20250330T010000
END:DAYLIGHT
BEGIN:STANDARD
TZOFFSETFROM:+0200
TZOFFSETTO:+0100
TZNAME:CET
DTSTART:20251026T010000
END:STANDARD
END:VTIMEZONE
BEGIN:VEVENT
DTSTART;TZID=Europe/Zurich:20240915T084500
DTEND;TZID=Europe/Zurich:20240915T084500
DTSTAMP:20260422T204135
CREATED:20240208T110319Z
LAST-MODIFIED:20240208T114156Z
UID:45377-1726389900-1726389900@www.se-ma.ch
SUMMARY:Wolfertswil: Eucharistiefeier (Bettag u. Erntedank)
DESCRIPTION:
URL:https://www.se-ma.ch/event/wolfertswil-eucharistiefeier-bettag-u-erntedank/
LOCATION:Kirche Bruder Klaus\, Wolfertswil\, 9116
CATEGORIES:Gottesdienste
END:VEVENT
BEGIN:VEVENT
DTSTART;TZID=Europe/Zurich:20240915T093000
DTEND;TZID=Europe/Zurich:20240915T093000
DTSTAMP:20260422T204135
CREATED:20231114T133032Z
LAST-MODIFIED:20231114T133032Z
UID:44017-1726392600-1726392600@www.se-ma.ch
SUMMARY:Flawil: Eucharistiefeier in Spanisch
DESCRIPTION:
URL:https://www.se-ma.ch/event/flawil-eucharistiefeier-in-spanisch-23/
LOCATION:Kapelle St. Laurentius Flawil\, Enzenbühlstrasse 20\, Flawil\, 9230\, Schweiz
CATEGORIES:Gottesdienste
END:VEVENT
BEGIN:VEVENT
DTSTART;TZID=Europe/Zurich:20240915T100000
DTEND;TZID=Europe/Zurich:20240915T100000
DTSTAMP:20260422T204135
CREATED:20240530T053431Z
LAST-MODIFIED:20240604T070325Z
UID:47576-1726394400-1726394400@www.se-ma.ch
SUMMARY:Flawil: Einladungsgottesdienst zum Bettag
DESCRIPTION:mit Männerchor Eintracht\, anschliessen Apéro
URL:https://www.se-ma.ch/event/flawil-einladungsgottesdienst-zum-bettag-2/
LOCATION:Ref. Kirche Feld\, Flawil\, 9230\, Schweiz
CATEGORIES:Gottesdienste
END:VEVENT
BEGIN:VEVENT
DTSTART;TZID=Europe/Zurich:20240915T101500
DTEND;TZID=Europe/Zurich:20240915T111500
DTSTAMP:20260422T204135
CREATED:20240416T090549Z
LAST-MODIFIED:20240507T083822Z
UID:46662-1726395300-1726398900@www.se-ma.ch
SUMMARY:Degersheim: Eucharistiefeier
DESCRIPTION:Bettag
URL:https://www.se-ma.ch/event/degersheim-eucharistiefeier-25/
LOCATION:Jakobuskirche Degersheim\, Bergstrasse 10\, Degersheim\, 9113\, Schweiz
END:VEVENT
BEGIN:VEVENT
DTSTART;TZID=Europe/Zurich:20240915T160000
DTEND;TZID=Europe/Zurich:20240915T160000
DTSTAMP:20260422T204135
CREATED:20240208T110451Z
LAST-MODIFIED:20240208T114111Z
UID:45379-1726416000-1726416000@www.se-ma.ch
SUMMARY:Wolfertswil: SEMA Bettagsandacht
DESCRIPTION:
URL:https://www.se-ma.ch/event/wolfertswil-sema-bettagsandacht/
LOCATION:Kirche Bruder Klaus\, Wolfertswil\, 9116
CATEGORIES:Gottesdienste
END:VEVENT
END:VCALENDAR