BEGIN:VCALENDAR
VERSION:2.0
PRODID:-//Seelsorgeeinheit Magdenau - ECPv6.15.20//NONSGML v1.0//EN
CALSCALE:GREGORIAN
METHOD:PUBLISH
X-WR-CALNAME:Seelsorgeeinheit Magdenau
X-ORIGINAL-URL:https://www.se-ma.ch
X-WR-CALDESC:Veranstaltungen für Seelsorgeeinheit Magdenau
REFRESH-INTERVAL;VALUE=DURATION:PT1H
X-Robots-Tag:noindex
X-PUBLISHED-TTL:PT1H
BEGIN:VTIMEZONE
TZID:Europe/Zurich
BEGIN:DAYLIGHT
TZOFFSETFROM:+0100
TZOFFSETTO:+0200
TZNAME:CEST
DTSTART:20230326T010000
END:DAYLIGHT
BEGIN:STANDARD
TZOFFSETFROM:+0200
TZOFFSETTO:+0100
TZNAME:CET
DTSTART:20231029T010000
END:STANDARD
BEGIN:DAYLIGHT
TZOFFSETFROM:+0100
TZOFFSETTO:+0200
TZNAME:CEST
DTSTART:20240331T010000
END:DAYLIGHT
BEGIN:STANDARD
TZOFFSETFROM:+0200
TZOFFSETTO:+0100
TZNAME:CET
DTSTART:20241027T010000
END:STANDARD
BEGIN:DAYLIGHT
TZOFFSETFROM:+0100
TZOFFSETTO:+0200
TZNAME:CEST
DTSTART:20250330T010000
END:DAYLIGHT
BEGIN:STANDARD
TZOFFSETFROM:+0200
TZOFFSETTO:+0100
TZNAME:CET
DTSTART:20251026T010000
END:STANDARD
END:VTIMEZONE
BEGIN:VEVENT
DTSTART;TZID=Europe/Zurich:20240922T083000
DTEND;TZID=Europe/Zurich:20240922T083000
DTSTAMP:20260422T204135
CREATED:20231114T135248Z
LAST-MODIFIED:20231114T135248Z
UID:44070-1726993800-1726993800@www.se-ma.ch
SUMMARY:Eucharistiefeier in Italienisch
DESCRIPTION:
URL:https://www.se-ma.ch/event/eucharistiefeier-in-italienisch-42/
LOCATION:Kapelle St. Laurentius Flawil\, Enzenbühlstrasse 20\, Flawil\, 9230\, Schweiz
CATEGORIES:Gottesdienste
END:VEVENT
BEGIN:VEVENT
DTSTART;TZID=Europe/Zurich:20240922T084500
DTEND;TZID=Europe/Zurich:20240922T084500
DTSTAMP:20260422T204135
CREATED:20231116T073744Z
LAST-MODIFIED:20240604T070458Z
UID:44171-1726994700-1726994700@www.se-ma.ch
SUMMARY:Niederglatt: Eucharistiefeier Erntedank
DESCRIPTION:mit dem Männerchor Alterschwil
URL:https://www.se-ma.ch/event/niederglatt-kommunionfeier-erntedank/
LOCATION:Felix + Regula Kirche Niederglatt\, Niederglatt\, 9240\, Schweiz
CATEGORIES:Gottesdienste
END:VEVENT
BEGIN:VEVENT
DTSTART;TZID=Europe/Zurich:20240922T101500
DTEND;TZID=Europe/Zurich:20240922T101500
DTSTAMP:20260422T204135
CREATED:20240529T093940Z
LAST-MODIFIED:20240529T093940Z
UID:47552-1727000100-1727000100@www.se-ma.ch
SUMMARY:Flawil: Eucharistiefeier
DESCRIPTION:
URL:https://www.se-ma.ch/event/flawil-eucharistiefeier-16/
LOCATION:Kirche St. Laurentius Flawil\, Enzenbühlstrasse 20\, Flawil\, 9230\, Schweiz
CATEGORIES:Gottesdienste
END:VEVENT
BEGIN:VEVENT
DTSTART;TZID=Europe/Zurich:20240922T101500
DTEND;TZID=Europe/Zurich:20240922T111500
DTSTAMP:20260422T204135
CREATED:20240416T090927Z
LAST-MODIFIED:20240507T083945Z
UID:46664-1727000100-1727003700@www.se-ma.ch
SUMMARY:Degersheim: Einladungs-Gottesdienst
DESCRIPTION:Kommunionfeier in der kath. Kirche mit Erntedank\, Kirchenchor und Jodelchörli. Anschliessend sind alle zum Apéro eingeladen!
URL:https://www.se-ma.ch/event/degersheim-einladungs-kommunionfeier/
LOCATION:Jakobuskirche Degersheim\, Bergstrasse 10\, Degersheim\, 9113\, Schweiz
CATEGORIES:Gottesdienste
END:VEVENT
END:VCALENDAR