BEGIN:VCALENDAR
VERSION:2.0
PRODID:-//Seelsorgeeinheit Magdenau - ECPv6.15.20//NONSGML v1.0//EN
CALSCALE:GREGORIAN
METHOD:PUBLISH
X-ORIGINAL-URL:https://www.se-ma.ch
X-WR-CALDESC:Veranstaltungen für Seelsorgeeinheit Magdenau
REFRESH-INTERVAL;VALUE=DURATION:PT1H
X-Robots-Tag:noindex
X-PUBLISHED-TTL:PT1H
BEGIN:VTIMEZONE
TZID:Europe/Zurich
BEGIN:DAYLIGHT
TZOFFSETFROM:+0100
TZOFFSETTO:+0200
TZNAME:CEST
DTSTART:20230326T010000
END:DAYLIGHT
BEGIN:STANDARD
TZOFFSETFROM:+0200
TZOFFSETTO:+0100
TZNAME:CET
DTSTART:20231029T010000
END:STANDARD
BEGIN:DAYLIGHT
TZOFFSETFROM:+0100
TZOFFSETTO:+0200
TZNAME:CEST
DTSTART:20240331T010000
END:DAYLIGHT
BEGIN:STANDARD
TZOFFSETFROM:+0200
TZOFFSETTO:+0100
TZNAME:CET
DTSTART:20241027T010000
END:STANDARD
BEGIN:DAYLIGHT
TZOFFSETFROM:+0100
TZOFFSETTO:+0200
TZNAME:CEST
DTSTART:20250330T010000
END:DAYLIGHT
BEGIN:STANDARD
TZOFFSETFROM:+0200
TZOFFSETTO:+0100
TZNAME:CET
DTSTART:20251026T010000
END:STANDARD
END:VTIMEZONE
BEGIN:VEVENT
DTSTART;TZID=Europe/Zurich:20240927T080000
DTEND;TZID=Europe/Zurich:20240927T120000
DTSTAMP:20260422T204254
CREATED:20240925T060005Z
LAST-MODIFIED:20240925T060005Z
UID:48816-1727424000-1727438400@www.se-ma.ch
SUMMARY:Degersheim/Wolfertswil: Sekretariate bleiben geschlossen!
DESCRIPTION:Wegen eines internen Anlasses bleiben unsere Sekretariate heute geschlossen! In dringenden Fällen wenden Sie sich bitte ans Notfalltelefon 071 393 14 14.
URL:https://www.se-ma.ch/event/degersheim-wolfertswil-sekretariate-bleiben-geschlossen/
LOCATION:kath. Pfarramt Degersheim\, Friedbergstrasse 2\, 9113 Degersheim\, 9113\, Schweiz
CATEGORIES:Anlässe und Veranstaltungen
END:VEVENT
BEGIN:VEVENT
DTSTART;TZID=Europe/Zurich:20240927T183000
DTEND;TZID=Europe/Zurich:20240927T193000
DTSTAMP:20260422T204254
CREATED:20240416T091138Z
LAST-MODIFIED:20240416T091600Z
UID:46666-1727461800-1727465400@www.se-ma.ch
SUMMARY:Degersheim: Lager-Gottesdienst JW und BR
DESCRIPTION:Reisesegen Lager-Gottesdienst mit Jungwacht und Blauring
URL:https://www.se-ma.ch/event/degersheim-lager-gottesdienst/
LOCATION:Jakobuskirche Degersheim\, Bergstrasse 10\, Degersheim\, 9113\, Schweiz
CATEGORIES:Gottesdienste,Kinder und Familien
END:VEVENT
END:VCALENDAR