BEGIN:VCALENDAR
VERSION:2.0
PRODID:-//Seelsorgeeinheit Magdenau - ECPv6.15.20//NONSGML v1.0//EN
CALSCALE:GREGORIAN
METHOD:PUBLISH
X-WR-CALNAME:Seelsorgeeinheit Magdenau
X-ORIGINAL-URL:https://www.se-ma.ch
X-WR-CALDESC:Veranstaltungen für Seelsorgeeinheit Magdenau
REFRESH-INTERVAL;VALUE=DURATION:PT1H
X-Robots-Tag:noindex
X-PUBLISHED-TTL:PT1H
BEGIN:VTIMEZONE
TZID:Europe/Zurich
BEGIN:DAYLIGHT
TZOFFSETFROM:+0100
TZOFFSETTO:+0200
TZNAME:CEST
DTSTART:20230326T010000
END:DAYLIGHT
BEGIN:STANDARD
TZOFFSETFROM:+0200
TZOFFSETTO:+0100
TZNAME:CET
DTSTART:20231029T010000
END:STANDARD
BEGIN:DAYLIGHT
TZOFFSETFROM:+0100
TZOFFSETTO:+0200
TZNAME:CEST
DTSTART:20240331T010000
END:DAYLIGHT
BEGIN:STANDARD
TZOFFSETFROM:+0200
TZOFFSETTO:+0100
TZNAME:CET
DTSTART:20241027T010000
END:STANDARD
BEGIN:DAYLIGHT
TZOFFSETFROM:+0100
TZOFFSETTO:+0200
TZNAME:CEST
DTSTART:20250330T010000
END:DAYLIGHT
BEGIN:STANDARD
TZOFFSETFROM:+0200
TZOFFSETTO:+0100
TZNAME:CET
DTSTART:20251026T010000
END:STANDARD
END:VTIMEZONE
BEGIN:VEVENT
DTSTART;TZID=Europe/Zurich:20241023T143000
DTEND;TZID=Europe/Zurich:20241023T163000
DTSTAMP:20260422T191607
CREATED:20231205T145152Z
LAST-MODIFIED:20240925T055326Z
UID:44406-1729693800-1729701000@www.se-ma.ch
SUMMARY:Degersheim: ökum. Seniorennachmittag
DESCRIPTION:Die „saitenspringer“ sorgen mit altvertrauten Schlager-Evergreens für Unterhaltung und erfreuen unser Herz musikalisch.
URL:https://www.se-ma.ch/event/degersheim-oekum-seniorennachmittag-3/
LOCATION:evang. Kirchgemeindehaus Degersheim\, Steineggstrasse 12\, Degersheim\, 9113\, Schweiz
CATEGORIES:Anlässe und Veranstaltungen
END:VEVENT
BEGIN:VEVENT
DTSTART;TZID=Europe/Zurich:20241023T190000
DTEND;TZID=Europe/Zurich:20241023T190000
DTSTAMP:20260422T191607
CREATED:20241007T122729Z
LAST-MODIFIED:20241007T122841Z
UID:48964-1729710000-1729710000@www.se-ma.ch
SUMMARY:Demenz und die rechtlichen Fragen
DESCRIPTION:Die KESB klärt auf. – Eine Veranstaltung für Menschen mit Demenz\, Angehörige und Interessierte. Der Eintritt ist frei\, es ist keine Anmeldung nötig.
URL:https://www.se-ma.ch/event/demenz-und-die-rechtlichen-fragen/
LOCATION:Zwinglisaal Flawil\, Lindenstrasse 6B\, Flawil\, SG\, 9230\, Schweiz
CATEGORIES:Anlässe und Veranstaltungen
END:VEVENT
END:VCALENDAR