BEGIN:VCALENDAR
VERSION:2.0
PRODID:-//Seelsorgeeinheit Magdenau - ECPv6.15.20//NONSGML v1.0//EN
CALSCALE:GREGORIAN
METHOD:PUBLISH
X-ORIGINAL-URL:https://www.se-ma.ch
X-WR-CALDESC:Veranstaltungen für Seelsorgeeinheit Magdenau
REFRESH-INTERVAL;VALUE=DURATION:PT1H
X-Robots-Tag:noindex
X-PUBLISHED-TTL:PT1H
BEGIN:VTIMEZONE
TZID:Europe/Zurich
BEGIN:DAYLIGHT
TZOFFSETFROM:+0100
TZOFFSETTO:+0200
TZNAME:CEST
DTSTART:20230326T010000
END:DAYLIGHT
BEGIN:STANDARD
TZOFFSETFROM:+0200
TZOFFSETTO:+0100
TZNAME:CET
DTSTART:20231029T010000
END:STANDARD
BEGIN:DAYLIGHT
TZOFFSETFROM:+0100
TZOFFSETTO:+0200
TZNAME:CEST
DTSTART:20240331T010000
END:DAYLIGHT
BEGIN:STANDARD
TZOFFSETFROM:+0200
TZOFFSETTO:+0100
TZNAME:CET
DTSTART:20241027T010000
END:STANDARD
BEGIN:DAYLIGHT
TZOFFSETFROM:+0100
TZOFFSETTO:+0200
TZNAME:CEST
DTSTART:20250330T010000
END:DAYLIGHT
BEGIN:STANDARD
TZOFFSETFROM:+0200
TZOFFSETTO:+0100
TZNAME:CET
DTSTART:20251026T010000
END:STANDARD
END:VTIMEZONE
BEGIN:VEVENT
DTSTART;TZID=Europe/Zurich:20241101T084500
DTEND;TZID=Europe/Zurich:20241101T084500
DTSTAMP:20260422T173141
CREATED:20240304T131648Z
LAST-MODIFIED:20240304T131749Z
UID:45694-1730450700-1730450700@www.se-ma.ch
SUMMARY:Niederglatt: Gottesdienst zu Allerheiligen und Totengedenkfeier
DESCRIPTION:mit dem Duo „Rond om de Säntis“ (Maya Stieger und Peter Looser)
URL:https://www.se-ma.ch/event/niederglatt-gottesdienst-zu-allerheiligen-und-totengedenkfeier-2/
LOCATION:Felix + Regula Kirche Niederglatt\, Niederglatt\, 9240\, Schweiz
CATEGORIES:Gottesdienste
END:VEVENT
BEGIN:VEVENT
DTSTART;TZID=Europe/Zurich:20241101T101500
DTEND;TZID=Europe/Zurich:20241101T111500
DTSTAMP:20260422T173141
CREATED:20240417T064409Z
LAST-MODIFIED:20240417T064409Z
UID:46682-1730456100-1730459700@www.se-ma.ch
SUMMARY:Degersheim: Gottesdienst zu Allerheiligen und Totengedenken
DESCRIPTION:Musikalisch begleitet mit „Rond om de Säntis“ Maya Stieger und Peter Looser
URL:https://www.se-ma.ch/event/degersheim-gottesdienst-zu-allerheiligen-und-totengedenken/
LOCATION:Jakobuskirche Degersheim\, Bergstrasse 10\, Degersheim\, 9113\, Schweiz
CATEGORIES:Gottesdienste
END:VEVENT
BEGIN:VEVENT
DTSTART;TZID=Europe/Zurich:20241101T130000
DTEND;TZID=Europe/Zurich:20241101T130000
DTSTAMP:20260422T173141
CREATED:20240208T111213Z
LAST-MODIFIED:20240208T113615Z
UID:45387-1730466000-1730466000@www.se-ma.ch
SUMMARY:Wolfertswil: Gottesdienst zu Allerheiligen u. Totengedenken
DESCRIPTION:
URL:https://www.se-ma.ch/event/wolfertswil-gottesdienst-zu-allerheiligen-u-totengedenken/
LOCATION:Kirche Bruder Klaus\, Wolfertswil\, 9116
CATEGORIES:Gottesdienste
END:VEVENT
BEGIN:VEVENT
DTSTART;TZID=Europe/Zurich:20241101T141500
DTEND;TZID=Europe/Zurich:20241101T141500
DTSTAMP:20260422T173141
CREATED:20240530T053807Z
LAST-MODIFIED:20240530T053807Z
UID:47578-1730470500-1730470500@www.se-ma.ch
SUMMARY:Flawil: Gottesdienst zu Allerheiligen und Totengedenken
DESCRIPTION:mit Kirchenchor
URL:https://www.se-ma.ch/event/flawil-gottesdienst-zu-allerheiligen-und-totengedenken/
LOCATION:Kirche St. Laurentius Flawil\, Enzenbühlstrasse 20\, Flawil\, 9230\, Schweiz
CATEGORIES:Gottesdienste
END:VEVENT
BEGIN:VEVENT
DTSTART;TZID=Europe/Zurich:20241101T183000
DTEND;TZID=Europe/Zurich:20241101T183000
DTSTAMP:20260422T173141
CREATED:20240711T134052Z
LAST-MODIFIED:20240711T134052Z
UID:48091-1730485800-1730485800@www.se-ma.ch
SUMMARY:Flawil: Begegnungsfeier
DESCRIPTION:Wir laden dich herzlich in die Begegnungsfeier am Freitagabend in der Kapelle ein. Nach der Feier gibt es immer noch einen kleinen Apéro und so findet die Begegnung nicht nur in der Kirche statt\, sondern geht auch danach weiter. Bist du dabei? Wir freuen uns auf dich! \nFlyer Begegnungsfeier \nÜbersicht Chinderfiiren\n \n 
URL:https://www.se-ma.ch/event/flawil-begegnungsfeier-11/
LOCATION:Kapelle St. Laurentius Flawil\, Enzenbühlstrasse 20\, Flawil\, 9230\, Schweiz
CATEGORIES:Gottesdienste,Kinder und Familien
END:VEVENT
BEGIN:VEVENT
DTSTART;TZID=Europe/Zurich:20241101T183000
DTEND;TZID=Europe/Zurich:20241101T200000
DTSTAMP:20260422T173141
CREATED:20240620T065719Z
LAST-MODIFIED:20240620T065719Z
UID:47869-1730485800-1730491200@www.se-ma.ch
SUMMARY:Flawil: zämägang
DESCRIPTION:Wir treffen uns zu einem Spaziergang!\nHast du Lust\, zusammen unterwegs zu sein? Dann komm einfach mit. Vielleicht kennst du Menschen\, denen das freundliche und interessierte Miteinander guttun würde? Mache sie auf dieses Angebot aufmerksam oder bring sie gleich mit! Keine Anmeldung nötig.\nSilvan Hollenstein\, Seelsorger\, 079 743 73 89\, hc.am-esobfsctd-5fa3f9@nietsnelloh.navlis\nTreffpunkt: vor der Kirche St. Laurentius
URL:https://www.se-ma.ch/event/flawil-zaemaegang-2/
LOCATION:Kirche St. Laurentius Flawil\, Enzenbühlstrasse 20\, Flawil\, 9230\, Schweiz
CATEGORIES:Anlässe und Veranstaltungen
END:VEVENT
END:VCALENDAR