BEGIN:VCALENDAR
VERSION:2.0
PRODID:-//Seelsorgeeinheit Magdenau - ECPv6.15.20//NONSGML v1.0//EN
CALSCALE:GREGORIAN
METHOD:PUBLISH
X-WR-CALNAME:Seelsorgeeinheit Magdenau
X-ORIGINAL-URL:https://www.se-ma.ch
X-WR-CALDESC:Veranstaltungen für Seelsorgeeinheit Magdenau
REFRESH-INTERVAL;VALUE=DURATION:PT1H
X-Robots-Tag:noindex
X-PUBLISHED-TTL:PT1H
BEGIN:VTIMEZONE
TZID:Europe/Zurich
BEGIN:DAYLIGHT
TZOFFSETFROM:+0100
TZOFFSETTO:+0200
TZNAME:CEST
DTSTART:20230326T010000
END:DAYLIGHT
BEGIN:STANDARD
TZOFFSETFROM:+0200
TZOFFSETTO:+0100
TZNAME:CET
DTSTART:20231029T010000
END:STANDARD
BEGIN:DAYLIGHT
TZOFFSETFROM:+0100
TZOFFSETTO:+0200
TZNAME:CEST
DTSTART:20240331T010000
END:DAYLIGHT
BEGIN:STANDARD
TZOFFSETFROM:+0200
TZOFFSETTO:+0100
TZNAME:CET
DTSTART:20241027T010000
END:STANDARD
BEGIN:DAYLIGHT
TZOFFSETFROM:+0100
TZOFFSETTO:+0200
TZNAME:CEST
DTSTART:20250330T010000
END:DAYLIGHT
BEGIN:STANDARD
TZOFFSETFROM:+0200
TZOFFSETTO:+0100
TZNAME:CET
DTSTART:20251026T010000
END:STANDARD
END:VTIMEZONE
BEGIN:VEVENT
DTSTART;TZID=Europe/Zurich:20241212T060000
DTEND;TZID=Europe/Zurich:20241212T060000
DTSTAMP:20260422T154258
CREATED:20240711T134324Z
LAST-MODIFIED:20241204T135912Z
UID:48095-1733983200-1733983200@www.se-ma.ch
SUMMARY:Flawil: Roratefeier
DESCRIPTION:mitgestaltet von den Schülerinnen und Schüler der Mittelstufe\, anschliessend gemeinsamer Zmorge im Pfarreizentrum \n 
URL:https://www.se-ma.ch/event/flawil-roratefeier-8/
LOCATION:Kirche St. Laurentius Flawil\, Enzenbühlstrasse 20\, Flawil\, 9230\, Schweiz
CATEGORIES:Gottesdienste,Kinder und Familien
END:VEVENT
BEGIN:VEVENT
DTSTART;TZID=Europe/Zurich:20241212T113000
DTEND;TZID=Europe/Zurich:20241212T140000
DTSTAMP:20260422T154258
CREATED:20231130T081855Z
LAST-MODIFIED:20231130T081855Z
UID:44323-1734003000-1734012000@www.se-ma.ch
SUMMARY:Flawil: Mittagstisch
DESCRIPTION:Flyer Mittagstisch 2024
URL:https://www.se-ma.ch/event/flawil-mittagstisch-11/
LOCATION:Pfarreizentrum Flawil\, Enzenbühlstrasse 16\, Flawil\, 9230\, Schweiz
CATEGORIES:Anlässe und Veranstaltungen
END:VEVENT
BEGIN:VEVENT
DTSTART;TZID=Europe/Zurich:20241212T190000
DTEND;TZID=Europe/Zurich:20241212T190000
DTSTAMP:20260422T154258
CREATED:20240603T072835Z
LAST-MODIFIED:20241206T183645Z
UID:47641-1734030000-1734030000@www.se-ma.ch
SUMMARY:Flawiler Friedensgebet
DESCRIPTION:In Flawil treffen sich Angehörige verschiedener Konfessionen zum Friedensgebet in der meth. Kirche. \nDaten Flawiler Friedensgebet \n 
URL:https://www.se-ma.ch/event/flawiler-friedensgebet-34/
LOCATION:Evangelisch-methodistische Kirche\, Riedernstrasse 13\, Flawil\, 9230\, Schweiz
CATEGORIES:Anlässe und Veranstaltungen,Gottesdienste
END:VEVENT
BEGIN:VEVENT
DTSTART;TZID=Europe/Zurich:20241212T190000
DTEND;TZID=Europe/Zurich:20241212T200000
DTSTAMP:20260422T154258
CREATED:20240619T062513Z
LAST-MODIFIED:20240619T062909Z
UID:47811-1734030000-1734033600@www.se-ma.ch
SUMMARY:Degersheim: Friedensgebet
DESCRIPTION:Wir beten für den Frieden in unserer Welt.
URL:https://www.se-ma.ch/event/degersheim-friedensgebet-16/
LOCATION:Jakobuskirche Kapelle Degersheim\, Bergstrasse 10\, Degersheim\, St. Gallen\, 9113\, Schweiz
CATEGORIES:Anlässe und Veranstaltungen
END:VEVENT
END:VCALENDAR