BEGIN:VCALENDAR
VERSION:2.0
PRODID:-//Seelsorgeeinheit Magdenau - ECPv6.15.20//NONSGML v1.0//EN
CALSCALE:GREGORIAN
METHOD:PUBLISH
X-WR-CALNAME:Seelsorgeeinheit Magdenau
X-ORIGINAL-URL:https://www.se-ma.ch
X-WR-CALDESC:Veranstaltungen für Seelsorgeeinheit Magdenau
REFRESH-INTERVAL;VALUE=DURATION:PT1H
X-Robots-Tag:noindex
X-PUBLISHED-TTL:PT1H
BEGIN:VTIMEZONE
TZID:Europe/Zurich
BEGIN:DAYLIGHT
TZOFFSETFROM:+0100
TZOFFSETTO:+0200
TZNAME:CEST
DTSTART:20230326T010000
END:DAYLIGHT
BEGIN:STANDARD
TZOFFSETFROM:+0200
TZOFFSETTO:+0100
TZNAME:CET
DTSTART:20231029T010000
END:STANDARD
BEGIN:DAYLIGHT
TZOFFSETFROM:+0100
TZOFFSETTO:+0200
TZNAME:CEST
DTSTART:20240331T010000
END:DAYLIGHT
BEGIN:STANDARD
TZOFFSETFROM:+0200
TZOFFSETTO:+0100
TZNAME:CET
DTSTART:20241027T010000
END:STANDARD
BEGIN:DAYLIGHT
TZOFFSETFROM:+0100
TZOFFSETTO:+0200
TZNAME:CEST
DTSTART:20250330T010000
END:DAYLIGHT
BEGIN:STANDARD
TZOFFSETFROM:+0200
TZOFFSETTO:+0100
TZNAME:CET
DTSTART:20251026T010000
END:STANDARD
END:VTIMEZONE
BEGIN:VEVENT
DTSTART;TZID=Europe/Zurich:20241215T084500
DTEND;TZID=Europe/Zurich:20241215T084500
DTSTAMP:20260422T155404
CREATED:20240304T140450Z
LAST-MODIFIED:20240304T140450Z
UID:45713-1734252300-1734252300@www.se-ma.ch
SUMMARY:Niederglatt: Kommunionfeier
DESCRIPTION:
URL:https://www.se-ma.ch/event/niederglatt-kommunionfeier-10/
LOCATION:Felix + Regula Kirche Niederglatt\, Niederglatt\, 9240\, Schweiz
CATEGORIES:Gottesdienste
END:VEVENT
BEGIN:VEVENT
DTSTART;TZID=Europe/Zurich:20241215T093000
DTEND;TZID=Europe/Zurich:20241215T093000
DTSTAMP:20260422T155404
CREATED:20231114T132917Z
LAST-MODIFIED:20231114T132917Z
UID:44011-1734255000-1734255000@www.se-ma.ch
SUMMARY:Flawil: Eucharistiefeier in Spanisch
DESCRIPTION:
URL:https://www.se-ma.ch/event/flawil-eucharistiefeier-in-spanisch-20/
LOCATION:Kapelle St. Laurentius Flawil\, Enzenbühlstrasse 20\, Flawil\, 9230\, Schweiz
CATEGORIES:Gottesdienste
END:VEVENT
BEGIN:VEVENT
DTSTART;TZID=Europe/Zurich:20241215T101500
DTEND;TZID=Europe/Zurich:20241215T101500
DTSTAMP:20260422T155404
CREATED:20240530T054330Z
LAST-MODIFIED:20240530T054330Z
UID:47588-1734257700-1734257700@www.se-ma.ch
SUMMARY:Flawil: Musikgottesdienst
DESCRIPTION:Kommunionfeier mit Harmoniemusik Flawil
URL:https://www.se-ma.ch/event/flawil-musikgottesdienst-2/
LOCATION:Kirche St. Laurentius Flawil\, Enzenbühlstrasse 20\, Flawil\, 9230\, Schweiz
CATEGORIES:Gottesdienste
END:VEVENT
BEGIN:VEVENT
DTSTART;TZID=Europe/Zurich:20241215T173000
DTEND;TZID=Europe/Zurich:20241215T183000
DTSTAMP:20260422T155404
CREATED:20240417T081830Z
LAST-MODIFIED:20240417T081830Z
UID:46730-1734283800-1734287400@www.se-ma.ch
SUMMARY:Degersheim: Abendlob im Advent
DESCRIPTION:
URL:https://www.se-ma.ch/event/degersheim-abendlob-im-advent-5/
LOCATION:Jakobuskirche Kapelle Degersheim\, Bergstrasse 10\, Degersheim\, St. Gallen\, 9113\, Schweiz
CATEGORIES:Gottesdienste
END:VEVENT
BEGIN:VEVENT
DTSTART;TZID=Europe/Zurich:20241215T193000
DTEND;TZID=Europe/Zurich:20241215T193000
DTSTAMP:20260422T155404
CREATED:20241009T062330Z
LAST-MODIFIED:20241009T062330Z
UID:48978-1734291000-1734291000@www.se-ma.ch
SUMMARY:Niederglatt: Dankesabend der Pfarrei
DESCRIPTION:
URL:https://www.se-ma.ch/event/niederglatt-dankesabend-der-pfarrei/
LOCATION:Felix + Regula Kirche Niederglatt\, Niederglatt\, 9240\, Schweiz
CATEGORIES:Anlässe und Veranstaltungen
END:VEVENT
END:VCALENDAR