BEGIN:VCALENDAR
VERSION:2.0
PRODID:-//Seelsorgeeinheit Magdenau - ECPv6.15.20//NONSGML v1.0//EN
CALSCALE:GREGORIAN
METHOD:PUBLISH
X-WR-CALNAME:Seelsorgeeinheit Magdenau
X-ORIGINAL-URL:https://www.se-ma.ch
X-WR-CALDESC:Veranstaltungen für Seelsorgeeinheit Magdenau
REFRESH-INTERVAL;VALUE=DURATION:PT1H
X-Robots-Tag:noindex
X-PUBLISHED-TTL:PT1H
BEGIN:VTIMEZONE
TZID:Europe/Zurich
BEGIN:DAYLIGHT
TZOFFSETFROM:+0100
TZOFFSETTO:+0200
TZNAME:CEST
DTSTART:20230326T010000
END:DAYLIGHT
BEGIN:STANDARD
TZOFFSETFROM:+0200
TZOFFSETTO:+0100
TZNAME:CET
DTSTART:20231029T010000
END:STANDARD
BEGIN:DAYLIGHT
TZOFFSETFROM:+0100
TZOFFSETTO:+0200
TZNAME:CEST
DTSTART:20240331T010000
END:DAYLIGHT
BEGIN:STANDARD
TZOFFSETFROM:+0200
TZOFFSETTO:+0100
TZNAME:CET
DTSTART:20241027T010000
END:STANDARD
BEGIN:DAYLIGHT
TZOFFSETFROM:+0100
TZOFFSETTO:+0200
TZNAME:CEST
DTSTART:20250330T010000
END:DAYLIGHT
BEGIN:STANDARD
TZOFFSETFROM:+0200
TZOFFSETTO:+0100
TZNAME:CET
DTSTART:20251026T010000
END:STANDARD
END:VTIMEZONE
BEGIN:VEVENT
DTSTART;TZID=Europe/Zurich:20241218T060000
DTEND;TZID=Europe/Zurich:20241218T060000
DTSTAMP:20260422T155400
CREATED:20240208T111901Z
LAST-MODIFIED:20240208T113230Z
UID:45397-1734501600-1734501600@www.se-ma.ch
SUMMARY:Magdenau: Rorate\, anschliessend Frühstück
DESCRIPTION:
URL:https://www.se-ma.ch/event/magdenau-rorate-anschliessend-fruehstueck/
LOCATION:Kirche St. Verena Magdenau\, St. Verena 929\, Wolfertswil\, 9116\, Schweiz
CATEGORIES:Gottesdienste
END:VEVENT
BEGIN:VEVENT
DTSTART;TZID=Europe/Zurich:20241218T190000
DTEND;TZID=Europe/Zurich:20241218T200000
DTSTAMP:20260422T155400
CREATED:20230929T110647Z
LAST-MODIFIED:20230929T110647Z
UID:43286-1734548400-1734552000@www.se-ma.ch
SUMMARY:Degersheim: Klang & Stille
DESCRIPTION:
URL:https://www.se-ma.ch/event/degersheim-klang-stille-6/
LOCATION:Jakobuskirche Degersheim\, Bergstrasse 10\, Degersheim\, 9113\, Schweiz
CATEGORIES:Anlässe und Veranstaltungen
END:VEVENT
BEGIN:VEVENT
DTSTART;TZID=Europe/Zurich:20241218T190000
DTEND;TZID=Europe/Zurich:20241218T200000
DTSTAMP:20260422T155400
CREATED:20241122T081917Z
LAST-MODIFIED:20241122T081917Z
UID:49537-1734548400-1734552000@www.se-ma.ch
SUMMARY:Niederglatt: Offenes Weihnachtssingen
DESCRIPTION:In der vorweihnächtlichen Zeit erwacht bei vielen Menschen der Wunsch\, vertraute weihnächtliche Weisen zu singen oder anzuhören. Der Kirchenchor Flawil lädt zum gemeinsamen Weihnachtssingen ein. Es sind keine Vorkenntnisse erforderlich. Die festlich geschmückte Kirche in Niederglatt bietet dazu einen wunderbaren Rahmen\, sich auf Weihnachten einzustimmen.
URL:https://www.se-ma.ch/event/niederglatt-offenes-weihnachtssingen/
LOCATION:Felix + Regula Kirche Niederglatt\, Niederglatt\, 9240\, Schweiz
CATEGORIES:Anlässe und Veranstaltungen
END:VEVENT
END:VCALENDAR