BEGIN:VCALENDAR
VERSION:2.0
PRODID:-//Seelsorgeeinheit Magdenau - ECPv6.15.20//NONSGML v1.0//EN
CALSCALE:GREGORIAN
METHOD:PUBLISH
X-WR-CALNAME:Seelsorgeeinheit Magdenau
X-ORIGINAL-URL:https://www.se-ma.ch
X-WR-CALDESC:Veranstaltungen für Seelsorgeeinheit Magdenau
REFRESH-INTERVAL;VALUE=DURATION:PT1H
X-Robots-Tag:noindex
X-PUBLISHED-TTL:PT1H
BEGIN:VTIMEZONE
TZID:Europe/Zurich
BEGIN:DAYLIGHT
TZOFFSETFROM:+0100
TZOFFSETTO:+0200
TZNAME:CEST
DTSTART:20230326T010000
END:DAYLIGHT
BEGIN:STANDARD
TZOFFSETFROM:+0200
TZOFFSETTO:+0100
TZNAME:CET
DTSTART:20231029T010000
END:STANDARD
BEGIN:DAYLIGHT
TZOFFSETFROM:+0100
TZOFFSETTO:+0200
TZNAME:CEST
DTSTART:20240331T010000
END:DAYLIGHT
BEGIN:STANDARD
TZOFFSETFROM:+0200
TZOFFSETTO:+0100
TZNAME:CET
DTSTART:20241027T010000
END:STANDARD
BEGIN:DAYLIGHT
TZOFFSETFROM:+0100
TZOFFSETTO:+0200
TZNAME:CEST
DTSTART:20250330T010000
END:DAYLIGHT
BEGIN:STANDARD
TZOFFSETFROM:+0200
TZOFFSETTO:+0100
TZNAME:CET
DTSTART:20251026T010000
END:STANDARD
END:VTIMEZONE
BEGIN:VEVENT
DTSTART;TZID=Europe/Zurich:20241224T080000
DTEND;TZID=Europe/Zurich:20241226T170000
DTSTAMP:20260422T155319
CREATED:20241203T160702Z
LAST-MODIFIED:20241203T160950Z
UID:49927-1735027200-1735232400@www.se-ma.ch
SUMMARY:Degersheim und Wolfertswil: Die Sekretariate bleiben geschlossen
DESCRIPTION:Die Sekretariate Degersheim und Wolfertswil bleiben geschlossen. Für dringende Anliegen können Sie jederzeit 071 393 14 14 wählen. Jemand aus unserem Pastoralteam hilft Ihnen gerne weiter.
URL:https://www.se-ma.ch/event/degersheim-und-wolfertswil-sekretariate-bleiben-geschlossen/
LOCATION:kath. Pfarramt Degersheim\, Friedbergstrasse 2\, 9113 Degersheim\, 9113\, Schweiz
CATEGORIES:Anlässe und Veranstaltungen
END:VEVENT
BEGIN:VEVENT
DTSTART;TZID=Europe/Zurich:20241224T140000
DTEND;TZID=Europe/Zurich:20241224T140000
DTSTAMP:20260422T155319
CREATED:20241009T070108Z
LAST-MODIFIED:20241022T134059Z
UID:49004-1735048800-1735048800@www.se-ma.ch
SUMMARY:Flawil: ökum. Weihnachtsgottesdienst WPH
DESCRIPTION:ökumenische Weihnachtsfeier für die Bewohnerinnen und Bewohner des Wohn- und Pflegeheimes
URL:https://www.se-ma.ch/event/flawil-oekum-weihnachtsgottesdienst-wph/
LOCATION:Kirche St. Laurentius Flawil\, Enzenbühlstrasse 20\, Flawil\, 9230\, Schweiz
CATEGORIES:Gottesdienste
END:VEVENT
BEGIN:VEVENT
DTSTART;TZID=Europe/Zurich:20241224T170000
DTEND;TZID=Europe/Zurich:20241224T170000
DTSTAMP:20260422T155319
CREATED:20241204T074550Z
LAST-MODIFIED:20241204T074550Z
UID:49968-1735059600-1735059600@www.se-ma.ch
SUMMARY:Flawil: Familien-Weihnachtsfeier mit SEMA-Band
DESCRIPTION:
URL:https://www.se-ma.ch/event/flawil-familien-weihnachtsfeier-mit-sema-band/
LOCATION:Kirche St. Laurentius Flawil\, Enzenbühlstrasse 20\, Flawil\, 9230\, Schweiz
CATEGORIES:Gottesdienste,Kinder und Familien
END:VEVENT
BEGIN:VEVENT
DTSTART;TZID=Europe/Zurich:20241224T170000
DTEND;TZID=Europe/Zurich:20241224T180000
DTSTAMP:20260422T155319
CREATED:20240417T070406Z
LAST-MODIFIED:20240417T075258Z
UID:46715-1735059600-1735063200@www.se-ma.ch
SUMMARY:Degersheim: ökum. Familien-Weihnachtsfeier
DESCRIPTION:dieses Jahr in der kath. Kirche
URL:https://www.se-ma.ch/event/degersheim-oekum-familien-weihnachtsfeier/
LOCATION:Jakobuskirche Degersheim\, Bergstrasse 10\, Degersheim\, 9113\, Schweiz
CATEGORIES:Gottesdienste
END:VEVENT
BEGIN:VEVENT
DTSTART;TZID=Europe/Zurich:20241224T180000
DTEND;TZID=Europe/Zurich:20241224T180000
DTSTAMP:20260422T155319
CREATED:20240208T112159Z
LAST-MODIFIED:20240412T084645Z
UID:45401-1735063200-1735063200@www.se-ma.ch
SUMMARY:Magdenau: Eucharistiefeier\, Weihnachtsfeier für Erwachsene
DESCRIPTION:
URL:https://www.se-ma.ch/event/wolfertswil-eucharistiefeier-weihnachtsfeier-fuer-erwachsene/
LOCATION:Kirche St. Verena Magdenau\, St. Verena 929\, Wolfertswil\, 9116\, Schweiz
CATEGORIES:Gottesdienste
END:VEVENT
BEGIN:VEVENT
DTSTART;TZID=Europe/Zurich:20241224T183000
DTEND;TZID=Europe/Zurich:20241224T183000
DTSTAMP:20260422T155319
CREATED:20240530T054633Z
LAST-MODIFIED:20240530T054956Z
UID:47594-1735065000-1735065000@www.se-ma.ch
SUMMARY:Flawil: Weihnachten gemeinsam feiern!
DESCRIPTION:Im Zwinglisaal
URL:https://www.se-ma.ch/event/flawil-familien-weihnachtsfeier/
LOCATION:Zwinglisaal Flawil\, Lindenstrasse 6B\, Flawil\, SG\, 9230\, Schweiz
CATEGORIES:Anlässe und Veranstaltungen
END:VEVENT
BEGIN:VEVENT
DTSTART;TZID=Europe/Zurich:20241224T230000
DTEND;TZID=Europe/Zurich:20241224T230000
DTSTAMP:20260422T155319
CREATED:20240530T054547Z
LAST-MODIFIED:20240530T054547Z
UID:47592-1735081200-1735081200@www.se-ma.ch
SUMMARY:Flawil: Mitternachtsfeier
DESCRIPTION:Eucharistiefeier
URL:https://www.se-ma.ch/event/flawil-mitternachtsfeier/
LOCATION:Kirche St. Laurentius Flawil\, Enzenbühlstrasse 20\, Flawil\, 9230\, Schweiz
CATEGORIES:Gottesdienste
END:VEVENT
BEGIN:VEVENT
DTSTART;TZID=Europe/Zurich:20241224T230000
DTEND;TZID=Europe/Zurich:20241224T235500
DTSTAMP:20260422T155319
CREATED:20240417T075449Z
LAST-MODIFIED:20240417T075449Z
UID:46720-1735081200-1735084500@www.se-ma.ch
SUMMARY:Degersheim: Mitternachtsfeier Eucharistie
DESCRIPTION:
URL:https://www.se-ma.ch/event/degersheim-mitternachtsfeier-eucharistie/
LOCATION:Jakobuskirche Degersheim\, Bergstrasse 10\, Degersheim\, 9113\, Schweiz
CATEGORIES:Gottesdienste
END:VEVENT
END:VCALENDAR