BEGIN:VCALENDAR
VERSION:2.0
PRODID:-//Seelsorgeeinheit Magdenau - ECPv6.15.20//NONSGML v1.0//EN
CALSCALE:GREGORIAN
METHOD:PUBLISH
X-WR-CALNAME:Seelsorgeeinheit Magdenau
X-ORIGINAL-URL:https://www.se-ma.ch
X-WR-CALDESC:Veranstaltungen für Seelsorgeeinheit Magdenau
REFRESH-INTERVAL;VALUE=DURATION:PT1H
X-Robots-Tag:noindex
X-PUBLISHED-TTL:PT1H
BEGIN:VTIMEZONE
TZID:Europe/Zurich
BEGIN:DAYLIGHT
TZOFFSETFROM:+0100
TZOFFSETTO:+0200
TZNAME:CEST
DTSTART:20230326T010000
END:DAYLIGHT
BEGIN:STANDARD
TZOFFSETFROM:+0200
TZOFFSETTO:+0100
TZNAME:CET
DTSTART:20231029T010000
END:STANDARD
BEGIN:DAYLIGHT
TZOFFSETFROM:+0100
TZOFFSETTO:+0200
TZNAME:CEST
DTSTART:20240331T010000
END:DAYLIGHT
BEGIN:STANDARD
TZOFFSETFROM:+0200
TZOFFSETTO:+0100
TZNAME:CET
DTSTART:20241027T010000
END:STANDARD
BEGIN:DAYLIGHT
TZOFFSETFROM:+0100
TZOFFSETTO:+0200
TZNAME:CEST
DTSTART:20250330T010000
END:DAYLIGHT
BEGIN:STANDARD
TZOFFSETFROM:+0200
TZOFFSETTO:+0100
TZNAME:CET
DTSTART:20251026T010000
END:STANDARD
END:VTIMEZONE
BEGIN:VEVENT
DTSTART;TZID=Europe/Zurich:20241224T080000
DTEND;TZID=Europe/Zurich:20241226T170000
DTSTAMP:20260422T154250
CREATED:20241203T160702Z
LAST-MODIFIED:20241203T160950Z
UID:49927-1735027200-1735232400@www.se-ma.ch
SUMMARY:Degersheim und Wolfertswil: Die Sekretariate bleiben geschlossen
DESCRIPTION:Die Sekretariate Degersheim und Wolfertswil bleiben geschlossen. Für dringende Anliegen können Sie jederzeit 071 393 14 14 wählen. Jemand aus unserem Pastoralteam hilft Ihnen gerne weiter.
URL:https://www.se-ma.ch/event/degersheim-und-wolfertswil-sekretariate-bleiben-geschlossen/
LOCATION:kath. Pfarramt Degersheim\, Friedbergstrasse 2\, 9113 Degersheim\, 9113\, Schweiz
CATEGORIES:Anlässe und Veranstaltungen
END:VEVENT
BEGIN:VEVENT
DTSTART;TZID=Europe/Zurich:20241225T084500
DTEND;TZID=Europe/Zurich:20241225T084500
DTSTAMP:20260422T154250
CREATED:20240208T112540Z
LAST-MODIFIED:20240208T112540Z
UID:45403-1735116300-1735116300@www.se-ma.ch
SUMMARY:Wolfertswil: Eucharistiefeier\, Festgottesdienst zu Weihnachten mit Kirchenchor
DESCRIPTION:
URL:https://www.se-ma.ch/event/wolfertswil-eucharistiefeier-festgottesdienst-zu-weihnachten-mit-kirchenchor/
LOCATION:Kirche Bruder Klaus\, Wolfertswil\, 9116
CATEGORIES:Gottesdienste
END:VEVENT
BEGIN:VEVENT
DTSTART;TZID=Europe/Zurich:20241225T101500
DTEND;TZID=Europe/Zurich:20241225T101500
DTSTAMP:20260422T154250
CREATED:20240530T055108Z
LAST-MODIFIED:20240530T055108Z
UID:47598-1735121700-1735121700@www.se-ma.ch
SUMMARY:Flawil: Festgottesdienst zu Weihnachten
DESCRIPTION:mit Kirchenchor
URL:https://www.se-ma.ch/event/flawil-festgottesdienst-zu-weihnachten-2/
LOCATION:Kirche St. Laurentius Flawil\, Enzenbühlstrasse 20\, Flawil\, 9230\, Schweiz
CATEGORIES:Gottesdienste
END:VEVENT
BEGIN:VEVENT
DTSTART;TZID=Europe/Zurich:20241225T101500
DTEND;TZID=Europe/Zurich:20241225T111500
DTSTAMP:20260422T154250
CREATED:20240417T075627Z
LAST-MODIFIED:20240417T075627Z
UID:46722-1735121700-1735125300@www.se-ma.ch
SUMMARY:Degersheim: Festgottesdienst zu Weihnachten
DESCRIPTION:Eucharistiefeier mit Kirchenchor
URL:https://www.se-ma.ch/event/degersheim-festgottesdienst-zu-weihnachten-2/
LOCATION:Jakobuskirche Degersheim\, Bergstrasse 10\, Degersheim\, 9113\, Schweiz
CATEGORIES:Gottesdienste
END:VEVENT
BEGIN:VEVENT
DTSTART;TZID=Europe/Zurich:20241225T173000
DTEND;TZID=Europe/Zurich:20241225T180000
DTSTAMP:20260422T154250
CREATED:20240417T075751Z
LAST-MODIFIED:20240417T075751Z
UID:46724-1735147800-1735149600@www.se-ma.ch
SUMMARY:Degersheim: Besinnliche Momente an der Krippe
DESCRIPTION:mit Silvan Hollenstein
URL:https://www.se-ma.ch/event/degersheim-besinnliche-momente-an-der-krippe-3/
LOCATION:Jakobuskirche Degersheim\, Bergstrasse 10\, Degersheim\, 9113\, Schweiz
CATEGORIES:Anlässe und Veranstaltungen,Kinder und Familien
END:VEVENT
END:VCALENDAR