BEGIN:VCALENDAR
VERSION:2.0
PRODID:-//Seelsorgeeinheit Magdenau - ECPv6.15.20//NONSGML v1.0//EN
CALSCALE:GREGORIAN
METHOD:PUBLISH
X-WR-CALNAME:Seelsorgeeinheit Magdenau
X-ORIGINAL-URL:https://www.se-ma.ch
X-WR-CALDESC:Veranstaltungen für Seelsorgeeinheit Magdenau
REFRESH-INTERVAL;VALUE=DURATION:PT1H
X-Robots-Tag:noindex
X-PUBLISHED-TTL:PT1H
BEGIN:VTIMEZONE
TZID:Europe/Zurich
BEGIN:DAYLIGHT
TZOFFSETFROM:+0100
TZOFFSETTO:+0200
TZNAME:CEST
DTSTART:20230326T010000
END:DAYLIGHT
BEGIN:STANDARD
TZOFFSETFROM:+0200
TZOFFSETTO:+0100
TZNAME:CET
DTSTART:20231029T010000
END:STANDARD
BEGIN:DAYLIGHT
TZOFFSETFROM:+0100
TZOFFSETTO:+0200
TZNAME:CEST
DTSTART:20240331T010000
END:DAYLIGHT
BEGIN:STANDARD
TZOFFSETFROM:+0200
TZOFFSETTO:+0100
TZNAME:CET
DTSTART:20241027T010000
END:STANDARD
BEGIN:DAYLIGHT
TZOFFSETFROM:+0100
TZOFFSETTO:+0200
TZNAME:CEST
DTSTART:20250330T010000
END:DAYLIGHT
BEGIN:STANDARD
TZOFFSETFROM:+0200
TZOFFSETTO:+0100
TZNAME:CET
DTSTART:20251026T010000
END:STANDARD
END:VTIMEZONE
BEGIN:VEVENT
DTSTART;TZID=Europe/Zurich:20241224T080000
DTEND;TZID=Europe/Zurich:20241226T170000
DTSTAMP:20260422T173027
CREATED:20241203T160702Z
LAST-MODIFIED:20241203T160950Z
UID:49927-1735027200-1735232400@www.se-ma.ch
SUMMARY:Degersheim und Wolfertswil: Die Sekretariate bleiben geschlossen
DESCRIPTION:Die Sekretariate Degersheim und Wolfertswil bleiben geschlossen. Für dringende Anliegen können Sie jederzeit 071 393 14 14 wählen. Jemand aus unserem Pastoralteam hilft Ihnen gerne weiter.
URL:https://www.se-ma.ch/event/degersheim-und-wolfertswil-sekretariate-bleiben-geschlossen/
LOCATION:kath. Pfarramt Degersheim\, Friedbergstrasse 2\, 9113 Degersheim\, 9113\, Schweiz
CATEGORIES:Anlässe und Veranstaltungen
END:VEVENT
BEGIN:VEVENT
DTSTART;TZID=Europe/Zurich:20241226T084500
DTEND;TZID=Europe/Zurich:20241226T084500
DTSTAMP:20260422T173027
CREATED:20241009T063142Z
LAST-MODIFIED:20241009T063152Z
UID:48990-1735202700-1735202700@www.se-ma.ch
SUMMARY:Niederglatt: Aussendungsgottesdienst Sternsinger
DESCRIPTION:Kommunionfeier
URL:https://www.se-ma.ch/event/niederglatt-aussendungsgottesdienst-sternsinger/
LOCATION:Felix + Regula Kirche Niederglatt\, Niederglatt\, 9240\, Schweiz
CATEGORIES:Gottesdienste,Kinder und Familien
END:VEVENT
BEGIN:VEVENT
DTSTART;TZID=Europe/Zurich:20241226T101500
DTEND;TZID=Europe/Zurich:20241226T101500
DTSTAMP:20260422T173027
CREATED:20240530T055150Z
LAST-MODIFIED:20240530T055241Z
UID:47600-1735208100-1735208100@www.se-ma.ch
SUMMARY:Flawil: Kommunonfeier zum Stephanstag
DESCRIPTION:
URL:https://www.se-ma.ch/event/flawil-kommunonfeier-zum-stephanstag/
LOCATION:Kirche St. Laurentius Flawil\, Enzenbühlstrasse 20\, Flawil\, 9230\, Schweiz
CATEGORIES:Gottesdienste
END:VEVENT
BEGIN:VEVENT
DTSTART;TZID=Europe/Zurich:20241226T170000
DTEND;TZID=Europe/Zurich:20241226T173000
DTSTAMP:20260422T173027
CREATED:20240530T055416Z
LAST-MODIFIED:20240530T055416Z
UID:47604-1735232400-1735234200@www.se-ma.ch
SUMMARY:Flawil: Besinnliche Momente an der Krippe
DESCRIPTION:
URL:https://www.se-ma.ch/event/flawil-besinnliche-momente-an-der-krippe/
LOCATION:Kirche St. Laurentius Flawil\, Enzenbühlstrasse 20\, Flawil\, 9230\, Schweiz
CATEGORIES:Gottesdienste
END:VEVENT
END:VCALENDAR