BEGIN:VCALENDAR
VERSION:2.0
PRODID:-//Seelsorgeeinheit Magdenau - ECPv6.15.20//NONSGML v1.0//EN
CALSCALE:GREGORIAN
METHOD:PUBLISH
X-ORIGINAL-URL:https://www.se-ma.ch
X-WR-CALDESC:Veranstaltungen für Seelsorgeeinheit Magdenau
REFRESH-INTERVAL;VALUE=DURATION:PT1H
X-Robots-Tag:noindex
X-PUBLISHED-TTL:PT1H
BEGIN:VTIMEZONE
TZID:Europe/Zurich
BEGIN:DAYLIGHT
TZOFFSETFROM:+0100
TZOFFSETTO:+0200
TZNAME:CEST
DTSTART:20230326T010000
END:DAYLIGHT
BEGIN:STANDARD
TZOFFSETFROM:+0200
TZOFFSETTO:+0100
TZNAME:CET
DTSTART:20231029T010000
END:STANDARD
BEGIN:DAYLIGHT
TZOFFSETFROM:+0100
TZOFFSETTO:+0200
TZNAME:CEST
DTSTART:20240331T010000
END:DAYLIGHT
BEGIN:STANDARD
TZOFFSETFROM:+0200
TZOFFSETTO:+0100
TZNAME:CET
DTSTART:20241027T010000
END:STANDARD
BEGIN:DAYLIGHT
TZOFFSETFROM:+0100
TZOFFSETTO:+0200
TZNAME:CEST
DTSTART:20250330T010000
END:DAYLIGHT
BEGIN:STANDARD
TZOFFSETFROM:+0200
TZOFFSETTO:+0100
TZNAME:CET
DTSTART:20251026T010000
END:STANDARD
END:VTIMEZONE
BEGIN:VEVENT
DTSTART;VALUE=DATE:20241227
DTEND;VALUE=DATE:20241228
DTSTAMP:20260422T155512
CREATED:20241204T074815Z
LAST-MODIFIED:20241204T074815Z
UID:49970-1735257600-1735343999@www.se-ma.ch
SUMMARY:Flawil und Niederglatt: Die Sekretariate bleiben geschlossen.
DESCRIPTION:
URL:https://www.se-ma.ch/event/flawil-und-niederglatt-die-sekretariate-bleiben-geschlossen/
END:VEVENT
BEGIN:VEVENT
DTSTART;TZID=Europe/Zurich:20241227T183000
DTEND;TZID=Europe/Zurich:20241227T183000
DTSTAMP:20260422T155512
CREATED:20241122T083045Z
LAST-MODIFIED:20241122T083231Z
UID:49549-1735324200-1735324200@www.se-ma.ch
SUMMARY:Flawil: Kein Freitagabendgottesdienst
DESCRIPTION:
URL:https://www.se-ma.ch/event/flawil-kein-freitagabendgottesdienst-2/
LOCATION:Kapelle St. Laurentius Flawil\, Enzenbühlstrasse 20\, Flawil\, 9230\, Schweiz
CATEGORIES:Gottesdienste
END:VEVENT
END:VCALENDAR